From mboxrd@z Thu Jan  1 00:00:00 1970
Return-Path: <test-report-bounces@dpdk.org>
Received: from mails.dpdk.org (mails.dpdk.org [217.70.189.124])
	by inbox.dpdk.org (Postfix) with ESMTP id 6679545479
	for <public@inbox.dpdk.org>; Sun, 16 Jun 2024 10:38:46 +0200 (CEST)
Received: from mails.dpdk.org (localhost [127.0.0.1])
	by mails.dpdk.org (Postfix) with ESMTP id 5C0CA40270;
	Sun, 16 Jun 2024 10:38:46 +0200 (CEST)
Received: from mail-io1-f98.google.com (mail-io1-f98.google.com
 [209.85.166.98]) by mails.dpdk.org (Postfix) with ESMTP id F2F5740042
 for <test-report@dpdk.org>; Sun, 16 Jun 2024 10:38:44 +0200 (CEST)
Received: by mail-io1-f98.google.com with SMTP id
 ca18e2360f4ac-7eb6aedcabcso134596939f.0
 for <test-report@dpdk.org>; Sun, 16 Jun 2024 01:38:44 -0700 (PDT)
DKIM-Signature: v=1; a=rsa-sha256; c=relaxed/relaxed;
 d=iol.unh.edu; s=unh-iol; t=1718527124; x=1719131924; darn=dpdk.org;
 h=references:in-reply-to:cc:to:from:subject:message-id:date:from:to
 :cc:subject:date:message-id:reply-to;
 bh=5G+OxPdEICSPbQ2tDtlQvXDSN8iz4b32tdbEDnIf2vY=;
 b=ZVwRbgJTpwemMlAnZRnwIu6qyxJ7b4y8FncduD+/qU4Uwr8pbnXjW3hQphSeP8hM7N
 tplBPwJiiJ2TvsNusJssS+NB+us6GJ5Xy2Qd6FnnPo0tKYPTuUIPGzYWjR2dN2hhXfvy
 DiE2S+vdnQexg6aII8kTa8bCWY4DMUjD7rPfs=
X-Google-DKIM-Signature: v=1; a=rsa-sha256; c=relaxed/relaxed;
 d=1e100.net; s=20230601; t=1718527124; x=1719131924;
 h=references:in-reply-to:cc:to:from:subject:message-id:date
 :x-gm-message-state:from:to:cc:subject:date:message-id:reply-to;
 bh=5G+OxPdEICSPbQ2tDtlQvXDSN8iz4b32tdbEDnIf2vY=;
 b=Bl93H0XgdlVuG/QNaYVdbCmyxcatq6ZDy/HUQrR/yf+zjFC+yWbduGry6aZGCiFn/8
 GllFLunlx6aXl5Vxm/Z07a9VF0HeKYWBJIhpcv2kqfQKUEZXZkPenJB+03vlxm7BcwlE
 CgGrt9FgQKICMESJcylJBevlB3+2OvSWV7ND16m+ajiiMbJZ79H7+8VzFqO7z8cpFDIM
 qkjRBZr8gAAQL9r48y+rBNnDEc3OL3Ae12QPkX4QBYBDG+prIMDbRt8tkVcIM33kMgD9
 YcKMJUgk7K7EtA2Bj3oCh1MIQSj3Dufs4/P3ln4b4RLJpEjPARAZYEw9D+zX8ZBMAY0b
 zlYg==
X-Gm-Message-State: AOJu0YwKxmTviUo4tZ/0bFRH8ujBVvQNPRV+5ZSiTCHRm0544bjUaJGT
 nFhmHF1i6LobCLr8mqeKsYicq7QA2m/CndKPu11GTvq0peY0dPB4EuH5gFk0syhUi3//+NikqG+
 5h3KNIwVCJQCUkib8fMBfmM7dm/HSxM2aI3sGy8su
X-Google-Smtp-Source: AGHT+IHxVng7AK23xZX+8Y/jYo33INA9J8GwH+c9z7TPoKth5xlicRCy2aM3jas+TeGZm99s7emOq0jSCIGV
X-Received: by 2002:a05:6602:13c6:b0:7eb:81d6:c929 with SMTP id
 ca18e2360f4ac-7ebeb49936fmr759840239f.1.1718527124204; 
 Sun, 16 Jun 2024 01:38:44 -0700 (PDT)
Received: from postal.iol.unh.edu (postal.iol.unh.edu. [132.177.123.84])
 by smtp-relay.gmail.com with ESMTPS id
 d9443c01a7336-1f855ee0ceesm2829905ad.116.2024.06.16.01.38.44
 (version=TLS1_2 cipher=ECDHE-ECDSA-AES128-GCM-SHA256 bits=128/128);
 Sun, 16 Jun 2024 01:38:44 -0700 (PDT)
X-Relaying-Domain: iol.unh.edu
Date: Sun, 16 Jun 2024 01:38:44 -0700 (PDT)
Message-ID: <666ea494.170a0220.2eee7.237cSMTPIN_ADDED_MISSING@mx.google.com>
Received: from [172.17.0.2] (unknown [172.18.0.217])
 by postal.iol.unh.edu (Postfix) with ESMTP id 8BD5E6050A9C;
 Sun, 16 Jun 2024 04:38:43 -0400 (EDT)
Subject: |SUCCESS| pw141170-141173 [PATCH] [v1,4/4] test/crypto: add modex te
From: dpdklab@iol.unh.edu
To: Test Report <test-report@dpdk.org>
Cc: dpdk-test-reports@iol.unh.edu
In-Reply-To: <20240616044223.2841-5-gmuthukrishn@marvell.com>
References: <20240616044223.2841-5-gmuthukrishn@marvell.com>
Content-Type: text/plain
X-BeenThere: test-report@dpdk.org
X-Mailman-Version: 2.1.29
Precedence: list
List-Id: automatic DPDK test reports <test-report.dpdk.org>
List-Unsubscribe: <https://mails.dpdk.org/options/test-report>,
 <mailto:test-report-request@dpdk.org?subject=unsubscribe>
List-Archive: <http://mails.dpdk.org/archives/test-report/>
List-Post: <mailto:test-report@dpdk.org>
List-Help: <mailto:test-report-request@dpdk.org?subject=help>
List-Subscribe: <https://mails.dpdk.org/listinfo/test-report>,
 <mailto:test-report-request@dpdk.org?subject=subscribe>
Errors-To: test-report-bounces@dpdk.org

Test-Label: iol-unit-amd64-testing
Test-Status: SUCCESS
http://dpdk.org/patch/141173

_Testing PASS_

Submitter: Gowrishankar Muthukrishnan <gmuthukrishn@marvell.com>
Date: Sunday, June 16 2024 04:42:20 
DPDK git baseline: Repo:dpdk
  Branch: master
  CommitID:6909b48776badc05542a410ebd34bcfec4c248bf

141170-141173 --> testing pass

Test environment and result as below:

+---------------------+----------------+
|     Environment     | dpdk_unit_test |
+=====================+================+
| Windows Server 2019 | PASS           |
+---------------------+----------------+
| Windows Server 2022 | PASS           |
+---------------------+----------------+
| CentOS Stream 9     | PASS           |
+---------------------+----------------+
| CentOS Stream 8     | PASS           |
+---------------------+----------------+
| Debian Bullseye     | PASS           |
+---------------------+----------------+
| Debian 12           | PASS           |
+---------------------+----------------+
| Fedora 37           | PASS           |
+---------------------+----------------+
| Fedora 39           | PASS           |
+---------------------+----------------+
| Fedora 38           | PASS           |
+---------------------+----------------+
| Fedora 40           | PASS           |
+---------------------+----------------+
| RHEL8               | PASS           |
+---------------------+----------------+


Windows Server 2019
	Kernel: 10.0.17763
	Compiler: clang 14.0 and gcc 8.1.0 (MinGW)

Windows Server 2022
	Kernel: 10.0.20348.2031
	Compiler: clang 15.0.7, gcc 8.1.0 (MinGW), and MSVC VS 17.9

CentOS Stream 9
	Kernel: 5.4.0-167-generic
	Compiler: gcc 11.4.1 20230605

CentOS Stream 8
	Kernel: 5.4.0-167-generic
	Compiler: gcc 8.5.0 20210514

Debian Bullseye
	Kernel: 5.4.0-167-generic
	Compiler: gcc 10.2.1-6

Debian 12
	Kernel: Container Host Kernel
	Compiler: gcc 12.2.0

Fedora 37
	Kernel: Depends on container host system
	Compiler: gcc 12.3.1

Fedora 39
	Kernel: Depends on container host
	Compiler: gcc 13.2.1

Fedora 38
	Kernel: Depends on container host
	Compiler: clang 16.0.6

Fedora 40
	Kernel: Depends on container host
	Compiler: clang 18.1.6

RHEL8
	Kernel: 5.4.0-167-generic
	Compiler: gcc 8.5.0 20210514 (Red Hat 8.5.0-20)

To view detailed results, visit:
https://lab.dpdk.org/results/dashboard/patchsets/30201/

UNH-IOL DPDK Community Lab

To manage your email subscriptions, visit: 
https://lab.dpdk.org/results/dashboard/preferences/subscriptions/