From mboxrd@z Thu Jan  1 00:00:00 1970
Return-Path: <test-report-bounces@dpdk.org>
Received: from mails.dpdk.org (mails.dpdk.org [217.70.189.124])
	by inbox.dpdk.org (Postfix) with ESMTP id BEA0645512
	for <public@inbox.dpdk.org>; Fri, 28 Jun 2024 00:38:10 +0200 (CEST)
Received: from mails.dpdk.org (localhost [127.0.0.1])
	by mails.dpdk.org (Postfix) with ESMTP id BA5114029E;
	Fri, 28 Jun 2024 00:38:10 +0200 (CEST)
Received: from mail-io1-f100.google.com (mail-io1-f100.google.com
 [209.85.166.100])
 by mails.dpdk.org (Postfix) with ESMTP id 2FE444029B
 for <test-report@dpdk.org>; Fri, 28 Jun 2024 00:38:04 +0200 (CEST)
Received: by mail-io1-f100.google.com with SMTP id
 ca18e2360f4ac-7f61e75642cso4392839f.1
 for <test-report@dpdk.org>; Thu, 27 Jun 2024 15:38:04 -0700 (PDT)
DKIM-Signature: v=1; a=rsa-sha256; c=relaxed/relaxed;
 d=iol.unh.edu; s=unh-iol; t=1719527883; x=1720132683; darn=dpdk.org;
 h=references:in-reply-to:cc:to:from:subject:message-id:date:from:to
 :cc:subject:date:message-id:reply-to;
 bh=0MwRS7AR61z9dIzKmbg/gX9Qd5O9AGbaOI+MnXHX2JQ=;
 b=DowbV+zpyMwySGGZyeFnPFHWPYjYKMD4CTsVyPrwp5DVHCQLuJr55GQVQl06d3IvBH
 WGP0w6hujgF5z54k83TP7FixAGjIx2bz90Gk00AE0CK7k7nlSjjqHoHjmOJbXRJOuf99
 KRGqoeLZXLzn3ITauWONi9bNDtfFX9pN9myn0=
X-Google-DKIM-Signature: v=1; a=rsa-sha256; c=relaxed/relaxed;
 d=1e100.net; s=20230601; t=1719527883; x=1720132683;
 h=references:in-reply-to:cc:to:from:subject:message-id:date
 :x-gm-message-state:from:to:cc:subject:date:message-id:reply-to;
 bh=0MwRS7AR61z9dIzKmbg/gX9Qd5O9AGbaOI+MnXHX2JQ=;
 b=hbZry4HthpKH4so1XUFFw/2UGdwLO0VpzG1bkq0FYe7KMO7cR/SaVvtGuLs6pHjm/E
 TMHEC0Wh5LHarIhxylcovpJ9ha+qOLHKB1LLsKkLbH+Tf9r8D5caXcyJFiKIhncLz7Ns
 r6QLPCL3Dw9dg4X6zEivlwHlFUI83ts+Bc6je1lHipmrusyrSRp4NUHhrfM4IQo0DWb2
 rsGBslxVEhEILEAaafPInVvn0q1aYya3yiGfhU6Gf8JHoNyhfktICiEOvXqaZjljZNx2
 kDuPiqFd7Eu9iZ0D+WLJRXS8WLf2nXqrrhbV+BAl7khg6H9zFDopv5V+BoPjFdogHDcG
 m6Gg==
X-Gm-Message-State: AOJu0YzLrjP1G/HWbj5JYIKCcqYF/UutV9XiMDuwnhbVaa1sFnzBds15
 47xVl3h2eaSz9et4MrOnvn1/BzdkZAhPHLJPxf7mYxs0T7yUySjXFqiCFMX2LJLUqcbmkB3QZn6
 n4Qp6yyTg5WIvgEJYpNvquGZ/RqNhV9+j/hFeyaujqOX6CFv1qfIA9McV
X-Google-Smtp-Source: AGHT+IGosyuBHVjZiOB7bHBdUs6mzJjukRR6sLrU98SGDOok3xxa+aCQ3DQJFz51r2sxGbLo5yA9u/cZ4chJ
X-Received: by 2002:a05:6602:341b:b0:7f6:1c3b:bb78 with SMTP id
 ca18e2360f4ac-7f61c3bc142mr131259939f.12.1719527883563; 
 Thu, 27 Jun 2024 15:38:03 -0700 (PDT)
Received: from postal.iol.unh.edu (postal.iol.unh.edu.
 [2606:4100:3880:1234::84]) by smtp-relay.gmail.com with ESMTPS id
 8926c6da1cb9f-4bb73db82f1sm20802173.16.2024.06.27.15.38.03
 (version=TLS1_2 cipher=ECDHE-ECDSA-AES128-GCM-SHA256 bits=128/128);
 Thu, 27 Jun 2024 15:38:03 -0700 (PDT)
X-Relaying-Domain: iol.unh.edu
Date: Thu, 27 Jun 2024 15:38:03 -0700 (PDT)
Message-ID: <667de9cb.050a0220.329b65.1862SMTPIN_ADDED_MISSING@mx.google.com>
Received: from [172.21.0.6] (unknown [172.18.0.240])
 by postal.iol.unh.edu (Postfix) with ESMTP id 19A25605C373;
 Thu, 27 Jun 2024 18:38:03 -0400 (EDT)
Subject: |SUCCESS| pw138647-138648 [PATCH] [2/2] mempool: use rte constant ma
From: dpdklab@iol.unh.edu
To: Test Report <test-report@dpdk.org>
Cc: dpdk-test-reports@iol.unh.edu
In-Reply-To: <1710970416-27841-3-git-send-email-roretzla@linux.microsoft.com>
References: <1710970416-27841-3-git-send-email-roretzla@linux.microsoft.com>
Content-Type: text/plain
X-BeenThere: test-report@dpdk.org
X-Mailman-Version: 2.1.29
Precedence: list
List-Id: automatic DPDK test reports <test-report.dpdk.org>
List-Unsubscribe: <https://mails.dpdk.org/options/test-report>,
 <mailto:test-report-request@dpdk.org?subject=unsubscribe>
List-Archive: <http://mails.dpdk.org/archives/test-report/>
List-Post: <mailto:test-report@dpdk.org>
List-Help: <mailto:test-report-request@dpdk.org?subject=help>
List-Subscribe: <https://mails.dpdk.org/listinfo/test-report>,
 <mailto:test-report-request@dpdk.org?subject=subscribe>
Errors-To: test-report-bounces@dpdk.org

Test-Label: iol-unit-arm64-testing
Test-Status: SUCCESS
http://dpdk.org/patch/138648

_Testing PASS RETEST #1_

Submitter: Tyler Retzlaff <roretzla@linux.microsoft.com>
Date: Wednesday, March 20 2024 21:33:36 
DPDK git baseline: Repo:dpdk
  Branch: master
  CommitID:80ecef6d1f71fcebc0a51d7cabc51f73ee142ff2

138647-138648 --> testing pass

Test environment and result as below:

+-----------------------------+----------------+--------------+---------------------------+------------------------------+
|         Environment         | dpdk_unit_test | lpm_autotest | cryptodev_sw_zuc_autotest | cryptodev_sw_snow3g_autotest |
+=============================+================+==============+===========================+==============================+
| CentOS Stream 9 (ARM)       | PASS           | SKIPPED      | SKIPPED                   | SKIPPED                      |
+-----------------------------+----------------+--------------+---------------------------+------------------------------+
| Fedora 37 (ARM)             | PASS           | SKIPPED      | SKIPPED                   | SKIPPED                      |
+-----------------------------+----------------+--------------+---------------------------+------------------------------+
| Debian 11 (Buster) (ARM)    | PASS           | SKIPPED      | SKIPPED                   | SKIPPED                      |
+-----------------------------+----------------+--------------+---------------------------+------------------------------+
| Fedora 38 (ARM Clang)       | PASS           | SKIPPED      | SKIPPED                   | SKIPPED                      |
+-----------------------------+----------------+--------------+---------------------------+------------------------------+
| Ubuntu 20.04 (ARM)          | PASS           | SKIPPED      | SKIPPED                   | SKIPPED                      |
+-----------------------------+----------------+--------------+---------------------------+------------------------------+
| Fedora 38 (ARM)             | PASS           | SKIPPED      | SKIPPED                   | SKIPPED                      |
+-----------------------------+----------------+--------------+---------------------------+------------------------------+
| Debian 12 (arm)             | PASS           | SKIPPED      | PASS                      | PASS                         |
+-----------------------------+----------------+--------------+---------------------------+------------------------------+
| 32-bit Ubuntu 20.04.4 (ARM) | PASS           | SKIPPED      | SKIPPED                   | SKIPPED                      |
+-----------------------------+----------------+--------------+---------------------------+------------------------------+
| Fedora 39 (ARM)             | PASS           | SKIPPED      | SKIPPED                   | SKIPPED                      |
+-----------------------------+----------------+--------------+---------------------------+------------------------------+
| Ubuntu 20.04 ARM SVE        | SKIPPED        | PASS         | SKIPPED                   | SKIPPED                      |
+-----------------------------+----------------+--------------+---------------------------+------------------------------+


CentOS Stream 9 (ARM)
	Kernel: Container Host Kernel
	Compiler: gcc 11.4.1

Fedora 37 (ARM)
	Kernel: Depends on container host
	Compiler: gcc 12.3.1

Debian 11 (Buster) (ARM)
	Kernel: Container Host Kernel
	Compiler: gcc 10.2.1

Fedora 38 (ARM Clang)
	Kernel: Depends on container host
	Compiler: clang 16.0.6

Ubuntu 20.04 (ARM)
	Kernel: Container Host Kernel
	Compiler: gcc 9.4.0

Fedora 38 (ARM)
	Kernel: Depends on container host
	Compiler: gcc 13.2.1

Debian 12 (arm)
	Kernel: Container Host Kernel
	Compiler: gcc 12.2.0

32-bit Ubuntu 20.04.4 (ARM)
	Kernel: 5.4.0-155-generic aarch64
	Compiler: gcc 9.4

Fedora 39 (ARM)
	Kernel: Depends on container host
	Compiler: gcc 13.2.1

Ubuntu 20.04 ARM SVE
	Kernel: 5.4.0-167-generic
	Compiler: gcc (Ubuntu 10.5.0-1ubuntu1~20.04) 10.5.0

To view detailed results, visit:
https://lab.dpdk.org/results/dashboard/patchsets/29615/

UNH-IOL DPDK Community Lab

To manage your email subscriptions, visit: 
https://lab.dpdk.org/results/dashboard/preferences/subscriptions/