From mboxrd@z Thu Jan  1 00:00:00 1970
Return-Path: <test-report-bounces@dpdk.org>
Received: from mails.dpdk.org (mails.dpdk.org [217.70.189.124])
	by inbox.dpdk.org (Postfix) with ESMTP id BEE4445514
	for <public@inbox.dpdk.org>; Fri, 28 Jun 2024 00:46:47 +0200 (CEST)
Received: from mails.dpdk.org (localhost [127.0.0.1])
	by mails.dpdk.org (Postfix) with ESMTP id BA3CE4029E;
	Fri, 28 Jun 2024 00:46:47 +0200 (CEST)
Received: from mail-il1-f226.google.com (mail-il1-f226.google.com
 [209.85.166.226])
 by mails.dpdk.org (Postfix) with ESMTP id 0FE0D4029B
 for <test-report@dpdk.org>; Fri, 28 Jun 2024 00:46:47 +0200 (CEST)
Received: by mail-il1-f226.google.com with SMTP id
 e9e14a558f8ab-3762eadd807so65065ab.1
 for <test-report@dpdk.org>; Thu, 27 Jun 2024 15:46:47 -0700 (PDT)
DKIM-Signature: v=1; a=rsa-sha256; c=relaxed/relaxed;
 d=iol.unh.edu; s=unh-iol; t=1719528406; x=1720133206; darn=dpdk.org;
 h=references:in-reply-to:cc:to:from:subject:message-id:date:from:to
 :cc:subject:date:message-id:reply-to;
 bh=FkDxDsD/Z2TdTDcCrRQCDW2MdKGcKWyzdohNPYtxUzA=;
 b=Ps4j75zyr8HniJdd4yzM6tdhQIWfhjoK4hDAcAKODoy0k0KK0wAKmbA/0SH9oH8yir
 uTU2hUb/X0KPpZoUIjZkFs6DdZKXQUQ5+2dSiEMGhnbASoAjAsYUeWUsM/mAdFMMFEAy
 dHX6H5FQnRnHKu/h1LMpwciS22xFDrP2CzSWw=
X-Google-DKIM-Signature: v=1; a=rsa-sha256; c=relaxed/relaxed;
 d=1e100.net; s=20230601; t=1719528406; x=1720133206;
 h=references:in-reply-to:cc:to:from:subject:message-id:date
 :x-gm-message-state:from:to:cc:subject:date:message-id:reply-to;
 bh=FkDxDsD/Z2TdTDcCrRQCDW2MdKGcKWyzdohNPYtxUzA=;
 b=Skud6hKVcvUd4oDRAVgtttzuq9ucN/TLsTlubYWIk0oDWbcde/HJ+mKtQcwGN0bTPI
 79C1uVOm2JSe1fD6PK9LOmZY2SfXzl9WZ0v6sb72h3eCFjUYfIs9ljK9lcsyvpFJ2yMW
 qNXbMOViqrSjfZFymlM37CfwpOnN/6k2jDSWKC9Nd+exEnrd2apdyVlYSBx7SDugchHO
 J5IYnaP4Ql09PX/7EAmT23lCO+wKYOPNbFW1VbEgmlSpWZPA/BxnxcsqNDROGC7XIAXp
 Jw4ut/UTNtQhHc67dczAUq9hLkONABVPquPOJxd+mTQXuQQwwMBc3Q4cbJP/rRMI08JC
 Fz5g==
X-Gm-Message-State: AOJu0YzT2+POPF+us1sptCoRhtTgMg/lqlyUrhddOH2avI8qolcOvLHI
 ZrpvHhBO6c820cDAEKBxs3IurCLwbXuZNz17SO/KJIIa+IGWieslMMvAJ1x+0BYh5FxK6BxH81T
 FrGdRDFsySz7YZ9kXxmq9Z4X9wodvftDpsOJ0eTm2QvYTxC+sbsaPZhPe
X-Google-Smtp-Source: AGHT+IGTACZ1v8sC7KtQq4PDV7JUyoN4rZb1vjFXcxAh7TN7ixEg4VfTztoLy+mUhouZCfjIkzTs699nK49Y
X-Received: by 2002:a05:6e02:1e02:b0:375:a7ee:dff9 with SMTP id
 e9e14a558f8ab-3763f5d22b9mr223845895ab.17.1719528406381; 
 Thu, 27 Jun 2024 15:46:46 -0700 (PDT)
Received: from postal.iol.unh.edu (postal.iol.unh.edu.
 [2606:4100:3880:1234::84]) by smtp-relay.gmail.com with ESMTPS id
 41be03b00d2f7-72c6a8deb9bsm17249a12.12.2024.06.27.15.46.46
 (version=TLS1_2 cipher=ECDHE-ECDSA-AES128-GCM-SHA256 bits=128/128);
 Thu, 27 Jun 2024 15:46:46 -0700 (PDT)
X-Relaying-Domain: iol.unh.edu
Date: Thu, 27 Jun 2024 15:46:46 -0700 (PDT)
Message-ID: <667debd6.630a0220.acaa.12bfSMTPIN_ADDED_MISSING@mx.google.com>
Received: from [172.21.0.6] (unknown [172.18.0.240])
 by postal.iol.unh.edu (Postfix) with ESMTP id 9C212605C373;
 Thu, 27 Jun 2024 18:46:45 -0400 (EDT)
Subject: |SUCCESS| pw138647-138648 [PATCH] [2/2] mempool: use rte constant ma
From: dpdklab@iol.unh.edu
To: Test Report <test-report@dpdk.org>
Cc: dpdk-test-reports@iol.unh.edu
In-Reply-To: <1710970416-27841-3-git-send-email-roretzla@linux.microsoft.com>
References: <1710970416-27841-3-git-send-email-roretzla@linux.microsoft.com>
Content-Type: text/plain
X-BeenThere: test-report@dpdk.org
X-Mailman-Version: 2.1.29
Precedence: list
List-Id: automatic DPDK test reports <test-report.dpdk.org>
List-Unsubscribe: <https://mails.dpdk.org/options/test-report>,
 <mailto:test-report-request@dpdk.org?subject=unsubscribe>
List-Archive: <http://mails.dpdk.org/archives/test-report/>
List-Post: <mailto:test-report@dpdk.org>
List-Help: <mailto:test-report-request@dpdk.org?subject=help>
List-Subscribe: <https://mails.dpdk.org/listinfo/test-report>,
 <mailto:test-report-request@dpdk.org?subject=subscribe>
Errors-To: test-report-bounces@dpdk.org

Test-Label: iol-unit-amd64-testing
Test-Status: SUCCESS
http://dpdk.org/patch/138648

_Testing PASS RETEST #1_

Submitter: Tyler Retzlaff <roretzla@linux.microsoft.com>
Date: Wednesday, March 20 2024 21:33:36 
DPDK git baseline: Repo:dpdk
  Branch: master
  CommitID:80ecef6d1f71fcebc0a51d7cabc51f73ee142ff2

138647-138648 --> testing pass

Test environment and result as below:

+---------------------+----------------+
|     Environment     | dpdk_unit_test |
+=====================+================+
| CentOS Stream 8     | PASS           |
+---------------------+----------------+
| CentOS Stream 9     | PASS           |
+---------------------+----------------+
| Debian Bullseye     | PASS           |
+---------------------+----------------+
| Debian 12           | PASS           |
+---------------------+----------------+
| Fedora 38           | PASS           |
+---------------------+----------------+
| Fedora 37           | PASS           |
+---------------------+----------------+
| Fedora 38 (Clang)   | PASS           |
+---------------------+----------------+
| Ubuntu 20.04        | PASS           |
+---------------------+----------------+
| RHEL8               | PASS           |
+---------------------+----------------+
| openSUSE Leap 15    | PASS           |
+---------------------+----------------+
| Ubuntu 22.04        | PASS           |
+---------------------+----------------+
| Windows Server 2019 | PASS           |
+---------------------+----------------+
| Windows Server 2022 | PASS           |
+---------------------+----------------+


CentOS Stream 8
	Kernel: 5.4.0-167-generic
	Compiler: gcc 8.5.0 20210514

CentOS Stream 9
	Kernel: 5.4.0-167-generic
	Compiler: gcc 11.4.1 20230605

Debian Bullseye
	Kernel: 5.4.0-167-generic
	Compiler: gcc 10.2.1-6

Debian 12
	Kernel: Container Host Kernel
	Compiler: gcc 12.2.0

Fedora 38
	Kernel: Depends on container host
	Compiler: gcc 13.2.1

Fedora 37
	Kernel: Depends on container host system
	Compiler: gcc 12.3.1

Fedora 38 (Clang)
	Kernel: Depends on container host
	Compiler: clang 16.0.6

Ubuntu 20.04
	Kernel: 5.4.0-167-generic
	Compiler: gcc 9.4.0-1ubuntu1~20.04.1

RHEL8
	Kernel: 5.4.0-167-generic
	Compiler: gcc 8.5.0 20210514 (Red Hat 8.5.0-20)

openSUSE Leap 15
	Kernel: 5.4.0-167-generic
	Compiler: gcc 7.5.0

Ubuntu 22.04
	Kernel: 5.4.0-167-generic
	Compiler: gcc 11.4.0

Windows Server 2019
	Kernel: 10.0.17763
	Compiler: clang 14.0 and gcc 8.1.0 (MinGW)

Windows Server 2022
	Kernel: 10.0.20348.2031
	Compiler: clang 15.0.7, gcc 8.1.0 (MinGW), and MSVC VS 17.9

To view detailed results, visit:
https://lab.dpdk.org/results/dashboard/patchsets/29615/

UNH-IOL DPDK Community Lab

To manage your email subscriptions, visit: 
https://lab.dpdk.org/results/dashboard/preferences/subscriptions/