From mboxrd@z Thu Jan  1 00:00:00 1970
Return-Path: <test-report-bounces@dpdk.org>
Received: from mails.dpdk.org (mails.dpdk.org [217.70.189.124])
	by inbox.dpdk.org (Postfix) with ESMTP id 146FD45545
	for <public@inbox.dpdk.org>; Tue,  2 Jul 2024 03:37:03 +0200 (CEST)
Received: from mails.dpdk.org (localhost [127.0.0.1])
	by mails.dpdk.org (Postfix) with ESMTP id 0CDD94027F;
	Tue,  2 Jul 2024 03:37:03 +0200 (CEST)
Received: from mail-qv1-f98.google.com (mail-qv1-f98.google.com
 [209.85.219.98]) by mails.dpdk.org (Postfix) with ESMTP id 412D340272
 for <test-report@dpdk.org>; Tue,  2 Jul 2024 03:37:01 +0200 (CEST)
Received: by mail-qv1-f98.google.com with SMTP id
 6a1803df08f44-6b56000f663so17364306d6.1
 for <test-report@dpdk.org>; Mon, 01 Jul 2024 18:37:01 -0700 (PDT)
DKIM-Signature: v=1; a=rsa-sha256; c=relaxed/relaxed;
 d=iol.unh.edu; s=unh-iol; t=1719884220; x=1720489020; darn=dpdk.org;
 h=references:in-reply-to:cc:to:from:subject:message-id:date:from:to
 :cc:subject:date:message-id:reply-to;
 bh=RmelWSkpE0RtNAJH05kiT/IujFYxt5AhWPlrNo0H0cQ=;
 b=hRZabucIUF0gpYs688+hH8jVWfOxM9WDKAOcbUa9jQJwGjalrTWMRChIW6ynhGqdFr
 lGR3CIhkapvWzm0HXIQh4T8zNs6jDbpq0hxed9RJvdeGNvURdihIWuoVN8N/9nssGwLd
 kUeqXRdlP66D/gSeNPz+YHyYcZg0dwB4y45I4=
X-Google-DKIM-Signature: v=1; a=rsa-sha256; c=relaxed/relaxed;
 d=1e100.net; s=20230601; t=1719884220; x=1720489020;
 h=references:in-reply-to:cc:to:from:subject:message-id:date
 :x-gm-message-state:from:to:cc:subject:date:message-id:reply-to;
 bh=RmelWSkpE0RtNAJH05kiT/IujFYxt5AhWPlrNo0H0cQ=;
 b=G7PjC/H8LM0GqeEkMgqaa4nHslKhdRLA3+N3/CnqzEriyLraamE5Xi/aIkZ3/ZUBRE
 C1wCmMniDq6p+50lZ15P9Pm5SUU9ZegqkqEyAo778VLBYn7EWclo0AOQv2/4XN3hZLVm
 r8rmO9CTUh3mNOCmUWcOQ0CwSgsc6KJNCkaF30tB3tHGlCUQm4zmpt3em4f1KpWAv6Q1
 LvwgE2VqKmPSj+f541xq85Pym423GjD9RhUxQhO9aSVC5zN/Tiwf/hciH0oOnV3qUbjc
 h75phXhn0ckxriNAPvsbdQD6oXn8rvQaqli2LwTYFlBa6ptYH+0xR7WnOaj7h/Y3uHrE
 3FKw==
X-Gm-Message-State: AOJu0YxSjhFTcdv53Kq1BVdIWFuoNOW6EjAk3WmVRM2XMlsninbdZZKF
 NdWS6V5p8ZBWcAK/4vEA6ywrPMdDzIKm4z5E/98qTEjPgKv/TWzKj97gxmwbBNW9QFRcCj0SMOC
 1BzfDZa/l9uhv6cYnn7nLllqbgsN6vdgi5IgCmT9C
X-Google-Smtp-Source: AGHT+IEryPKECZufN9hkqLZ8e8zla0BCcVeSoiR3njzbO1dJVO6SJdaAtnVcvYUorA9ZxmqlP6itMhn3FV9H
X-Received: by 2002:a05:6214:5183:b0:6b5:65bd:123b with SMTP id
 6a1803df08f44-6b5b6f58f93mr100560626d6.0.1719884220642; 
 Mon, 01 Jul 2024 18:37:00 -0700 (PDT)
Received: from postal.iol.unh.edu (postal.iol.unh.edu. [132.177.123.84])
 by smtp-relay.gmail.com with ESMTPS id
 6a1803df08f44-6b59e367713sm4222426d6.16.2024.07.01.18.37.00
 (version=TLS1_2 cipher=ECDHE-ECDSA-AES128-GCM-SHA256 bits=128/128);
 Mon, 01 Jul 2024 18:37:00 -0700 (PDT)
X-Relaying-Domain: iol.unh.edu
Date: Mon, 01 Jul 2024 18:37:00 -0700 (PDT)
Message-ID: <668359bc.d40a0220.9fec4.3effSMTPIN_ADDED_MISSING@mx.google.com>
Received: from [172.21.0.6] (unknown [172.18.0.240])
 by postal.iol.unh.edu (Postfix) with ESMTP id 49722605C380;
 Mon,  1 Jul 2024 21:37:00 -0400 (EDT)
Subject: |PENDING| pw141996-141997 [PATCH] [2/2] net/mlx5: add hairpin out of
From: dpdklab@iol.unh.edu
To: Test Report <test-report@dpdk.org>
Cc: dpdk-test-reports@iol.unh.edu
In-Reply-To: <20240701181245.128810-3-shperetz@nvidia.com>
References: <20240701181245.128810-3-shperetz@nvidia.com>
Content-Type: text/plain
X-BeenThere: test-report@dpdk.org
X-Mailman-Version: 2.1.29
Precedence: list
List-Id: automatic DPDK test reports <test-report.dpdk.org>
List-Unsubscribe: <https://mails.dpdk.org/options/test-report>,
 <mailto:test-report-request@dpdk.org?subject=unsubscribe>
List-Archive: <http://mails.dpdk.org/archives/test-report/>
List-Post: <mailto:test-report@dpdk.org>
List-Help: <mailto:test-report-request@dpdk.org?subject=help>
List-Subscribe: <https://mails.dpdk.org/listinfo/test-report>,
 <mailto:test-report-request@dpdk.org?subject=subscribe>
Errors-To: test-report-bounces@dpdk.org

Test-Label: iol-abi-testing
Test-Status: PENDING
http://dpdk.org/patch/141997

_Testing pending_

Submitter: Shani Peretz <shperetz@nvidia.com>
Date: Monday, July 01 2024 18:12:45 
DPDK git baseline: Repo:dpdk
  Branch: master
  CommitID:0ccf0d5588f7a9d25393351409b4c7497aa8dc74

141996-141997 --> testing pending

Test environment and result as below:

+-------------------+----------+
|    Environment    | abi_test |
+===================+==========+
| CentOS Stream 8   | PASS     |
+-------------------+----------+
| Debian Bullseye   | PASS     |
+-------------------+----------+
| CentOS Stream 9   | PASS     |
+-------------------+----------+
| Debian 12         | PEND     |
+-------------------+----------+
| Fedora 40 (Clang) | PEND     |
+-------------------+----------+
| Fedora 38 (Clang) | PEND     |
+-------------------+----------+
| Fedora 38         | PASS     |
+-------------------+----------+
| Fedora 39         | PEND     |
+-------------------+----------+
| Fedora 39 (Clang) | PEND     |
+-------------------+----------+
| Fedora 37         | PEND     |
+-------------------+----------+
| RHEL8             | PEND     |
+-------------------+----------+
| openSUSE Leap 15  | PEND     |
+-------------------+----------+
| Ubuntu 22.04      | PEND     |
+-------------------+----------+
| RHEL9             | PEND     |
+-------------------+----------+
| Fedora 40         | PEND     |
+-------------------+----------+
| Ubuntu 24.04      | PEND     |
+-------------------+----------+


CentOS Stream 8
	Kernel: 5.4.0-167-generic
	Compiler: gcc 8.5.0 20210514

Debian Bullseye
	Kernel: 5.4.0-167-generic
	Compiler: gcc 10.2.1-6

CentOS Stream 9
	Kernel: 5.4.0-167-generic
	Compiler: gcc 11.4.1 20230605

Debian 12
	Kernel: Container Host Kernel
	Compiler: gcc 12.2.0

Fedora 40 (Clang)
	Kernel: Depends on container host
	Compiler: clang 18.1.6

Fedora 38 (Clang)
	Kernel: Depends on container host
	Compiler: clang 16.0.6

Fedora 38
	Kernel: Depends on container host
	Compiler: gcc 13.2.1

Fedora 39
	Kernel: Depends on container host
	Compiler: gcc 13.2.1

Fedora 39 (Clang)
	Kernel: Depends on container host
	Compiler: clang 17.0.6

Fedora 37
	Kernel: Depends on container host system
	Compiler: gcc 12.3.1

RHEL8
	Kernel: 5.4.0-167-generic
	Compiler: gcc 8.5.0 20210514 (Red Hat 8.5.0-20)

openSUSE Leap 15
	Kernel: 5.4.0-167-generic
	Compiler: gcc 7.5.0

Ubuntu 22.04
	Kernel: 5.4.0-167-generic
	Compiler: gcc 11.4.0

RHEL9
	Kernel: Depends on container host
	Compiler: gcc 11.4.1

Fedora 40
	Kernel: Depends on container host
	Compiler: gcc 14.1.1

Ubuntu 24.04
	Kernel: 5.4.0-167-generic
	Compiler: gcc 13.2.0

To view detailed results, visit:
https://lab.dpdk.org/results/dashboard/patchsets/30363/

UNH-IOL DPDK Community Lab

To manage your email subscriptions, visit: 
https://lab.dpdk.org/results/dashboard/preferences/subscriptions/