From mboxrd@z Thu Jan  1 00:00:00 1970
Return-Path: <test-report-bounces@dpdk.org>
Received: from mails.dpdk.org (mails.dpdk.org [217.70.189.124])
	by inbox.dpdk.org (Postfix) with ESMTP id AAAAB45546
	for <public@inbox.dpdk.org>; Tue,  2 Jul 2024 04:16:33 +0200 (CEST)
Received: from mails.dpdk.org (localhost [127.0.0.1])
	by mails.dpdk.org (Postfix) with ESMTP id A6AB44029F;
	Tue,  2 Jul 2024 04:16:33 +0200 (CEST)
Received: from mail-qt1-f227.google.com (mail-qt1-f227.google.com
 [209.85.160.227])
 by mails.dpdk.org (Postfix) with ESMTP id D43074027F
 for <test-report@dpdk.org>; Tue,  2 Jul 2024 04:16:31 +0200 (CEST)
Received: by mail-qt1-f227.google.com with SMTP id
 d75a77b69052e-446428931a0so16639041cf.1
 for <test-report@dpdk.org>; Mon, 01 Jul 2024 19:16:31 -0700 (PDT)
DKIM-Signature: v=1; a=rsa-sha256; c=relaxed/relaxed;
 d=iol.unh.edu; s=unh-iol; t=1719886591; x=1720491391; darn=dpdk.org;
 h=references:in-reply-to:cc:to:from:subject:message-id:date:from:to
 :cc:subject:date:message-id:reply-to;
 bh=z8fZfEMj3OyXKM9xq2mMmTCH37BD2N8vHcVKstxy+YI=;
 b=bt79dOL1EO/GSZ18CG9xUHsvhoGoLoVgW1j4f52AzcM/kf5PxbSXRgW7Ta2XSZyzke
 D9pLRiVzZV2TOltNufvnFrdF6PALR4q8MJniUdGkIyycm7CtlZ8t17XFBCUa9OHhHAzo
 6+P7Hh/uO2+tLpXI8h0dOEatDxeVLcM/qFvCM=
X-Google-DKIM-Signature: v=1; a=rsa-sha256; c=relaxed/relaxed;
 d=1e100.net; s=20230601; t=1719886591; x=1720491391;
 h=references:in-reply-to:cc:to:from:subject:message-id:date
 :x-gm-message-state:from:to:cc:subject:date:message-id:reply-to;
 bh=z8fZfEMj3OyXKM9xq2mMmTCH37BD2N8vHcVKstxy+YI=;
 b=iuSzxjDX1TuIbl+IUbd1suU1DkH0f8eIyXa6JU7LyrvAThg2w6RtvtLAFehF+mV6m5
 L31ma55didgHTfb+WK/QUkdZio01zlH6y0Y/K+bTBSMeiZfEfcCLFD2PcNyST52ajHQU
 W64m5Hx8zSFPvGtygFIxe5znC3nHDaLZwxiEuEmsFDJ3cdZAe+nmItcJ5jnbl5WaXpyY
 knqAxppeBhCOYdGbk6a74XzhQqQsuxuFxXHH4CuC8UiHg7qf0N/DB6QMX2R7fIt3N9Ix
 5kRua5kYy36YlnAr07CFMMrl/AYKis6tNXzTiWqBej46a+9yaUmF2ZjfuDPG2Xul9cQv
 ii1Q==
X-Gm-Message-State: AOJu0YynUqeW1XteFhzlrKiRQCZKkrdTCWH38GOy3pZa5MzS+QoKErwo
 q/QgGafqEcrCBiELdYvDUFw3iXF5VUt/3LVRmI7ZIPLj2moKu60cCqTxXwLlQ27MBDyIDg1FO2c
 jcioOOU3Luel8eWOWea80K401Xa/ctfJ48q1rXsJj
X-Google-Smtp-Source: AGHT+IE7INuwQ6H9jEsm/74mnXPyMyL9iPSJzu79thGV5+G9KGm+Zv3kJgZqm+iBa/Go08ixl+Oq1NQqt1qC
X-Received: by 2002:ac8:7f52:0:b0:446:59bf:eafa with SMTP id
 d75a77b69052e-44662eebcc7mr99987461cf.50.1719886591205; 
 Mon, 01 Jul 2024 19:16:31 -0700 (PDT)
Received: from postal.iol.unh.edu (postal.iol.unh.edu. [132.177.123.84])
 by smtp-relay.gmail.com with ESMTPS id
 6a1803df08f44-6b59e0b28c2sm4259916d6.0.2024.07.01.19.16.31
 (version=TLS1_2 cipher=ECDHE-ECDSA-AES128-GCM-SHA256 bits=128/128);
 Mon, 01 Jul 2024 19:16:31 -0700 (PDT)
X-Relaying-Domain: iol.unh.edu
Date: Mon, 01 Jul 2024 19:16:31 -0700 (PDT)
Message-ID: <668362ff.050a0220.18db0.0b4eSMTPIN_ADDED_MISSING@mx.google.com>
Received: from [172.21.0.6] (unknown [172.18.0.240])
 by postal.iol.unh.edu (Postfix) with ESMTP id C02DC6052500;
 Mon,  1 Jul 2024 22:16:30 -0400 (EDT)
Subject: |PENDING| pw141996-141997 [PATCH] [2/2] net/mlx5: add hairpin out of
From: dpdklab@iol.unh.edu
To: Test Report <test-report@dpdk.org>
Cc: dpdk-test-reports@iol.unh.edu
In-Reply-To: <20240701181245.128810-3-shperetz@nvidia.com>
References: <20240701181245.128810-3-shperetz@nvidia.com>
Content-Type: text/plain
X-BeenThere: test-report@dpdk.org
X-Mailman-Version: 2.1.29
Precedence: list
List-Id: automatic DPDK test reports <test-report.dpdk.org>
List-Unsubscribe: <https://mails.dpdk.org/options/test-report>,
 <mailto:test-report-request@dpdk.org?subject=unsubscribe>
List-Archive: <http://mails.dpdk.org/archives/test-report/>
List-Post: <mailto:test-report@dpdk.org>
List-Help: <mailto:test-report-request@dpdk.org?subject=help>
List-Subscribe: <https://mails.dpdk.org/listinfo/test-report>,
 <mailto:test-report-request@dpdk.org?subject=subscribe>
Errors-To: test-report-bounces@dpdk.org

Test-Label: iol-unit-amd64-testing
Test-Status: PENDING
http://dpdk.org/patch/141997

_Testing pending_

Submitter: Shani Peretz <shperetz@nvidia.com>
Date: Monday, July 01 2024 18:12:45 
DPDK git baseline: Repo:dpdk
  Branch: master
  CommitID:0ccf0d5588f7a9d25393351409b4c7497aa8dc74

141996-141997 --> testing pending

Test environment and result as below:

+---------------------+----------------+
|     Environment     | dpdk_unit_test |
+=====================+================+
| CentOS Stream 8     | PASS           |
+---------------------+----------------+
| CentOS Stream 9     | PASS           |
+---------------------+----------------+
| Debian Bullseye     | PASS           |
+---------------------+----------------+
| Debian 12           | PASS           |
+---------------------+----------------+
| Fedora 37           | PASS           |
+---------------------+----------------+
| Fedora 39           | PASS           |
+---------------------+----------------+
| Fedora 38 (Clang)   | PASS           |
+---------------------+----------------+
| Fedora 38           | PASS           |
+---------------------+----------------+
| Fedora 39 (Clang)   | PASS           |
+---------------------+----------------+
| Fedora 40           | PASS           |
+---------------------+----------------+
| Fedora 40 (Clang)   | PEND           |
+---------------------+----------------+
| openSUSE Leap 15    | PEND           |
+---------------------+----------------+
| RHEL8               | PEND           |
+---------------------+----------------+
| RHEL9               | PEND           |
+---------------------+----------------+
| Ubuntu 20.04        | PEND           |
+---------------------+----------------+
| Ubuntu 22.04        | PEND           |
+---------------------+----------------+
| Ubuntu 24.04        | PEND           |
+---------------------+----------------+
| Windows Server 2019 | PASS           |
+---------------------+----------------+
| Windows Server 2022 | PASS           |
+---------------------+----------------+


CentOS Stream 8
	Kernel: 5.4.0-167-generic
	Compiler: gcc 8.5.0 20210514

CentOS Stream 9
	Kernel: 5.4.0-167-generic
	Compiler: gcc 11.4.1 20230605

Debian Bullseye
	Kernel: 5.4.0-167-generic
	Compiler: gcc 10.2.1-6

Debian 12
	Kernel: Container Host Kernel
	Compiler: gcc 12.2.0

Fedora 37
	Kernel: Depends on container host system
	Compiler: gcc 12.3.1

Fedora 39
	Kernel: Depends on container host
	Compiler: gcc 13.2.1

Fedora 38 (Clang)
	Kernel: Depends on container host
	Compiler: clang 16.0.6

Fedora 38
	Kernel: Depends on container host
	Compiler: gcc 13.2.1

Fedora 39 (Clang)
	Kernel: Depends on container host
	Compiler: clang 17.0.6

Fedora 40
	Kernel: Depends on container host
	Compiler: gcc 14.1.1

Fedora 40 (Clang)
	Kernel: Depends on container host
	Compiler: clang 18.1.6

openSUSE Leap 15
	Kernel: 5.4.0-167-generic
	Compiler: gcc 7.5.0

RHEL8
	Kernel: 5.4.0-167-generic
	Compiler: gcc 8.5.0 20210514 (Red Hat 8.5.0-20)

RHEL9
	Kernel: Depends on container host
	Compiler: gcc 11.4.1

Ubuntu 20.04
	Kernel: 5.4.0-167-generic
	Compiler: gcc 9.4.0-1ubuntu1~20.04.1

Ubuntu 22.04
	Kernel: 5.4.0-167-generic
	Compiler: gcc 11.4.0

Ubuntu 24.04
	Kernel: 5.4.0-167-generic
	Compiler: gcc 13.2.0

Windows Server 2019
	Kernel: 10.0.17763
	Compiler: clang 14.0 and gcc 8.1.0 (MinGW)

Windows Server 2022
	Kernel: 10.0.20348.2031
	Compiler: clang 15.0.7, gcc 8.1.0 (MinGW), and MSVC VS 17.9

To view detailed results, visit:
https://lab.dpdk.org/results/dashboard/patchsets/30363/

UNH-IOL DPDK Community Lab

To manage your email subscriptions, visit: 
https://lab.dpdk.org/results/dashboard/preferences/subscriptions/