From mboxrd@z Thu Jan  1 00:00:00 1970
Return-Path: <test-report-bounces@dpdk.org>
Received: from mails.dpdk.org (mails.dpdk.org [217.70.189.124])
	by inbox.dpdk.org (Postfix) with ESMTP id A50E245547
	for <public@inbox.dpdk.org>; Tue,  2 Jul 2024 07:16:38 +0200 (CEST)
Received: from mails.dpdk.org (localhost [127.0.0.1])
	by mails.dpdk.org (Postfix) with ESMTP id A16EA402D8;
	Tue,  2 Jul 2024 07:16:38 +0200 (CEST)
Received: from mail-yw1-f226.google.com (mail-yw1-f226.google.com
 [209.85.128.226])
 by mails.dpdk.org (Postfix) with ESMTP id 5EA42402CF
 for <test-report@dpdk.org>; Tue,  2 Jul 2024 07:16:33 +0200 (CEST)
Received: by mail-yw1-f226.google.com with SMTP id
 00721157ae682-64b5617ba47so30360837b3.3
 for <test-report@dpdk.org>; Mon, 01 Jul 2024 22:16:33 -0700 (PDT)
DKIM-Signature: v=1; a=rsa-sha256; c=relaxed/relaxed;
 d=iol.unh.edu; s=unh-iol; t=1719897392; x=1720502192; darn=dpdk.org;
 h=references:in-reply-to:cc:to:from:subject:message-id:date:from:to
 :cc:subject:date:message-id:reply-to;
 bh=zCX+TdxQ/OsEfNVmGvI3FgsZbDf3q4x5vHJ7fM7NUcE=;
 b=Mv0TbFq3IED5ClH48GczHOXOWEKwqe3IsrfaAeff2SKknbnIjRySY/K01thJ+14z9n
 fd0fD3hKhntScC9O3KNvlooJ8Jm9MrhmRkxNCsSaqp6iwE7MI4kFtfg0L2fPgoqLwwEf
 Z/YArt1QtF3fI2N95d02QCURQBk66yTPBMlQA=
X-Google-DKIM-Signature: v=1; a=rsa-sha256; c=relaxed/relaxed;
 d=1e100.net; s=20230601; t=1719897392; x=1720502192;
 h=references:in-reply-to:cc:to:from:subject:message-id:date
 :x-gm-message-state:from:to:cc:subject:date:message-id:reply-to;
 bh=zCX+TdxQ/OsEfNVmGvI3FgsZbDf3q4x5vHJ7fM7NUcE=;
 b=RmOcbvn6GyUgjtl6Q5/TL+QgnW9d/alFG3yFrkq6HWM8vycPvz32iNgFuEItWSEwlK
 Ue+WJ+y+tL/bxtIs6K66HccAzQkbZrbv719iKpWWKHIJmggxjY6WOxRe3hc7iZ34gQLA
 JueYAXTXYfEpHy3Zo8YWGi7XtQWcChZesutEs9BfTv4i49dIBgf0GGpZKzGNCwEbtU6h
 qVMF1DWaI9k4GZXpKSCAr0uoWSCDVQ/eN4cbjZ5US01IlCgAo9GMXs8CYriPzxamPeND
 wDhHm5tZSMmclbjGpB+4pY7il5WJB6DrxjqNQKTyNmItjN6INO3U6Z7Xz3dHTAOPSpsb
 gwNQ==
X-Gm-Message-State: AOJu0YzGTXcjQEiiaRf7b4DDH3IbnNCqT+LNoJGG/9J6lptPjPLqyoOt
 LdMO2OdvDIfVBA3C4qKwevGBjj0ick8XRragv7UH1lg8rI5LUSSv5wGEx/7OSSZmkDBvXhijQQz
 +qqLJw1J4WBa63MUcC0HE2vaIvFzvRd6J/xA0cS8a
X-Google-Smtp-Source: AGHT+IFwk4KN4YyA9Fob26MVogXe2wlH42T0knoH22PjmPPU5+sZGtEOaYuB2VaHcVYvMUjr7ksyK/7sP6Lr
X-Received: by 2002:a81:ad13:0:b0:64b:f67:8fe6 with SMTP id
 00721157ae682-64c7350e07cmr61232137b3.35.1719897392738; 
 Mon, 01 Jul 2024 22:16:32 -0700 (PDT)
Received: from postal.iol.unh.edu (postal.iol.unh.edu. [132.177.123.84])
 by smtp-relay.gmail.com with ESMTPS id
 00721157ae682-64a9a6145dasm1265127b3.27.2024.07.01.22.16.32
 (version=TLS1_2 cipher=ECDHE-ECDSA-AES128-GCM-SHA256 bits=128/128);
 Mon, 01 Jul 2024 22:16:32 -0700 (PDT)
X-Relaying-Domain: iol.unh.edu
Date: Mon, 01 Jul 2024 22:16:32 -0700 (PDT)
Message-ID: <66838d30.050a0220.2e3f5.97e9SMTPIN_ADDED_MISSING@mx.google.com>
Received: from [172.21.0.6] (unknown [172.18.0.240])
 by postal.iol.unh.edu (Postfix) with ESMTP id 4DF466052722;
 Tue,  2 Jul 2024 01:16:32 -0400 (EDT)
Subject: |PENDING| pw141996-141997 [PATCH] [2/2] net/mlx5: add hairpin out of
From: dpdklab@iol.unh.edu
To: Test Report <test-report@dpdk.org>
Cc: dpdk-test-reports@iol.unh.edu
In-Reply-To: <20240701181245.128810-3-shperetz@nvidia.com>
References: <20240701181245.128810-3-shperetz@nvidia.com>
Content-Type: text/plain
X-BeenThere: test-report@dpdk.org
X-Mailman-Version: 2.1.29
Precedence: list
List-Id: automatic DPDK test reports <test-report.dpdk.org>
List-Unsubscribe: <https://mails.dpdk.org/options/test-report>,
 <mailto:test-report-request@dpdk.org?subject=unsubscribe>
List-Archive: <http://mails.dpdk.org/archives/test-report/>
List-Post: <mailto:test-report@dpdk.org>
List-Help: <mailto:test-report-request@dpdk.org?subject=help>
List-Subscribe: <https://mails.dpdk.org/listinfo/test-report>,
 <mailto:test-report-request@dpdk.org?subject=subscribe>
Errors-To: test-report-bounces@dpdk.org

Test-Label: iol-compile-arm64-testing
Test-Status: PENDING
http://dpdk.org/patch/141997

_Testing pending_

Submitter: Shani Peretz <shperetz@nvidia.com>
Date: Monday, July 01 2024 18:12:45 
DPDK git baseline: Repo:dpdk
  Branch: master
  CommitID:0ccf0d5588f7a9d25393351409b4c7497aa8dc74

141996-141997 --> testing pending

Test environment and result as below:

+----------------------------------------+--------------------+
|              Environment               | dpdk_meson_compile |
+========================================+====================+
| RHEL9 (ARM)                            | PASS               |
+----------------------------------------+--------------------+
| Ubuntu 20.04 ARM GCC Cross Compile     | PEND               |
+----------------------------------------+--------------------+
| Ubuntu 20.04 ARM SVE                   | PASS               |
+----------------------------------------+--------------------+
| Debian 12 with MUSDK                   | PASS               |
+----------------------------------------+--------------------+
| Fedora 37 (ARM)                        | PASS               |
+----------------------------------------+--------------------+
| Fedora 38 (ARM)                        | PASS               |
+----------------------------------------+--------------------+
| Fedora 38 (ARM Clang)                  | PEND               |
+----------------------------------------+--------------------+
| Fedora 39 (ARM)                        | PASS               |
+----------------------------------------+--------------------+
| Fedora 39 (ARM Clang)                  | PEND               |
+----------------------------------------+--------------------+
| Fedora 40 (ARM)                        | PASS               |
+----------------------------------------+--------------------+
| Fedora 40 (ARM Clang)                  | PEND               |
+----------------------------------------+--------------------+
| Ubuntu 20.04 (ARM)                     | PASS               |
+----------------------------------------+--------------------+
| Ubuntu 22.04 (ARM)                     | PASS               |
+----------------------------------------+--------------------+
| Ubuntu 24.04 (ARM)                     | PASS               |
+----------------------------------------+--------------------+
| CentOS Stream 9 (ARM)                  | PEND               |
+----------------------------------------+--------------------+
| Debian 11 (Buster) (ARM)               | PEND               |
+----------------------------------------+--------------------+
| Debian 12 (arm)                        | PEND               |
+----------------------------------------+--------------------+
| Ubuntu 20.04 ARM Clang Cross Compile   | PASS               |
+----------------------------------------+--------------------+
| Ubuntu 20.04 aarch32 GCC Cross Compile | PASS               |
+----------------------------------------+--------------------+


RHEL9 (ARM)
	Kernel: Depends on container host
	Compiler: gcc 11.4.1

Ubuntu 20.04 ARM GCC Cross Compile
	Kernel: 5.4.0-167-generic
	Compiler: aarch64-linux-gnu-gcc (Ubuntu 9.4.0-1ubuntu1~20.04.2) 9.4.0

Ubuntu 20.04 ARM SVE
	Kernel: 5.4.0-167-generic
	Compiler: gcc (Ubuntu 10.5.0-1ubuntu1~20.04) 10.5.0

Debian 12 with MUSDK
	Kernel: Container Host Kernel
	Compiler: gcc 12.2.0

Fedora 37 (ARM)
	Kernel: Depends on container host
	Compiler: gcc 12.3.1

Fedora 38 (ARM)
	Kernel: Depends on container host
	Compiler: gcc 13.2.1

Fedora 38 (ARM Clang)
	Kernel: Depends on container host
	Compiler: clang 16.0.6

Fedora 39 (ARM)
	Kernel: Depends on container host
	Compiler: gcc 13.2.1

Fedora 39 (ARM Clang)
	Kernel: Depends on container host
	Compiler: clang 17.0.6

Fedora 40 (ARM)
	Kernel: Depends on container host
	Compiler: gcc 14.1.1

Fedora 40 (ARM Clang)
	Kernel: Depends on container host
	Compiler: clang 18.1.6

Ubuntu 20.04 (ARM)
	Kernel: Container Host Kernel
	Compiler: gcc 9.4.0

Ubuntu 22.04 (ARM)
	Kernel: Container Host Kernel
	Compiler: gcc 11.4.0

Ubuntu 24.04 (ARM)
	Kernel: 5.4.0-167-generic
	Compiler: gcc 13.2.0

CentOS Stream 9 (ARM)
	Kernel: Container Host Kernel
	Compiler: gcc 11.4.1

Debian 11 (Buster) (ARM)
	Kernel: Container Host Kernel
	Compiler: gcc 10.2.1

Debian 12 (arm)
	Kernel: Container Host Kernel
	Compiler: gcc 12.2.0

Ubuntu 20.04 ARM Clang Cross Compile
	Kernel: 5.4.0-72-generic
	Compiler: clang 10.0.0-4ubuntu1

Ubuntu 20.04 aarch32 GCC Cross Compile
	Kernel: 5.4.0-167-generic
	Compiler: gcc 9.4.0

To view detailed results, visit:
https://lab.dpdk.org/results/dashboard/patchsets/30363/

UNH-IOL DPDK Community Lab

To manage your email subscriptions, visit: 
https://lab.dpdk.org/results/dashboard/preferences/subscriptions/