From mboxrd@z Thu Jan  1 00:00:00 1970
Return-Path: <test-report-bounces@dpdk.org>
Received: from mails.dpdk.org (mails.dpdk.org [217.70.189.124])
	by inbox.dpdk.org (Postfix) with ESMTP id 13D2B45547
	for <public@inbox.dpdk.org>; Tue,  2 Jul 2024 11:25:15 +0200 (CEST)
Received: from mails.dpdk.org (localhost [127.0.0.1])
	by mails.dpdk.org (Postfix) with ESMTP id 0FA6D427E0;
	Tue,  2 Jul 2024 11:25:15 +0200 (CEST)
Received: from mail-io1-f97.google.com (mail-io1-f97.google.com
 [209.85.166.97]) by mails.dpdk.org (Postfix) with ESMTP id 359A34065A
 for <test-report@dpdk.org>; Tue,  2 Jul 2024 11:25:13 +0200 (CEST)
Received: by mail-io1-f97.google.com with SMTP id
 ca18e2360f4ac-7f620f349f9so164977839f.0
 for <test-report@dpdk.org>; Tue, 02 Jul 2024 02:25:13 -0700 (PDT)
DKIM-Signature: v=1; a=rsa-sha256; c=relaxed/relaxed;
 d=iol.unh.edu; s=unh-iol; t=1719912312; x=1720517112; darn=dpdk.org;
 h=references:in-reply-to:cc:to:from:subject:message-id:date:from:to
 :cc:subject:date:message-id:reply-to;
 bh=I5sivNCSL36n3yCIsr9CqI1FptRxa2UTeaDOTFUIxUc=;
 b=UvXFH59BcyuEhLf4Oqe8Ob2+476ifUiN53OKcuUxqvH3YiYWJK1jtNa+wcfLd1GnWU
 5/18mKOmquUPTFbrIH7tD1XjxHtZwHjK8pYCNWPwhjM6FmIoC9/sFKrYh9MXZd4zk4gi
 GMsAmKmU+Qo3g7FYt++zljz6Ia2UAHzHpubaM=
X-Google-DKIM-Signature: v=1; a=rsa-sha256; c=relaxed/relaxed;
 d=1e100.net; s=20230601; t=1719912312; x=1720517112;
 h=references:in-reply-to:cc:to:from:subject:message-id:date
 :x-gm-message-state:from:to:cc:subject:date:message-id:reply-to;
 bh=I5sivNCSL36n3yCIsr9CqI1FptRxa2UTeaDOTFUIxUc=;
 b=E7MwVviDp2GLm8fU1EPji6zkobaZIJAfonrrvk7HNrZnlw+5oD6b2tsKSfP9AyQZ1P
 IvjCu2xDvnms3QIuqhceUgbQ0wvSeEbB6SXin9vJekPKtCUSVIDAoC+FcpDhgcyTiDlA
 Incfg4lZBkScBlvs+H0djxHDlGLIWNs3W2DjXg1MF1v/9RDfUe9UYOUNOR3C8lWaS0fe
 YTFJ2vx+c82dtPy7UWeG2yaGdQc4hpiAxB12LNrH7UObtKDUhNLUTB33hUcngXYGAVq6
 a6ETJ5TauWgWhNuc2C+mOOt3wd74kSMtuIXh3YCVxlPP/vPAIu6LigaTG4XKsAc3bdI2
 xo1w==
X-Gm-Message-State: AOJu0YzfQDVH2jF0iRhbuwm1YS5lWZCVLHRborQSjI9tYLKp9QrwZBqd
 7zVu+gmnnPpB2U/CkLPsx+MZ6W0K49c9fGKAOiBMBmOKxXSuIFnVe23C3N8vnFovF8V9gXrFBEo
 5//GDc8n7U5RCemQHtUkyQ2fKIvtYFSth7ncWHCL9OJcTURZLVxH1ew20
X-Google-Smtp-Source: AGHT+IHBmzem0gzyD6APSB3TT9OvYOrQwdEHfcmceeR/KLIE3K3XOzmPztWwY7DS7ukMcC8Yi8qhp9Q0MDX4
X-Received: by 2002:a6b:7a0d:0:b0:7f6:200a:ba8c with SMTP id
 ca18e2360f4ac-7f62ee16b25mr864977039f.1.1719912312560; 
 Tue, 02 Jul 2024 02:25:12 -0700 (PDT)
Received: from postal.iol.unh.edu (postal.iol.unh.edu.
 [2606:4100:3880:1234::84]) by smtp-relay.gmail.com with ESMTPS id
 8926c6da1cb9f-4bb73e27f3esm227645173.37.2024.07.02.02.25.12
 (version=TLS1_2 cipher=ECDHE-ECDSA-AES128-GCM-SHA256 bits=128/128);
 Tue, 02 Jul 2024 02:25:12 -0700 (PDT)
X-Relaying-Domain: iol.unh.edu
Date: Tue, 02 Jul 2024 02:25:12 -0700 (PDT)
Message-ID: <6683c778.050a0220.d2f73.0fbcSMTPIN_ADDED_MISSING@mx.google.com>
Received: from [172.21.0.8] (unknown [172.18.0.240])
 by postal.iol.unh.edu (Postfix) with ESMTP id 13EF56052500;
 Tue,  2 Jul 2024 05:25:12 -0400 (EDT)
Subject: |PENDING| pw142004-142006 [PATCH] [v5,3/3] bus/pci: fix secondary pr
From: dpdklab@iol.unh.edu
To: Test Report <test-report@dpdk.org>
Cc: dpdk-test-reports@iol.unh.edu
In-Reply-To: <20240702021946.4194102-4-chaoyong.he@corigine.com>
References: <20240702021946.4194102-4-chaoyong.he@corigine.com>
Content-Type: text/plain
X-BeenThere: test-report@dpdk.org
X-Mailman-Version: 2.1.29
Precedence: list
List-Id: automatic DPDK test reports <test-report.dpdk.org>
List-Unsubscribe: <https://mails.dpdk.org/options/test-report>,
 <mailto:test-report-request@dpdk.org?subject=unsubscribe>
List-Archive: <http://mails.dpdk.org/archives/test-report/>
List-Post: <mailto:test-report@dpdk.org>
List-Help: <mailto:test-report-request@dpdk.org?subject=help>
List-Subscribe: <https://mails.dpdk.org/listinfo/test-report>,
 <mailto:test-report-request@dpdk.org?subject=subscribe>
Errors-To: test-report-bounces@dpdk.org

Test-Label: iol-compile-amd64-testing
Test-Status: PENDING
http://dpdk.org/patch/142006

_Testing pending_

Submitter: Chaoyong He <chaoyong.he@corigine.com>
Date: Tuesday, July 02 2024 02:19:46 
DPDK git baseline: Repo:dpdk
  Branch: master
  CommitID:c15902587b538ff02cfb0fbb4dd481f1503d936b

142004-142006 --> testing pending

Test environment and result as below:

+---------------------+--------------------+----------------------+-------------------+------------------+-------------------+
|     Environment     | dpdk_meson_compile | dpdk_mingw64_compile | dpdk_msvc_compile | dpdk_compile_ovs | dpdk_compile_spdk |
+=====================+====================+======================+===================+==================+===================+
| Windows Server 2019 | PASS               | PASS                 | SKIPPED           | SKIPPED          | SKIPPED           |
+---------------------+--------------------+----------------------+-------------------+------------------+-------------------+
| Windows Server 2022 | PASS               | PASS                 | PASS              | SKIPPED          | SKIPPED           |
+---------------------+--------------------+----------------------+-------------------+------------------+-------------------+
| FreeBSD 13.3        | PASS               | SKIPPED              | SKIPPED           | SKIPPED          | SKIPPED           |
+---------------------+--------------------+----------------------+-------------------+------------------+-------------------+
| FreeBSD 14.1        | PASS               | SKIPPED              | SKIPPED           | SKIPPED          | SKIPPED           |
+---------------------+--------------------+----------------------+-------------------+------------------+-------------------+
| CentOS Stream 8     | PASS               | SKIPPED              | SKIPPED           | PASS             | PASS              |
+---------------------+--------------------+----------------------+-------------------+------------------+-------------------+
| CentOS Stream 9     | PASS               | SKIPPED              | SKIPPED           | PASS             | PASS              |
+---------------------+--------------------+----------------------+-------------------+------------------+-------------------+
| Debian Bullseye     | PASS               | SKIPPED              | SKIPPED           | PASS             | PASS              |
+---------------------+--------------------+----------------------+-------------------+------------------+-------------------+
| Debian 12           | PASS               | SKIPPED              | SKIPPED           | PASS             | PASS              |
+---------------------+--------------------+----------------------+-------------------+------------------+-------------------+
| Fedora 37           | PASS               | SKIPPED              | SKIPPED           | PASS             | PASS              |
+---------------------+--------------------+----------------------+-------------------+------------------+-------------------+
| Fedora 38 (Clang)   | PEND               | SKIPPED              | SKIPPED           | PEND             | PEND              |
+---------------------+--------------------+----------------------+-------------------+------------------+-------------------+
| Fedora 38           | PASS               | SKIPPED              | SKIPPED           | PASS             | PASS              |
+---------------------+--------------------+----------------------+-------------------+------------------+-------------------+
| Fedora 39 (Clang)   | PEND               | SKIPPED              | SKIPPED           | PEND             | PEND              |
+---------------------+--------------------+----------------------+-------------------+------------------+-------------------+
| Fedora 39           | PEND               | SKIPPED              | SKIPPED           | PEND             | PEND              |
+---------------------+--------------------+----------------------+-------------------+------------------+-------------------+
| Fedora 40 (Clang)   | PEND               | SKIPPED              | SKIPPED           | PEND             | PEND              |
+---------------------+--------------------+----------------------+-------------------+------------------+-------------------+
| Fedora 40           | PASS               | SKIPPED              | SKIPPED           | PASS             | PASS              |
+---------------------+--------------------+----------------------+-------------------+------------------+-------------------+
| openSUSE Leap 15    | PEND               | SKIPPED              | SKIPPED           | PEND             | SKIPPED           |
+---------------------+--------------------+----------------------+-------------------+------------------+-------------------+
| RHEL8               | PEND               | SKIPPED              | SKIPPED           | PEND             | SKIPPED           |
+---------------------+--------------------+----------------------+-------------------+------------------+-------------------+
| RHEL9               | PEND               | SKIPPED              | SKIPPED           | PEND             | SKIPPED           |
+---------------------+--------------------+----------------------+-------------------+------------------+-------------------+
| Ubuntu 20.04        | PEND               | SKIPPED              | SKIPPED           | PEND             | SKIPPED           |
+---------------------+--------------------+----------------------+-------------------+------------------+-------------------+
| Ubuntu 22.04        | PEND               | SKIPPED              | SKIPPED           | PEND             | PEND              |
+---------------------+--------------------+----------------------+-------------------+------------------+-------------------+
| Ubuntu 24.04        | PEND               | SKIPPED              | SKIPPED           | PEND             | PEND              |
+---------------------+--------------------+----------------------+-------------------+------------------+-------------------+
| Alpine              | PEND               | SKIPPED              | SKIPPED           | PEND             | SKIPPED           |
+---------------------+--------------------+----------------------+-------------------+------------------+-------------------+


Windows Server 2019
	Kernel: 10.0.17763
	Compiler: clang 14.0 and gcc 8.1.0 (MinGW)

Windows Server 2022
	Kernel: 10.0.20348.2031
	Compiler: clang 15.0.7, gcc 8.1.0 (MinGW), and MSVC VS 17.9

FreeBSD 13.3
	Kernel: 13.3-RELEASE-p1
	Compiler: clang 17.0.6

FreeBSD 14.1
	Kernel: 14.1
	Compiler: clang 18.1.5

CentOS Stream 8
	Kernel: 5.4.0-167-generic
	Compiler: gcc 8.5.0 20210514

CentOS Stream 9
	Kernel: 5.4.0-167-generic
	Compiler: gcc 11.4.1 20230605

Debian Bullseye
	Kernel: 5.4.0-167-generic
	Compiler: gcc 10.2.1-6

Debian 12
	Kernel: Container Host Kernel
	Compiler: gcc 12.2.0

Fedora 37
	Kernel: Depends on container host system
	Compiler: gcc 12.3.1

Fedora 38 (Clang)
	Kernel: Depends on container host
	Compiler: clang 16.0.6

Fedora 38
	Kernel: Depends on container host
	Compiler: gcc 13.2.1

Fedora 39 (Clang)
	Kernel: Depends on container host
	Compiler: clang 17.0.6

Fedora 39
	Kernel: Depends on container host
	Compiler: gcc 13.2.1

Fedora 40 (Clang)
	Kernel: Depends on container host
	Compiler: clang 18.1.6

Fedora 40
	Kernel: Depends on container host
	Compiler: gcc 14.1.1

openSUSE Leap 15
	Kernel: 5.4.0-167-generic
	Compiler: gcc 7.5.0

RHEL8
	Kernel: 5.4.0-167-generic
	Compiler: gcc 8.5.0 20210514 (Red Hat 8.5.0-20)

RHEL9
	Kernel: Depends on container host
	Compiler: gcc 11.4.1

Ubuntu 20.04
	Kernel: 5.4.0-167-generic
	Compiler: gcc 9.4.0-1ubuntu1~20.04.1

Ubuntu 22.04
	Kernel: 5.4.0-167-generic
	Compiler: gcc 11.4.0

Ubuntu 24.04
	Kernel: 5.4.0-167-generic
	Compiler: gcc 13.2.0

Alpine
	Kernel: 5.4.0-167-generic
	Compiler: gcc (Alpine 13.2.1_git20231014) 13.2.1 20231014

To view detailed results, visit:
https://lab.dpdk.org/results/dashboard/patchsets/30367/

UNH-IOL DPDK Community Lab

To manage your email subscriptions, visit: 
https://lab.dpdk.org/results/dashboard/preferences/subscriptions/