From mboxrd@z Thu Jan 1 00:00:00 1970 Return-Path: Received: from mails.dpdk.org (mails.dpdk.org [217.70.189.124]) by inbox.dpdk.org (Postfix) with ESMTP id BCF114554D for ; Tue, 2 Jul 2024 17:48:59 +0200 (CEST) Received: from mails.dpdk.org (localhost [127.0.0.1]) by mails.dpdk.org (Postfix) with ESMTP id B995240A6F; Tue, 2 Jul 2024 17:48:59 +0200 (CEST) Received: from mail-vk1-f227.google.com (mail-vk1-f227.google.com [209.85.221.227]) by mails.dpdk.org (Postfix) with ESMTP id 09146402AD for ; Tue, 2 Jul 2024 17:48:59 +0200 (CEST) Received: by mail-vk1-f227.google.com with SMTP id 71dfb90a1353d-4ef59e2c61aso1343654e0c.0 for ; Tue, 02 Jul 2024 08:48:58 -0700 (PDT) DKIM-Signature: v=1; a=rsa-sha256; c=relaxed/relaxed; d=iol.unh.edu; s=unh-iol; t=1719935338; x=1720540138; darn=dpdk.org; h=references:in-reply-to:cc:to:from:subject:message-id:date:from:to :cc:subject:date:message-id:reply-to; bh=tMct76QpWuD+cAAKm6GMme3QFpoNwxj/6bcTVuTWc48=; b=AwCPTP458udkKqEGLz1NYvqY+JcIDDn/oOmyHcWB5dfGvH4/8yD/g4FV5kv+4i+kkn WMYyi7C8c4T9STOpDt76aTlKJPFyXsyz3E+Qehb81fdADgumK2LtSBeoKKN0aVp4WHz1 UdWqZKneE0rSImAGk3gRBnJjxcV+jZcMUOgys= X-Google-DKIM-Signature: v=1; a=rsa-sha256; c=relaxed/relaxed; d=1e100.net; s=20230601; t=1719935338; x=1720540138; h=references:in-reply-to:cc:to:from:subject:message-id:date :x-gm-message-state:from:to:cc:subject:date:message-id:reply-to; bh=tMct76QpWuD+cAAKm6GMme3QFpoNwxj/6bcTVuTWc48=; b=OfNzjH3ppMTx+eMl2IEDxE6LHWFdu4FnTI6zkfC77q7VU+W43Zef0fw4oM3DM+giAd asEOeRwmPTurLnJsXrcnnJyHI9Q0E2prm2Y6CFx9A5OiS56LsneI16C66PSMBmN0qVtC BgEb5spFjoyukkhIXESorFHBYHRj2LuFm7MYmBxP/zOYV7gqorRTpJk2XCqKrLnFTwoo vVsY+2v0J755X2/LCJazskITONRU9PQGyeE2SRxjwA/TGI83nuEuQtMPNN46bgVgJCvc q0oKkw3xVvsohftaYIKfEkssWAEHl4C1q/4l6vOqCuSvwa5iR3aBnXSSXjmHvUY+vgQ+ +ing== X-Gm-Message-State: AOJu0YzdlVi9CVhsu6pd/9I4hMRhPZgBVxq6CKaQltmHYlThFC4jf2a+ Vec7fluvq+F9tDqZ1fIyQRpCwAjvk9Om+TnpekpQh6V/pfACOwgHtd+KjfK5WHfrjYja6ifzSAc 0JjzBjJekImTW8QTkOy51gMzX3a3n7E/jKKOvvXyUkvgu1oQbN4XCOIPf X-Google-Smtp-Source: AGHT+IHZm8xi/zRHvP13ZHLwntvP11RzPIbZrgjikuHhcO4I4UQL6RDKh4wjhsXwfwkaDHTEZhzIDB9r91xl X-Received: by 2002:a05:6122:3b8b:b0:4eb:1264:c8e5 with SMTP id 71dfb90a1353d-4f2a575fd32mr5964836e0c.15.1719935338402; Tue, 02 Jul 2024 08:48:58 -0700 (PDT) Received: from postal.iol.unh.edu (postal.iol.unh.edu. [2606:4100:3880:1234::84]) by smtp-relay.gmail.com with ESMTPS id af79cd13be357-79d69289da4sm12264285a.1.2024.07.02.08.48.58 (version=TLS1_2 cipher=ECDHE-ECDSA-AES128-GCM-SHA256 bits=128/128); Tue, 02 Jul 2024 08:48:58 -0700 (PDT) X-Relaying-Domain: iol.unh.edu Date: Tue, 02 Jul 2024 08:48:58 -0700 (PDT) Message-ID: <6684216a.050a0220.6d0b0.905aSMTPIN_ADDED_MISSING@mx.google.com> Received: from [172.21.0.7] (unknown [172.18.0.240]) by postal.iol.unh.edu (Postfix) with ESMTP id D55AA60526E2; Tue, 2 Jul 2024 11:48:57 -0400 (EDT) Subject: |PENDING| pw142014 [PATCH] [v6] net/i40e: support FEC feature From: dpdklab@iol.unh.edu To: Test Report Cc: dpdk-test-reports@iol.unh.edu In-Reply-To: <20240702084036.159834-1-zhichaox.zeng@intel.com> References: <20240702084036.159834-1-zhichaox.zeng@intel.com> Content-Type: text/plain X-BeenThere: test-report@dpdk.org X-Mailman-Version: 2.1.29 Precedence: list List-Id: automatic DPDK test reports List-Unsubscribe: , List-Archive: List-Post: List-Help: List-Subscribe: , Errors-To: test-report-bounces@dpdk.org Test-Label: iol-compile-amd64-testing Test-Status: PENDING http://dpdk.org/patch/142014 _Testing pending_ Submitter: Zhichao Zeng Date: Tuesday, July 02 2024 08:40:36 DPDK git baseline: Repo:dpdk Branch: master CommitID:47768aac18d7d90d7df29d9d25bbc362c7b4da60 142014 --> testing pending Test environment and result as below: +---------------------+--------------------+----------------------+-------------------+------------------+-------------------+ | Environment | dpdk_meson_compile | dpdk_mingw64_compile | dpdk_msvc_compile | dpdk_compile_ovs | dpdk_compile_spdk | +=====================+====================+======================+===================+==================+===================+ | Windows Server 2019 | PASS | PASS | SKIPPED | SKIPPED | SKIPPED | +---------------------+--------------------+----------------------+-------------------+------------------+-------------------+ | Windows Server 2022 | PASS | PASS | PASS | SKIPPED | SKIPPED | +---------------------+--------------------+----------------------+-------------------+------------------+-------------------+ | FreeBSD 13.3 | PASS | SKIPPED | SKIPPED | SKIPPED | SKIPPED | +---------------------+--------------------+----------------------+-------------------+------------------+-------------------+ | FreeBSD 14.1 | PASS | SKIPPED | SKIPPED | SKIPPED | SKIPPED | +---------------------+--------------------+----------------------+-------------------+------------------+-------------------+ | CentOS Stream 8 | PASS | SKIPPED | SKIPPED | PASS | PASS | +---------------------+--------------------+----------------------+-------------------+------------------+-------------------+ | CentOS Stream 9 | PASS | SKIPPED | SKIPPED | PASS | PASS | +---------------------+--------------------+----------------------+-------------------+------------------+-------------------+ | Debian Bullseye | PASS | SKIPPED | SKIPPED | PASS | PASS | +---------------------+--------------------+----------------------+-------------------+------------------+-------------------+ | Debian 12 | PASS | SKIPPED | SKIPPED | PASS | PASS | +---------------------+--------------------+----------------------+-------------------+------------------+-------------------+ | Fedora 37 | PEND | SKIPPED | SKIPPED | PEND | PEND | +---------------------+--------------------+----------------------+-------------------+------------------+-------------------+ | Fedora 38 (Clang) | PEND | SKIPPED | SKIPPED | PEND | PEND | +---------------------+--------------------+----------------------+-------------------+------------------+-------------------+ | Fedora 38 | PEND | SKIPPED | SKIPPED | PEND | PEND | +---------------------+--------------------+----------------------+-------------------+------------------+-------------------+ | Fedora 39 (Clang) | PEND | SKIPPED | SKIPPED | PEND | PEND | +---------------------+--------------------+----------------------+-------------------+------------------+-------------------+ | Fedora 39 | PEND | SKIPPED | SKIPPED | PEND | PEND | +---------------------+--------------------+----------------------+-------------------+------------------+-------------------+ | Fedora 40 (Clang) | PEND | SKIPPED | SKIPPED | PEND | PEND | +---------------------+--------------------+----------------------+-------------------+------------------+-------------------+ | Fedora 40 | PEND | SKIPPED | SKIPPED | PEND | PEND | +---------------------+--------------------+----------------------+-------------------+------------------+-------------------+ | openSUSE Leap 15 | PEND | SKIPPED | SKIPPED | PEND | SKIPPED | +---------------------+--------------------+----------------------+-------------------+------------------+-------------------+ | RHEL8 | PEND | SKIPPED | SKIPPED | PEND | SKIPPED | +---------------------+--------------------+----------------------+-------------------+------------------+-------------------+ | RHEL9 | PEND | SKIPPED | SKIPPED | PEND | SKIPPED | +---------------------+--------------------+----------------------+-------------------+------------------+-------------------+ | Ubuntu 20.04 | PEND | SKIPPED | SKIPPED | PEND | SKIPPED | +---------------------+--------------------+----------------------+-------------------+------------------+-------------------+ | Ubuntu 22.04 | PEND | SKIPPED | SKIPPED | PEND | PEND | +---------------------+--------------------+----------------------+-------------------+------------------+-------------------+ | Ubuntu 24.04 | PEND | SKIPPED | SKIPPED | PEND | PEND | +---------------------+--------------------+----------------------+-------------------+------------------+-------------------+ | Alpine | PEND | SKIPPED | SKIPPED | PEND | SKIPPED | +---------------------+--------------------+----------------------+-------------------+------------------+-------------------+ Windows Server 2019 Kernel: 10.0.17763 Compiler: clang 14.0 and gcc 8.1.0 (MinGW) Windows Server 2022 Kernel: 10.0.20348.2031 Compiler: clang 15.0.7, gcc 8.1.0 (MinGW), and MSVC VS 17.9 FreeBSD 13.3 Kernel: 13.3-RELEASE-p1 Compiler: clang 17.0.6 FreeBSD 14.1 Kernel: 14.1 Compiler: clang 18.1.5 CentOS Stream 8 Kernel: 5.4.0-167-generic Compiler: gcc 8.5.0 20210514 CentOS Stream 9 Kernel: 5.4.0-167-generic Compiler: gcc 11.4.1 20230605 Debian Bullseye Kernel: 5.4.0-167-generic Compiler: gcc 10.2.1-6 Debian 12 Kernel: Container Host Kernel Compiler: gcc 12.2.0 Fedora 37 Kernel: Depends on container host system Compiler: gcc 12.3.1 Fedora 38 (Clang) Kernel: Depends on container host Compiler: clang 16.0.6 Fedora 38 Kernel: Depends on container host Compiler: gcc 13.2.1 Fedora 39 (Clang) Kernel: Depends on container host Compiler: clang 17.0.6 Fedora 39 Kernel: Depends on container host Compiler: gcc 13.2.1 Fedora 40 (Clang) Kernel: Depends on container host Compiler: clang 18.1.6 Fedora 40 Kernel: Depends on container host Compiler: gcc 14.1.1 openSUSE Leap 15 Kernel: 5.4.0-167-generic Compiler: gcc 7.5.0 RHEL8 Kernel: 5.4.0-167-generic Compiler: gcc 8.5.0 20210514 (Red Hat 8.5.0-20) RHEL9 Kernel: Depends on container host Compiler: gcc 11.4.1 Ubuntu 20.04 Kernel: 5.4.0-167-generic Compiler: gcc 9.4.0-1ubuntu1~20.04.1 Ubuntu 22.04 Kernel: 5.4.0-167-generic Compiler: gcc 11.4.0 Ubuntu 24.04 Kernel: 5.4.0-167-generic Compiler: gcc 13.2.0 Alpine Kernel: 5.4.0-167-generic Compiler: gcc (Alpine 13.2.1_git20231014) 13.2.1 20231014 To view detailed results, visit: https://lab.dpdk.org/results/dashboard/patchsets/30373/ UNH-IOL DPDK Community Lab To manage your email subscriptions, visit: https://lab.dpdk.org/results/dashboard/preferences/subscriptions/