From mboxrd@z Thu Jan  1 00:00:00 1970
Return-Path: <test-report-bounces@dpdk.org>
Received: from mails.dpdk.org (mails.dpdk.org [217.70.189.124])
	by inbox.dpdk.org (Postfix) with ESMTP id 290B845551
	for <public@inbox.dpdk.org>; Tue,  2 Jul 2024 22:53:45 +0200 (CEST)
Received: from mails.dpdk.org (localhost [127.0.0.1])
	by mails.dpdk.org (Postfix) with ESMTP id 26D2F40665;
	Tue,  2 Jul 2024 22:53:45 +0200 (CEST)
Received: from mail-il1-f228.google.com (mail-il1-f228.google.com
 [209.85.166.228])
 by mails.dpdk.org (Postfix) with ESMTP id BEF59402D8
 for <test-report@dpdk.org>; Tue,  2 Jul 2024 22:53:43 +0200 (CEST)
Received: by mail-il1-f228.google.com with SMTP id
 e9e14a558f8ab-37613975e20so19237345ab.2
 for <test-report@dpdk.org>; Tue, 02 Jul 2024 13:53:43 -0700 (PDT)
DKIM-Signature: v=1; a=rsa-sha256; c=relaxed/relaxed;
 d=iol.unh.edu; s=unh-iol; t=1719953623; x=1720558423; darn=dpdk.org;
 h=references:in-reply-to:cc:to:from:subject:message-id:date:from:to
 :cc:subject:date:message-id:reply-to;
 bh=Oxyy195v64MAdV1Y8BUvRQisipXybIW+0mOASBGK7MQ=;
 b=dpMJ0c7rHgO1ELkahAgn2dlTaIaUIjtktOiWUUWinn+Oh5pWLUrfiWnUsxaxXcsOiO
 sv8CDzD2bYp55/fBY8MoJuRx2mPF8B7d15p7LjO7JMxMpc6q1Oqo3lnMAf55sGmsHsSE
 yXOmlEB7ESwEdCtWxf+2PXQvZlmwStRZ3zfLc=
X-Google-DKIM-Signature: v=1; a=rsa-sha256; c=relaxed/relaxed;
 d=1e100.net; s=20230601; t=1719953623; x=1720558423;
 h=references:in-reply-to:cc:to:from:subject:message-id:date
 :x-gm-message-state:from:to:cc:subject:date:message-id:reply-to;
 bh=Oxyy195v64MAdV1Y8BUvRQisipXybIW+0mOASBGK7MQ=;
 b=ku3uDhvY5EDBN1IsU+slLWy6Oh2mCObXzAI20JqhifU/tpWYxahCJfkCdgRNau/s1T
 MGPx7qvNYgt00euSQLu6ojxDK05+E9lbnFQlyfZRnxRo98DiLHmH+Clq+j63cUBE4RU7
 iX8vlB333pD0ZNzsPSUaMcBPfiyUxqAcCyqgJCjHr7ZaZbKORpr9nNAJu58l9Q1KfC7G
 yr/sGT0ZBHhzUUgMXA894OpRqrIPgtoR/9UV8pXLQbJKwUGYHq3S9clwyjTq3wISjluu
 MX2piv3xQiTPmCNjGG1m0seVobqU1USRE3aG/lfMBvOMWzdxYPFC5kNL0OJ+F7Bc22sI
 3X9Q==
X-Gm-Message-State: AOJu0YwnMeqM4h66vG3ciCvddPcNqrIzuqLO4mRNIRPN93+L3fCpMps/
 LffPZthc50ftZ1QyjsjUwH+wKMTdhECHvNY5v8NydFASaAEr4uLRqRwJHUZe36yygNxXzala5qH
 gM7gtRD97++ywqNgQY4RDWaxWAzt0qwA6QxThzgo1rVh7oL6VOlFVFKaO
X-Google-Smtp-Source: AGHT+IFU+AboX3sOxHbC2kavEy1h/jb/A3Q8iMl9VDluJQ3x3mkGU2eoIswmKggdVcic6/yCHAD67o1p0jXW
X-Received: by 2002:a05:6e02:16cb:b0:375:a185:f00f with SMTP id
 e9e14a558f8ab-37cd31b75b9mr139432085ab.22.1719953623167; 
 Tue, 02 Jul 2024 13:53:43 -0700 (PDT)
Received: from postal.iol.unh.edu (postal.iol.unh.edu.
 [2606:4100:3880:1234::84]) by smtp-relay.gmail.com with ESMTPS id
 e9e14a558f8ab-37ad483af1csm4663475ab.77.2024.07.02.13.53.43
 (version=TLS1_2 cipher=ECDHE-ECDSA-AES128-GCM-SHA256 bits=128/128);
 Tue, 02 Jul 2024 13:53:43 -0700 (PDT)
X-Relaying-Domain: iol.unh.edu
Date: Tue, 02 Jul 2024 13:53:43 -0700 (PDT)
Message-ID: <668468d7.050a0220.58cf0.42f8SMTPIN_ADDED_MISSING@mx.google.com>
Received: from [172.21.0.7] (unknown [172.18.0.240])
 by postal.iol.unh.edu (Postfix) with ESMTP id A352260526E2;
 Tue,  2 Jul 2024 16:53:42 -0400 (EDT)
Subject: |PENDING| pw142017-142018 [PATCH] [v2,2/2] drivers: replace printf w
From: dpdklab@iol.unh.edu
To: Test Report <test-report@dpdk.org>
Cc: dpdk-test-reports@iol.unh.edu
In-Reply-To: <20240702104013.3813272-2-hemant.agrawal@nxp.com>
References: <20240702104013.3813272-2-hemant.agrawal@nxp.com>
Content-Type: text/plain
X-BeenThere: test-report@dpdk.org
X-Mailman-Version: 2.1.29
Precedence: list
List-Id: automatic DPDK test reports <test-report.dpdk.org>
List-Unsubscribe: <https://mails.dpdk.org/options/test-report>,
 <mailto:test-report-request@dpdk.org?subject=unsubscribe>
List-Archive: <http://mails.dpdk.org/archives/test-report/>
List-Post: <mailto:test-report@dpdk.org>
List-Help: <mailto:test-report-request@dpdk.org?subject=help>
List-Subscribe: <https://mails.dpdk.org/listinfo/test-report>,
 <mailto:test-report-request@dpdk.org?subject=subscribe>
Errors-To: test-report-bounces@dpdk.org

Test-Label: iol-compile-amd64-testing
Test-Status: PENDING
http://dpdk.org/patch/142018

_Testing pending_

Submitter: Hemant Agrawal <hemant.agrawal@nxp.com>
Date: Tuesday, July 02 2024 10:40:13 
DPDK git baseline: Repo:dpdk
  Branch: master
  CommitID:c15902587b538ff02cfb0fbb4dd481f1503d936b

142017-142018 --> testing pending

Test environment and result as below:

+---------------------+--------------------+----------------------+-------------------+
|     Environment     | dpdk_meson_compile | dpdk_mingw64_compile | dpdk_msvc_compile |
+=====================+====================+======================+===================+
| Windows Server 2022 | PASS               | PEND                 | PEND              |
+---------------------+--------------------+----------------------+-------------------+
| FreeBSD 13.3        | PASS               | SKIPPED              | SKIPPED           |
+---------------------+--------------------+----------------------+-------------------+
| FreeBSD 14.1        | PASS               | SKIPPED              | SKIPPED           |
+---------------------+--------------------+----------------------+-------------------+


Windows Server 2022
	Kernel: 10.0.20348.2031
	Compiler: clang 15.0.7, gcc 8.1.0 (MinGW), and MSVC VS 17.9

FreeBSD 13.3
	Kernel: 13.3-RELEASE-p1
	Compiler: clang 17.0.6

FreeBSD 14.1
	Kernel: 14.1
	Compiler: clang 18.1.5

To view detailed results, visit:
https://lab.dpdk.org/results/dashboard/patchsets/30376/

UNH-IOL DPDK Community Lab

To manage your email subscriptions, visit: 
https://lab.dpdk.org/results/dashboard/preferences/subscriptions/