From mboxrd@z Thu Jan  1 00:00:00 1970
Return-Path: <test-report-bounces@dpdk.org>
Received: from mails.dpdk.org (mails.dpdk.org [217.70.189.124])
	by inbox.dpdk.org (Postfix) with ESMTP id BDF4345551
	for <public@inbox.dpdk.org>; Tue,  2 Jul 2024 23:11:11 +0200 (CEST)
Received: from mails.dpdk.org (localhost [127.0.0.1])
	by mails.dpdk.org (Postfix) with ESMTP id B898540665;
	Tue,  2 Jul 2024 23:11:11 +0200 (CEST)
Received: from mail-qv1-f98.google.com (mail-qv1-f98.google.com
 [209.85.219.98]) by mails.dpdk.org (Postfix) with ESMTP id 110CF402D8
 for <test-report@dpdk.org>; Tue,  2 Jul 2024 23:11:10 +0200 (CEST)
Received: by mail-qv1-f98.google.com with SMTP id
 6a1803df08f44-6b5d6ba7c90so5602086d6.1
 for <test-report@dpdk.org>; Tue, 02 Jul 2024 14:11:10 -0700 (PDT)
DKIM-Signature: v=1; a=rsa-sha256; c=relaxed/relaxed;
 d=iol.unh.edu; s=unh-iol; t=1719954669; x=1720559469; darn=dpdk.org;
 h=references:in-reply-to:cc:to:from:subject:message-id:date:from:to
 :cc:subject:date:message-id:reply-to;
 bh=jyXDwDdeKkbSLis0Pw/9MVTFntgJSB1LFo+TdxjXf/c=;
 b=jL66aXL/45FuW9qEL9xD/7cZ0PZQLeS1lazuCVLlT4QEkOVLFP3NEQlZyaXv4f8fGw
 OumsiMrlewNLZkn5i9IsYjpyfn31VcuGJyBOQYyk6ToG9LkrjTzbWWZTWQXoPUumgbMe
 oiV5M9GE14Yd0IZbcvEwc/FqlIVDebswl5zdQ=
X-Google-DKIM-Signature: v=1; a=rsa-sha256; c=relaxed/relaxed;
 d=1e100.net; s=20230601; t=1719954669; x=1720559469;
 h=references:in-reply-to:cc:to:from:subject:message-id:date
 :x-gm-message-state:from:to:cc:subject:date:message-id:reply-to;
 bh=jyXDwDdeKkbSLis0Pw/9MVTFntgJSB1LFo+TdxjXf/c=;
 b=dlCbfjwSyGestM4ugoyiLv1mByeHbqkq/nS7A9Cb1O2FJhvCbwOA96MJCtYK6vrJ3N
 qohRm9ceLmEbSXd/7uaWuErunATVLPoyXBmybfJb222yotbarhnC3Hrq0kgeh1f+exbr
 A/r9TFyzKIbRazpXByCMXzR0USU4uLI+eacx23IKcW0te316xNEw2r8T7Omu8fRhLS14
 HJOxyyVxGGNmoVOvq2b3YmsPM+ROx4VLCL/nNZrrWs+yb7EiNG/K2SxdMI9RqHQNlkSw
 GlQ4IJssCGkfUZ84y74GQle/5Xh2kwr4Q3aTRMtCpIfqC1D4Zxy+zEIy9m/rQ63hSh13
 jeSg==
X-Gm-Message-State: AOJu0YyiPQsr8hPMmGH5DzRP97LYLnJ/0mYhwSoQe+7Savjd8aI1SeZr
 e2LcXFjXYxKEOsKOSZp3/loowdKfpKKr8JXid/UiTMcxfg72nFnuT4TPiKvTU/tbu+1GSSGacfP
 /4pDrSWlOMHK70sEkojCvl1MrwedsmRtzN8IUtslj
X-Google-Smtp-Source: AGHT+IHJvkMdh/PNaTirk5+xNQlqHLvpSFd8BAPFuSC9NbUQbniVeAA3yxhMRqDHhBFGEvzI2tpRN7FHG9Ut
X-Received: by 2002:a05:6214:212e:b0:6b0:81c8:9f5e with SMTP id
 6a1803df08f44-6b5b716a378mr129415256d6.40.1719954669486; 
 Tue, 02 Jul 2024 14:11:09 -0700 (PDT)
Received: from postal.iol.unh.edu (postal.iol.unh.edu. [132.177.123.84])
 by smtp-relay.gmail.com with ESMTPS id
 6a1803df08f44-6b59e577349sm4718996d6.46.2024.07.02.14.11.09
 (version=TLS1_2 cipher=ECDHE-ECDSA-AES128-GCM-SHA256 bits=128/128);
 Tue, 02 Jul 2024 14:11:09 -0700 (PDT)
X-Relaying-Domain: iol.unh.edu
Date: Tue, 02 Jul 2024 14:11:09 -0700 (PDT)
Message-ID: <66846ced.d40a0220.b5485.3419SMTPIN_ADDED_MISSING@mx.google.com>
Received: from [172.17.0.3] (unknown [172.18.0.217])
 by postal.iol.unh.edu (Postfix) with ESMTP id 25DD160526E2;
 Tue,  2 Jul 2024 17:11:09 -0400 (EDT)
Subject: |PENDING| pw142017-142018 [PATCH] [v2,2/2] drivers: replace printf w
From: dpdklab@iol.unh.edu
To: Test Report <test-report@dpdk.org>
Cc: dpdk-test-reports@iol.unh.edu
In-Reply-To: <20240702104013.3813272-2-hemant.agrawal@nxp.com>
References: <20240702104013.3813272-2-hemant.agrawal@nxp.com>
Content-Type: text/plain
X-BeenThere: test-report@dpdk.org
X-Mailman-Version: 2.1.29
Precedence: list
List-Id: automatic DPDK test reports <test-report.dpdk.org>
List-Unsubscribe: <https://mails.dpdk.org/options/test-report>,
 <mailto:test-report-request@dpdk.org?subject=unsubscribe>
List-Archive: <http://mails.dpdk.org/archives/test-report/>
List-Post: <mailto:test-report@dpdk.org>
List-Help: <mailto:test-report-request@dpdk.org?subject=help>
List-Subscribe: <https://mails.dpdk.org/listinfo/test-report>,
 <mailto:test-report-request@dpdk.org?subject=subscribe>
Errors-To: test-report-bounces@dpdk.org

Test-Label: iol-abi-testing
Test-Status: PENDING
http://dpdk.org/patch/142018

_Testing pending_

Submitter: Hemant Agrawal <hemant.agrawal@nxp.com>
Date: Tuesday, July 02 2024 10:40:13 
DPDK git baseline: Repo:dpdk
  Branch: master
  CommitID:c15902587b538ff02cfb0fbb4dd481f1503d936b

142017-142018 --> testing pending

Test environment and result as below:

+-------------------+----------+
|    Environment    | abi_test |
+===================+==========+
| CentOS Stream 8   | PASS     |
+-------------------+----------+
| Debian 12         | PASS     |
+-------------------+----------+
| CentOS Stream 9   | PASS     |
+-------------------+----------+
| Debian Bullseye   | PASS     |
+-------------------+----------+
| Fedora 40         | PEND     |
+-------------------+----------+
| Fedora 38         | PASS     |
+-------------------+----------+
| Fedora 39 (Clang) | PASS     |
+-------------------+----------+
| Fedora 38 (Clang) | PASS     |
+-------------------+----------+
| RHEL8             | PEND     |
+-------------------+----------+
| Fedora 39         | PASS     |
+-------------------+----------+
| Fedora 40 (Clang) | PASS     |
+-------------------+----------+
| Ubuntu 24.04      | PEND     |
+-------------------+----------+
| openSUSE Leap 15  | PASS     |
+-------------------+----------+
| RHEL9             | PASS     |
+-------------------+----------+
| Ubuntu 22.04      | PASS     |
+-------------------+----------+
| Fedora 37         | PEND     |
+-------------------+----------+


CentOS Stream 8
	Kernel: 5.4.0-167-generic
	Compiler: gcc 8.5.0 20210514

Debian 12
	Kernel: Container Host Kernel
	Compiler: gcc 12.2.0

CentOS Stream 9
	Kernel: 5.4.0-167-generic
	Compiler: gcc 11.4.1 20230605

Debian Bullseye
	Kernel: 5.4.0-167-generic
	Compiler: gcc 10.2.1-6

Fedora 40
	Kernel: Depends on container host
	Compiler: gcc 14.1.1

Fedora 38
	Kernel: Depends on container host
	Compiler: gcc 13.2.1

Fedora 39 (Clang)
	Kernel: Depends on container host
	Compiler: clang 17.0.6

Fedora 38 (Clang)
	Kernel: Depends on container host
	Compiler: clang 16.0.6

RHEL8
	Kernel: 5.4.0-167-generic
	Compiler: gcc 8.5.0 20210514 (Red Hat 8.5.0-20)

Fedora 39
	Kernel: Depends on container host
	Compiler: gcc 13.2.1

Fedora 40 (Clang)
	Kernel: Depends on container host
	Compiler: clang 18.1.6

Ubuntu 24.04
	Kernel: 5.4.0-167-generic
	Compiler: gcc 13.2.0

openSUSE Leap 15
	Kernel: 5.4.0-167-generic
	Compiler: gcc 7.5.0

RHEL9
	Kernel: Depends on container host
	Compiler: gcc 11.4.1

Ubuntu 22.04
	Kernel: 5.4.0-167-generic
	Compiler: gcc 11.4.0

Fedora 37
	Kernel: Depends on container host system
	Compiler: gcc 12.3.1

To view detailed results, visit:
https://lab.dpdk.org/results/dashboard/patchsets/30376/

UNH-IOL DPDK Community Lab

To manage your email subscriptions, visit: 
https://lab.dpdk.org/results/dashboard/preferences/subscriptions/