From mboxrd@z Thu Jan  1 00:00:00 1970
Return-Path: <test-report-bounces@dpdk.org>
Received: from mails.dpdk.org (mails.dpdk.org [217.70.189.124])
	by inbox.dpdk.org (Postfix) with ESMTP id BF8F845512
	for <public@inbox.dpdk.org>; Wed,  3 Jul 2024 02:11:29 +0200 (CEST)
Received: from mails.dpdk.org (localhost [127.0.0.1])
	by mails.dpdk.org (Postfix) with ESMTP id BAB05402C5;
	Wed,  3 Jul 2024 02:11:29 +0200 (CEST)
Received: from mail-yw1-f228.google.com (mail-yw1-f228.google.com
 [209.85.128.228])
 by mails.dpdk.org (Postfix) with ESMTP id 3329B4003C
 for <test-report@dpdk.org>; Wed,  3 Jul 2024 02:11:29 +0200 (CEST)
Received: by mail-yw1-f228.google.com with SMTP id
 00721157ae682-650cef35de3so8134337b3.1
 for <test-report@dpdk.org>; Tue, 02 Jul 2024 17:11:29 -0700 (PDT)
DKIM-Signature: v=1; a=rsa-sha256; c=relaxed/relaxed;
 d=iol.unh.edu; s=unh-iol; t=1719965488; x=1720570288; darn=dpdk.org;
 h=references:in-reply-to:cc:to:from:subject:message-id:date:from:to
 :cc:subject:date:message-id:reply-to;
 bh=ulIfN4fmOK6J8A1NjZ9OJr1QTYzQyypFsDPecFUmPs8=;
 b=Uxs3o5MSHmlkE7TYoGidwjw6Jjta34dNMETpypsSgCx9szrRzk49U3gDj/4ksYcVE0
 AgT7Z8o7S0a+HFll+ZZEKBphnxSS3FPX8+iA6WCK5J79vTRDDm6DAqXwgCCniAKr825s
 pJAbziLljqHdS7wZ6L2Qf1zGpeFnv5CLyWHMM=
X-Google-DKIM-Signature: v=1; a=rsa-sha256; c=relaxed/relaxed;
 d=1e100.net; s=20230601; t=1719965488; x=1720570288;
 h=references:in-reply-to:cc:to:from:subject:message-id:date
 :x-gm-message-state:from:to:cc:subject:date:message-id:reply-to;
 bh=ulIfN4fmOK6J8A1NjZ9OJr1QTYzQyypFsDPecFUmPs8=;
 b=RKkQmZf+F2sHc3juaXC2KmngCL7jbp3cAK1cu03uap8zCFriUfniva2mW53mr6jXQy
 YTsJjj7YpXLWo353BfULToQkhSYRIG2gR5h6mwKcaFODFrWGx1LpbsuANDvfOjzqRpQe
 68wWLpTTYFQDgGhj+V1I2kfKnMYkkL+ziW/gKysD74nS5NLNqda2Dac7GZgOncQ8Ac5/
 EhF0b+zsK9fWm9zQgQmzh3Ifyyt1/UyXyj7DcTSW+5cxp2CtoMCooPuQtCY009MjsvH8
 D1WrQ10Nw/VWSSuukx9VewhxRo/w1MeDNYii9Bjlxu6QA+HfNedIIfxtRFVk+vwLBrJH
 5Fiw==
X-Gm-Message-State: AOJu0YzDPOmJ0i5WzizVACgaWY746Z+b95/LNbaAstM8nAqtJpPxv/67
 +01j5KhUQi6dcXV7lSYtXnXjivSBWIFpV0wic5GWw4Tjg59JDQOpqm9VSC5QsJiH2I7t0RIuhqP
 er8soq80KTKJ1xW3a1YeOkhdiUlaO8pbF4vfCi5Ne
X-Google-Smtp-Source: AGHT+IFZmJnIvkwxcFXTtdwUNRhCBPfbgrjCryd2ubsudcLod/Ox9H5pSePUz+BEUoUw1Km/TUG8rb6rbp/D
X-Received: by 2002:a05:690c:d06:b0:62c:c684:b1e1 with SMTP id
 00721157ae682-64c71ecc192mr115188017b3.29.1719965488482; 
 Tue, 02 Jul 2024 17:11:28 -0700 (PDT)
Received: from postal.iol.unh.edu (postal.iol.unh.edu. [132.177.123.84])
 by smtp-relay.gmail.com with ESMTPS id
 6a1803df08f44-6b59e367713sm5180446d6.16.2024.07.02.17.11.28
 (version=TLS1_2 cipher=ECDHE-ECDSA-AES128-GCM-SHA256 bits=128/128);
 Tue, 02 Jul 2024 17:11:28 -0700 (PDT)
X-Relaying-Domain: iol.unh.edu
Date: Tue, 02 Jul 2024 17:11:28 -0700 (PDT)
Message-ID: <66849730.d40a0220.9fec4.b596SMTPIN_ADDED_MISSING@mx.google.com>
Received: from [172.21.0.8] (unknown [172.18.0.240])
 by postal.iol.unh.edu (Postfix) with ESMTP id 2D23960526E2;
 Tue,  2 Jul 2024 20:11:28 -0400 (EDT)
Subject: |PENDING| pw142027-142041 [PATCH] [15/15] net/ena: upgrade driver ve
From: dpdklab@iol.unh.edu
To: Test Report <test-report@dpdk.org>
Cc: dpdk-test-reports@iol.unh.edu
In-Reply-To: <20240702144626.14545-16-shaibran@amazon.com>
References: <20240702144626.14545-16-shaibran@amazon.com>
Content-Type: text/plain
X-BeenThere: test-report@dpdk.org
X-Mailman-Version: 2.1.29
Precedence: list
List-Id: automatic DPDK test reports <test-report.dpdk.org>
List-Unsubscribe: <https://mails.dpdk.org/options/test-report>,
 <mailto:test-report-request@dpdk.org?subject=unsubscribe>
List-Archive: <http://mails.dpdk.org/archives/test-report/>
List-Post: <mailto:test-report@dpdk.org>
List-Help: <mailto:test-report-request@dpdk.org?subject=help>
List-Subscribe: <https://mails.dpdk.org/listinfo/test-report>,
 <mailto:test-report-request@dpdk.org?subject=subscribe>
Errors-To: test-report-bounces@dpdk.org

Test-Label: iol-abi-testing
Test-Status: PENDING
http://dpdk.org/patch/142041

_Testing pending_

Submitter: Brandes, Shai <shaibran@amazon.com>
Date: Tuesday, July 02 2024 14:46:26 
DPDK git baseline: Repo:dpdk
  Branch: master
  CommitID:fbba6db3640f9f623c29c452e1a6b057073e81d2

142027-142041 --> testing pending

Test environment and result as below:

+-------------------+----------+
|    Environment    | abi_test |
+===================+==========+
| CentOS Stream 8   | PASS     |
+-------------------+----------+
| CentOS Stream 9   | PASS     |
+-------------------+----------+
| Debian Bullseye   | PASS     |
+-------------------+----------+
| Debian 12         | PASS     |
+-------------------+----------+
| Fedora 38 (Clang) | PASS     |
+-------------------+----------+
| Fedora 37         | PASS     |
+-------------------+----------+
| Fedora 39 (Clang) | PASS     |
+-------------------+----------+
| Fedora 40 (Clang) | PASS     |
+-------------------+----------+
| Fedora 39         | PEND     |
+-------------------+----------+
| openSUSE Leap 15  | PEND     |
+-------------------+----------+
| Fedora 40         | PEND     |
+-------------------+----------+
| RHEL9             | PEND     |
+-------------------+----------+
| RHEL8             | PEND     |
+-------------------+----------+
| Ubuntu 22.04      | PEND     |
+-------------------+----------+
| Ubuntu 24.04      | PEND     |
+-------------------+----------+


CentOS Stream 8
	Kernel: 5.4.0-167-generic
	Compiler: gcc 8.5.0 20210514

CentOS Stream 9
	Kernel: 5.4.0-167-generic
	Compiler: gcc 11.4.1 20230605

Debian Bullseye
	Kernel: 5.4.0-167-generic
	Compiler: gcc 10.2.1-6

Debian 12
	Kernel: Container Host Kernel
	Compiler: gcc 12.2.0

Fedora 38 (Clang)
	Kernel: Depends on container host
	Compiler: clang 16.0.6

Fedora 37
	Kernel: Depends on container host system
	Compiler: gcc 12.3.1

Fedora 39 (Clang)
	Kernel: Depends on container host
	Compiler: clang 17.0.6

Fedora 40 (Clang)
	Kernel: Depends on container host
	Compiler: clang 18.1.6

Fedora 39
	Kernel: Depends on container host
	Compiler: gcc 13.2.1

openSUSE Leap 15
	Kernel: 5.4.0-167-generic
	Compiler: gcc 7.5.0

Fedora 40
	Kernel: Depends on container host
	Compiler: gcc 14.1.1

RHEL9
	Kernel: Depends on container host
	Compiler: gcc 11.4.1

RHEL8
	Kernel: 5.4.0-167-generic
	Compiler: gcc 8.5.0 20210514 (Red Hat 8.5.0-20)

Ubuntu 22.04
	Kernel: 5.4.0-167-generic
	Compiler: gcc 11.4.0

Ubuntu 24.04
	Kernel: 5.4.0-167-generic
	Compiler: gcc 13.2.0

To view detailed results, visit:
https://lab.dpdk.org/results/dashboard/patchsets/30381/

UNH-IOL DPDK Community Lab

To manage your email subscriptions, visit: 
https://lab.dpdk.org/results/dashboard/preferences/subscriptions/