From mboxrd@z Thu Jan  1 00:00:00 1970
Return-Path: <test-report-bounces@dpdk.org>
Received: from mails.dpdk.org (mails.dpdk.org [217.70.189.124])
	by inbox.dpdk.org (Postfix) with ESMTP id 206B045555
	for <public@inbox.dpdk.org>; Wed,  3 Jul 2024 07:06:44 +0200 (CEST)
Received: from mails.dpdk.org (localhost [127.0.0.1])
	by mails.dpdk.org (Postfix) with ESMTP id 1D2BC4025E;
	Wed,  3 Jul 2024 07:06:44 +0200 (CEST)
Received: from mail-il1-f227.google.com (mail-il1-f227.google.com
 [209.85.166.227])
 by mails.dpdk.org (Postfix) with ESMTP id 3E2284003C
 for <test-report@dpdk.org>; Wed,  3 Jul 2024 07:06:43 +0200 (CEST)
Received: by mail-il1-f227.google.com with SMTP id
 e9e14a558f8ab-376266a65c8so20341255ab.3
 for <test-report@dpdk.org>; Tue, 02 Jul 2024 22:06:43 -0700 (PDT)
DKIM-Signature: v=1; a=rsa-sha256; c=relaxed/relaxed;
 d=iol.unh.edu; s=unh-iol; t=1719983202; x=1720588002; darn=dpdk.org;
 h=references:in-reply-to:cc:to:from:subject:message-id:date:from:to
 :cc:subject:date:message-id:reply-to;
 bh=/QWUuqVWvXHOjjh+T8nZVjfFMkwXbhWzaeXbXELMeZQ=;
 b=KZFw3gV0uh89we/SDdBlHAa8hW+x+wC6MfcHEBUmZuNb8nNlIvQUlGlLjacQ0vwnx+
 eKenwneJibsUHhdOBTBtO9inC0VaLLx+XA/lJALSEq17XNwBTL3SsN+SHzY6TrkGK60P
 tmUlwMMWIa25yJu9Nc8iChj8Z92nKkF1rELsA=
X-Google-DKIM-Signature: v=1; a=rsa-sha256; c=relaxed/relaxed;
 d=1e100.net; s=20230601; t=1719983202; x=1720588002;
 h=references:in-reply-to:cc:to:from:subject:message-id:date
 :x-gm-message-state:from:to:cc:subject:date:message-id:reply-to;
 bh=/QWUuqVWvXHOjjh+T8nZVjfFMkwXbhWzaeXbXELMeZQ=;
 b=VRMaoPfGQJVFGGQRx2DUislP5MaJT//Z0z2NORbynyochwWNEwUsX8ByigVIq9Kdnh
 fOyBZNQU8EN2qcH+rQVd/2CXpbdzRUr+7KrXQFL0lJsp17a5CyZXXzWLjreY1J+9AA1d
 A9aZFVsQgdMKEpIKK8CepEHqnEABGrZpc3if6QCbAVFq7YmbIYCbn6Mpk/CQozVfVXDb
 ENVRrDwJwUG4J2DcH/kVqI5Rc4xIA1BB6GWMysdzwnbkj13G9Bjxpvi3x83FEolG1tLV
 G/8QRa85TAws2hGgLa0Aj0vDnlOWI0r//jxNUaypHZXXmRcMuVI1e9ni5cTvTu/nsNWT
 hasA==
X-Gm-Message-State: AOJu0Yzsb2ADNxz9MkVilGj/vLG4kscWl08DOc8MbcmXu6FuWJEcADkC
 QJ5nEfEDfHntB/+bJCg5IXtYnHLddUCw2XhVgaJX6VWEzXKFNxMfw1jSooZ78jiHRBUKIDZinN4
 lSXkz9PP0bBxZyV5mq/4R4rLcPWQ33qvz2EexhNvniPF1qKQTbBZuPt4h
X-Google-Smtp-Source: AGHT+IH3v5N3monjmN45oTVaDsxcjGnO8zWMsjwkBtRzCA+Cbit3In/BFJAERR7WEMfZn4uHKmm5b+5Mblzs
X-Received: by 2002:a05:6e02:1a4c:b0:375:da94:e46b with SMTP id
 e9e14a558f8ab-37cd0de9cafmr131136965ab.5.1719983202658; 
 Tue, 02 Jul 2024 22:06:42 -0700 (PDT)
Received: from postal.iol.unh.edu (postal.iol.unh.edu.
 [2606:4100:3880:1234::84]) by smtp-relay.gmail.com with ESMTPS id
 8926c6da1cb9f-4bb73df738dsm260905173.23.2024.07.02.22.06.42
 (version=TLS1_2 cipher=ECDHE-ECDSA-AES128-GCM-SHA256 bits=128/128);
 Tue, 02 Jul 2024 22:06:42 -0700 (PDT)
X-Relaying-Domain: iol.unh.edu
Date: Tue, 02 Jul 2024 22:06:42 -0700 (PDT)
Message-ID: <6684dc62.050a0220.9e9ee.36d0SMTPIN_ADDED_MISSING@mx.google.com>
Received: from [172.21.0.6] (unknown [172.18.0.240])
 by postal.iol.unh.edu (Postfix) with ESMTP id E3E7960526E2;
 Wed,  3 Jul 2024 01:06:41 -0400 (EDT)
Subject: |PENDING| pw142053-142055 [PATCH] [v2,3/3] dts: mac filter test suit
From: dpdklab@iol.unh.edu
To: Test Report <test-report@dpdk.org>
Cc: dpdk-test-reports@iol.unh.edu
In-Reply-To: <20240702192422.2480-5-npratte@iol.unh.edu>
References: <20240702192422.2480-5-npratte@iol.unh.edu>
Content-Type: text/plain
X-BeenThere: test-report@dpdk.org
X-Mailman-Version: 2.1.29
Precedence: list
List-Id: automatic DPDK test reports <test-report.dpdk.org>
List-Unsubscribe: <https://mails.dpdk.org/options/test-report>,
 <mailto:test-report-request@dpdk.org?subject=unsubscribe>
List-Archive: <http://mails.dpdk.org/archives/test-report/>
List-Post: <mailto:test-report@dpdk.org>
List-Help: <mailto:test-report-request@dpdk.org?subject=help>
List-Subscribe: <https://mails.dpdk.org/listinfo/test-report>,
 <mailto:test-report-request@dpdk.org?subject=subscribe>
Errors-To: test-report-bounces@dpdk.org

Test-Label: iol-unit-amd64-testing
Test-Status: PENDING
http://dpdk.org/patch/142055

_Testing pending_

Submitter: Nicholas Pratte <npratte@iol.unh.edu>
Date: Tuesday, July 02 2024 19:24:23 
DPDK git baseline: Repo:dpdk
  Branch: master
  CommitID:c15902587b538ff02cfb0fbb4dd481f1503d936b

142053-142055 --> testing pending

Test environment and result as below:

+-------------------+----------------+
|    Environment    | dpdk_unit_test |
+===================+================+
| CentOS Stream 9   | PASS           |
+-------------------+----------------+
| CentOS Stream 8   | PASS           |
+-------------------+----------------+
| Debian Bullseye   | PEND           |
+-------------------+----------------+
| Debian 12         | PEND           |
+-------------------+----------------+
| Fedora 38         | PEND           |
+-------------------+----------------+
| Fedora 37         | PASS           |
+-------------------+----------------+
| Fedora 38 (Clang) | PEND           |
+-------------------+----------------+
| Fedora 40         | PEND           |
+-------------------+----------------+
| Fedora 39         | PEND           |
+-------------------+----------------+
| Fedora 39 (Clang) | PEND           |
+-------------------+----------------+
| Fedora 40 (Clang) | PEND           |
+-------------------+----------------+
| openSUSE Leap 15  | PEND           |
+-------------------+----------------+
| RHEL8             | PEND           |
+-------------------+----------------+
| RHEL9             | PEND           |
+-------------------+----------------+
| Ubuntu 22.04      | PEND           |
+-------------------+----------------+
| Ubuntu 20.04      | PEND           |
+-------------------+----------------+
| Ubuntu 24.04      | PEND           |
+-------------------+----------------+


CentOS Stream 9
	Kernel: 5.4.0-167-generic
	Compiler: gcc 11.4.1 20230605

CentOS Stream 8
	Kernel: 5.4.0-167-generic
	Compiler: gcc 8.5.0 20210514

Debian Bullseye
	Kernel: 5.4.0-167-generic
	Compiler: gcc 10.2.1-6

Debian 12
	Kernel: Container Host Kernel
	Compiler: gcc 12.2.0

Fedora 38
	Kernel: Depends on container host
	Compiler: gcc 13.2.1

Fedora 37
	Kernel: Depends on container host system
	Compiler: gcc 12.3.1

Fedora 38 (Clang)
	Kernel: Depends on container host
	Compiler: clang 16.0.6

Fedora 40
	Kernel: Depends on container host
	Compiler: gcc 14.1.1

Fedora 39
	Kernel: Depends on container host
	Compiler: gcc 13.2.1

Fedora 39 (Clang)
	Kernel: Depends on container host
	Compiler: clang 17.0.6

Fedora 40 (Clang)
	Kernel: Depends on container host
	Compiler: clang 18.1.6

openSUSE Leap 15
	Kernel: 5.4.0-167-generic
	Compiler: gcc 7.5.0

RHEL8
	Kernel: 5.4.0-167-generic
	Compiler: gcc 8.5.0 20210514 (Red Hat 8.5.0-20)

RHEL9
	Kernel: Depends on container host
	Compiler: gcc 11.4.1

Ubuntu 22.04
	Kernel: 5.4.0-167-generic
	Compiler: gcc 11.4.0

Ubuntu 20.04
	Kernel: 5.4.0-167-generic
	Compiler: gcc 9.4.0-1ubuntu1~20.04.1

Ubuntu 24.04
	Kernel: 5.4.0-167-generic
	Compiler: gcc 13.2.0

To view detailed results, visit:
https://lab.dpdk.org/results/dashboard/patchsets/30392/

UNH-IOL DPDK Community Lab

To manage your email subscriptions, visit: 
https://lab.dpdk.org/results/dashboard/preferences/subscriptions/