From mboxrd@z Thu Jan  1 00:00:00 1970
Return-Path: <test-report-bounces@dpdk.org>
Received: from mails.dpdk.org (mails.dpdk.org [217.70.189.124])
	by inbox.dpdk.org (Postfix) with ESMTP id AD03345555
	for <public@inbox.dpdk.org>; Wed,  3 Jul 2024 07:39:48 +0200 (CEST)
Received: from mails.dpdk.org (localhost [127.0.0.1])
	by mails.dpdk.org (Postfix) with ESMTP id A76004025E;
	Wed,  3 Jul 2024 07:39:48 +0200 (CEST)
Received: from mail-pl1-f228.google.com (mail-pl1-f228.google.com
 [209.85.214.228])
 by mails.dpdk.org (Postfix) with ESMTP id 5E8074003C
 for <test-report@dpdk.org>; Wed,  3 Jul 2024 07:39:47 +0200 (CEST)
Received: by mail-pl1-f228.google.com with SMTP id
 d9443c01a7336-1fb0d88fd25so1995915ad.0
 for <test-report@dpdk.org>; Tue, 02 Jul 2024 22:39:47 -0700 (PDT)
DKIM-Signature: v=1; a=rsa-sha256; c=relaxed/relaxed;
 d=iol.unh.edu; s=unh-iol; t=1719985186; x=1720589986; darn=dpdk.org;
 h=references:in-reply-to:cc:to:from:subject:message-id:date:from:to
 :cc:subject:date:message-id:reply-to;
 bh=ltCDJ6ntH2jE2EQSjK5dXSfeZYlq388VlHGyRXSe+JQ=;
 b=f862dO4Ee1lGy9jh4bNUxEb23y4bpkjg05V+52tK4rdW+PIwEpHHxzxYyeyQmVtmW1
 IfushSKxMWPnjFwqbkUWMMrJ6rcvTv6hBJ4EF6d078Q0+XyhrvDsk5oQ9BCE/F9Mg+0g
 mk7R+xfzu0GFYDIOUXXW81Ca8gqA+zXlu+cMU=
X-Google-DKIM-Signature: v=1; a=rsa-sha256; c=relaxed/relaxed;
 d=1e100.net; s=20230601; t=1719985186; x=1720589986;
 h=references:in-reply-to:cc:to:from:subject:message-id:date
 :x-gm-message-state:from:to:cc:subject:date:message-id:reply-to;
 bh=ltCDJ6ntH2jE2EQSjK5dXSfeZYlq388VlHGyRXSe+JQ=;
 b=Gw0pFqJbEdBmlQJrMN3En3z3y6xjS4ZZOgFoM+pd5J6/JLXeRAM7cDsk3zBHLQc6RM
 msNGXNvLtmnyfkLEhaJUJwIw9Neoh9RX1yCepQ1kTmKAeOIXQYqlm+16U4ulzEvBbDay
 cCxKUI79KwnhAmWkGAI7V8VAzUU5TIOi4xnjWl8sEWz1JXC7JU8tL+lYJemp9azTvVG+
 7T80ZUGhsk3svzJ+Y2CY5AHGmsefgcQ7Keo2x/iP3MsV9pKf4GLZHopiUsTeVjWVBQCG
 wky3CK4mHUVV3uw7MPO0oswfQ6ZdeXK1HFIqEYeTXtlOSXFwsQT/PVOwEKPMjlPt6hLr
 8ItQ==
X-Gm-Message-State: AOJu0YyseaDhgjYEPrqO/MT1QMIwo/O+/kPwKaXmHMIxfYsRVLw7yMhJ
 7LbBY+8OCpLdcvm7Cy4CIgTmpbD4Y+XE6Dx5pvDHaC9tqTO36bYDQtA5gChnZLF1BvGglXs0lzI
 6zyMcgD/ZbznJnyWElEcsGtRTtCkAq0FYlwtC0mjF
X-Google-Smtp-Source: AGHT+IFOuqvqBtZzfWSvhYg51glHU3oX9fzWRNe6cbH5mqMFPdeQ2R4YxiINGPJFAsP1abZAKiviH3V9OU+B
X-Received: by 2002:a17:902:c94a:b0:1f8:62a1:b6af with SMTP id
 d9443c01a7336-1fb1a088d47mr11058945ad.21.1719985185117; 
 Tue, 02 Jul 2024 22:39:45 -0700 (PDT)
Received: from postal.iol.unh.edu (postal.iol.unh.edu. [132.177.123.84])
 by smtp-relay.gmail.com with ESMTPS id
 d9443c01a7336-1fac155a781sm3260715ad.104.2024.07.02.22.39.45
 (version=TLS1_2 cipher=ECDHE-ECDSA-AES128-GCM-SHA256 bits=128/128);
 Tue, 02 Jul 2024 22:39:45 -0700 (PDT)
X-Relaying-Domain: iol.unh.edu
Date: Tue, 02 Jul 2024 22:39:45 -0700 (PDT)
Message-ID: <6684e421.170a0220.c98f0.9211SMTPIN_ADDED_MISSING@mx.google.com>
Received: from [172.17.0.4] (unknown [172.18.0.217])
 by postal.iol.unh.edu (Postfix) with ESMTP id 397A460526E2;
 Wed,  3 Jul 2024 01:39:44 -0400 (EDT)
Subject: |SUCCESS| pw142053-142055 [PATCH] [v2,3/3] dts: mac filter test suit
From: dpdklab@iol.unh.edu
To: Test Report <test-report@dpdk.org>
Cc: dpdk-test-reports@iol.unh.edu
In-Reply-To: <20240702192422.2480-5-npratte@iol.unh.edu>
References: <20240702192422.2480-5-npratte@iol.unh.edu>
Content-Type: text/plain
X-BeenThere: test-report@dpdk.org
X-Mailman-Version: 2.1.29
Precedence: list
List-Id: automatic DPDK test reports <test-report.dpdk.org>
List-Unsubscribe: <https://mails.dpdk.org/options/test-report>,
 <mailto:test-report-request@dpdk.org?subject=unsubscribe>
List-Archive: <http://mails.dpdk.org/archives/test-report/>
List-Post: <mailto:test-report@dpdk.org>
List-Help: <mailto:test-report-request@dpdk.org?subject=help>
List-Subscribe: <https://mails.dpdk.org/listinfo/test-report>,
 <mailto:test-report-request@dpdk.org?subject=subscribe>
Errors-To: test-report-bounces@dpdk.org

Test-Label: iol-unit-amd64-testing
Test-Status: SUCCESS
http://dpdk.org/patch/142055

_Testing PASS_

Submitter: Nicholas Pratte <npratte@iol.unh.edu>
Date: Tuesday, July 02 2024 19:24:23 
DPDK git baseline: Repo:dpdk
  Branch: master
  CommitID:c15902587b538ff02cfb0fbb4dd481f1503d936b

142053-142055 --> testing pass

Test environment and result as below:

+-------------------+----------------+
|    Environment    | dpdk_unit_test |
+===================+================+
| CentOS Stream 9   | PASS           |
+-------------------+----------------+
| CentOS Stream 8   | PASS           |
+-------------------+----------------+
| Debian Bullseye   | PASS           |
+-------------------+----------------+
| Debian 12         | PASS           |
+-------------------+----------------+
| Fedora 38         | PASS           |
+-------------------+----------------+
| Fedora 37         | PASS           |
+-------------------+----------------+
| Fedora 38 (Clang) | PASS           |
+-------------------+----------------+
| Fedora 40         | PASS           |
+-------------------+----------------+
| Fedora 39         | PASS           |
+-------------------+----------------+
| Fedora 39 (Clang) | PASS           |
+-------------------+----------------+
| Fedora 40 (Clang) | PASS           |
+-------------------+----------------+
| openSUSE Leap 15  | PASS           |
+-------------------+----------------+
| RHEL8             | PASS           |
+-------------------+----------------+
| RHEL9             | PASS           |
+-------------------+----------------+
| Ubuntu 22.04      | PASS           |
+-------------------+----------------+
| Ubuntu 20.04      | PASS           |
+-------------------+----------------+
| Ubuntu 24.04      | PASS           |
+-------------------+----------------+


CentOS Stream 9
	Kernel: 5.4.0-167-generic
	Compiler: gcc 11.4.1 20230605

CentOS Stream 8
	Kernel: 5.4.0-167-generic
	Compiler: gcc 8.5.0 20210514

Debian Bullseye
	Kernel: 5.4.0-167-generic
	Compiler: gcc 10.2.1-6

Debian 12
	Kernel: Container Host Kernel
	Compiler: gcc 12.2.0

Fedora 38
	Kernel: Depends on container host
	Compiler: gcc 13.2.1

Fedora 37
	Kernel: Depends on container host system
	Compiler: gcc 12.3.1

Fedora 38 (Clang)
	Kernel: Depends on container host
	Compiler: clang 16.0.6

Fedora 40
	Kernel: Depends on container host
	Compiler: gcc 14.1.1

Fedora 39
	Kernel: Depends on container host
	Compiler: gcc 13.2.1

Fedora 39 (Clang)
	Kernel: Depends on container host
	Compiler: clang 17.0.6

Fedora 40 (Clang)
	Kernel: Depends on container host
	Compiler: clang 18.1.6

openSUSE Leap 15
	Kernel: 5.4.0-167-generic
	Compiler: gcc 7.5.0

RHEL8
	Kernel: 5.4.0-167-generic
	Compiler: gcc 8.5.0 20210514 (Red Hat 8.5.0-20)

RHEL9
	Kernel: Depends on container host
	Compiler: gcc 11.4.1

Ubuntu 22.04
	Kernel: 5.4.0-167-generic
	Compiler: gcc 11.4.0

Ubuntu 20.04
	Kernel: 5.4.0-167-generic
	Compiler: gcc 9.4.0-1ubuntu1~20.04.1

Ubuntu 24.04
	Kernel: 5.4.0-167-generic
	Compiler: gcc 13.2.0

To view detailed results, visit:
https://lab.dpdk.org/results/dashboard/patchsets/30392/

UNH-IOL DPDK Community Lab

To manage your email subscriptions, visit: 
https://lab.dpdk.org/results/dashboard/preferences/subscriptions/