From mboxrd@z Thu Jan  1 00:00:00 1970
Return-Path: <test-report-bounces@dpdk.org>
Received: from mails.dpdk.org (mails.dpdk.org [217.70.189.124])
	by inbox.dpdk.org (Postfix) with ESMTP id 2C98C4555B
	for <public@inbox.dpdk.org>; Wed,  3 Jul 2024 10:54:12 +0200 (CEST)
Received: from mails.dpdk.org (localhost [127.0.0.1])
	by mails.dpdk.org (Postfix) with ESMTP id 25F4A40EDB;
	Wed,  3 Jul 2024 10:54:12 +0200 (CEST)
Received: from mail-io1-f97.google.com (mail-io1-f97.google.com
 [209.85.166.97]) by mails.dpdk.org (Postfix) with ESMTP id 3A1394029B
 for <test-report@dpdk.org>; Wed,  3 Jul 2024 10:54:10 +0200 (CEST)
Received: by mail-io1-f97.google.com with SMTP id
 ca18e2360f4ac-7f3d37d6bfdso12202739f.1
 for <test-report@dpdk.org>; Wed, 03 Jul 2024 01:54:10 -0700 (PDT)
DKIM-Signature: v=1; a=rsa-sha256; c=relaxed/relaxed;
 d=iol.unh.edu; s=unh-iol; t=1719996849; x=1720601649; darn=dpdk.org;
 h=references:in-reply-to:cc:to:from:subject:message-id:date:from:to
 :cc:subject:date:message-id:reply-to;
 bh=lHJNc238mXcrIPkX7o3MKvxhiXkXaoeSV05S2C8X/gI=;
 b=SO7BK6WNKWNnTMeXITB4wjgO1lQ8LDKY/iPLdfozO5Q8gsSL4P3GrnfCju97z3EcEq
 y9QTdE71KWoyQ0dHyC8TZOrp3IVubEirNIiP9LLkZrlQ6pSgtekmZp1AMuk8QGWHOj3z
 Ku1n2ZzQOpFrFMWwae0ZMNfa3+Vi0v7bQ0Oyk=
X-Google-DKIM-Signature: v=1; a=rsa-sha256; c=relaxed/relaxed;
 d=1e100.net; s=20230601; t=1719996849; x=1720601649;
 h=references:in-reply-to:cc:to:from:subject:message-id:date
 :x-gm-message-state:from:to:cc:subject:date:message-id:reply-to;
 bh=lHJNc238mXcrIPkX7o3MKvxhiXkXaoeSV05S2C8X/gI=;
 b=J6MrcjKHrFGSpbiXEWsoLgA+8k0Khxtcb8UsTeJ4arD+Czw4BnpMM27RfgAPRjDWrW
 9eJ6ExwM64QrdC+RuGbDTzgRM9diBm1BSWQy+AyA7DIksER0Efl9E8JpsfdPpSVVLFNE
 BFZJHIdXQksBnZEAZVo8EpzPD1nkQAMaR/F+TI4TAMMCVkdmzgB5/PyN+DBhi4ZCgrE9
 p9Yc5or6kW8UKGBZQ2RIri0CVfPqciYId6AFHMI1zG8Zw5LWQzkGMHt5uRjtkp0g53j2
 dkiOr4kfpW64CrqK7M/1jomjeVcLqGFGJeVaArFVBjFOQWkOIznP+BMmSCPYXDByUja+
 d3YA==
X-Gm-Message-State: AOJu0Yyid1oGpw60epdywZ61nzlL3JOrdV8zxNYgjoOsZHscDE4oYoVT
 LM1AhnRraRcqysNV0vTbpLJwiVUldylYjBjBKohTO5dCziVZZh+8toOdXL6mLhOetVWkxPjFXFW
 CeTMRecnSWuD4wTYLd1enDSHx7YcSe6eeNhZ9lrXqSN5+v6njuWF7HVZ3
X-Google-Smtp-Source: AGHT+IHppcZDZxYX2vxqimh1Rnvohap+tNGk3Has7ou+2US50eX8PIEkdbVvjSi6GM4MlX6qXjxVsMbR15FY
X-Received: by 2002:a6b:7308:0:b0:7f6:1590:44a2 with SMTP id
 ca18e2360f4ac-7f66045a0ffmr61837339f.3.1719996849634; 
 Wed, 03 Jul 2024 01:54:09 -0700 (PDT)
Received: from postal.iol.unh.edu (postal.iol.unh.edu.
 [2606:4100:3880:1234::84]) by smtp-relay.gmail.com with ESMTPS id
 ca18e2360f4ac-7f6587a1259sm8354939f.6.2024.07.03.01.54.09
 (version=TLS1_2 cipher=ECDHE-ECDSA-AES128-GCM-SHA256 bits=128/128);
 Wed, 03 Jul 2024 01:54:09 -0700 (PDT)
X-Relaying-Domain: iol.unh.edu
Date: Wed, 03 Jul 2024 01:54:09 -0700 (PDT)
Message-ID: <668511b1.050a0220.ec552.6375SMTPIN_ADDED_MISSING@mx.google.com>
Received: from [172.17.0.4] (unknown [172.18.0.214])
 by postal.iol.unh.edu (Postfix) with ESMTP id 196AB60526E2;
 Wed,  3 Jul 2024 04:54:09 -0400 (EDT)
Subject: |SUCCESS| pw142025-142026 [PATCH] [v2,2/2] net/cnxk: fix to avoid NP
From: dpdklab@iol.unh.edu
To: Test Report <test-report@dpdk.org>
Cc: dpdk-test-reports@iol.unh.edu
In-Reply-To: <20240702144033.3345075-2-rbhansali@marvell.com>
References: <20240702144033.3345075-2-rbhansali@marvell.com>
Content-Type: text/plain
X-BeenThere: test-report@dpdk.org
X-Mailman-Version: 2.1.29
Precedence: list
List-Id: automatic DPDK test reports <test-report.dpdk.org>
List-Unsubscribe: <https://mails.dpdk.org/options/test-report>,
 <mailto:test-report-request@dpdk.org?subject=unsubscribe>
List-Archive: <http://mails.dpdk.org/archives/test-report/>
List-Post: <mailto:test-report@dpdk.org>
List-Help: <mailto:test-report-request@dpdk.org?subject=help>
List-Subscribe: <https://mails.dpdk.org/listinfo/test-report>,
 <mailto:test-report-request@dpdk.org?subject=subscribe>
Errors-To: test-report-bounces@dpdk.org

Test-Label: iol-sample-apps-testing
Test-Status: SUCCESS
http://dpdk.org/patch/142026

_Testing PASS_

Submitter: Rahul Bhansali <rbhansali@marvell.com>
Date: Tuesday, July 02 2024 14:40:33 
DPDK git baseline: Repo:dpdk
  Branch: master
  CommitID:362db0a4d230fbe43c2da1d6e34ecd0f2f946903

142025-142026 --> testing pass

Test environment and result as below:

+--------------------+----------------------+----------------------+
|    Environment     | compressdev_zlib_pmd | dpdk_fips_validation |
+====================+======================+======================+
| Ubuntu 22.04 (ARM) | PASS                 | SKIPPED              |
+--------------------+----------------------+----------------------+
| Ubuntu 22.04       | PASS                 | SKIPPED              |
+--------------------+----------------------+----------------------+
| Ubuntu 20.04       | SKIPPED              | PASS                 |
+--------------------+----------------------+----------------------+


Ubuntu 22.04 (ARM)
	Kernel: 5.15.0-97-generic
	Compiler: gcc gcc (Ubuntu 11.4.0-1ubuntu1~22.04) 11.4.0

Ubuntu 22.04
	Kernel: 5.15.0-100-generic
	Compiler: gcc gcc (Ubuntu 11.4.0-1ubuntu1~22.04) 11.4.0

Ubuntu 20.04
	Kernel: 5.4.0-167-generic
	Compiler: gcc 9.4.0-1ubuntu1~20.04.1

To view detailed results, visit:
https://lab.dpdk.org/results/dashboard/patchsets/30380/

UNH-IOL DPDK Community Lab

To manage your email subscriptions, visit: 
https://lab.dpdk.org/results/dashboard/preferences/subscriptions/