From mboxrd@z Thu Jan  1 00:00:00 1970
Return-Path: <test-report-bounces@dpdk.org>
Received: from mails.dpdk.org (mails.dpdk.org [217.70.189.124])
	by inbox.dpdk.org (Postfix) with ESMTP id 01C3C4555B
	for <public@inbox.dpdk.org>; Wed,  3 Jul 2024 10:58:10 +0200 (CEST)
Received: from mails.dpdk.org (localhost [127.0.0.1])
	by mails.dpdk.org (Postfix) with ESMTP id EFB7340EDB;
	Wed,  3 Jul 2024 10:58:09 +0200 (CEST)
Received: from mail-qk1-f228.google.com (mail-qk1-f228.google.com
 [209.85.222.228])
 by mails.dpdk.org (Postfix) with ESMTP id 8AF264029B
 for <test-report@dpdk.org>; Wed,  3 Jul 2024 10:58:08 +0200 (CEST)
Received: by mail-qk1-f228.google.com with SMTP id
 af79cd13be357-79c0bbff48aso393840485a.1
 for <test-report@dpdk.org>; Wed, 03 Jul 2024 01:58:08 -0700 (PDT)
DKIM-Signature: v=1; a=rsa-sha256; c=relaxed/relaxed;
 d=iol.unh.edu; s=unh-iol; t=1719997088; x=1720601888; darn=dpdk.org;
 h=references:in-reply-to:cc:to:from:subject:message-id:date:from:to
 :cc:subject:date:message-id:reply-to;
 bh=6Gt/9NwZIL+9KHGanThHYAAaz4P/ev+uS01XDSPbQvs=;
 b=S2i03AKV2SQuEbULWHtuC0JLCGltyYVq9eVA972PgOT7F55e+ApeQm4PRrcM9/90lU
 gyQePnCcJGoz/g8mqa9cpq9iUlj8ucRPbx0GSpwOM2MRhhx3ZJeY392hVYPGM/2fJWg7
 ZIKyIDVmuM1ibH2cIvRL3E+BEPZujJuWZH1Rs=
X-Google-DKIM-Signature: v=1; a=rsa-sha256; c=relaxed/relaxed;
 d=1e100.net; s=20230601; t=1719997088; x=1720601888;
 h=references:in-reply-to:cc:to:from:subject:message-id:date
 :x-gm-message-state:from:to:cc:subject:date:message-id:reply-to;
 bh=6Gt/9NwZIL+9KHGanThHYAAaz4P/ev+uS01XDSPbQvs=;
 b=oWVP/3N2rM289FXYcO8QTas7t4G6rcSNc79yECzbHBheYasTHnNVaUGvzO5Uz3d+GN
 xBQ/QdIk23wmBXVdDaNuzDYR6PTcqH83IwuCeqbDvruaoYI1RTYyzhztpfL+dtKQ/IGf
 wpa2C53aphbgZ0MKPbVvk5fGfR0dQefJ3P28kUW2vxl0ZTLjOm2qsIK0sF9S6tIE4etI
 v6zwWafU2oyOceDH468MaSRUdR/9j+Hot8OsFp9Gxep7V80YzkQ8e/Aiye8sAJCuaHjJ
 0/SEGDjadiHMV4+gkPBtgCnyTbQdqtEIYoZ7JvUWBsfu5ljJjBIF6A8dpXAPzIDLYlkv
 dMXA==
X-Gm-Message-State: AOJu0YySYfB0dWfGMPtFhA9HOANg7Qa9irZdRqvt1BItj4bUxhAaeSYL
 kMT+ZHStgEvFqUQId5tY641wKek9NS/DtIeKDjZQmEW0t8UeF39UUt8PafzQvb8XHbF1dfcJrI8
 Frs2trJEtkum4X5lc6uKEacFug2q6Toa/m2ZgLbw4
X-Google-Smtp-Source: AGHT+IH4pH9YkztcMTgaSSkjktrAND1+4D25ynN7UWzlIwI2YB+bIqfXSgISBHDqrdu7pwHxHhZRjkRBn4on
X-Received: by 2002:a05:6214:2427:b0:6b5:e2da:8be1 with SMTP id
 6a1803df08f44-6b5e2da8f9amr7220856d6.55.1719997087859; 
 Wed, 03 Jul 2024 01:58:07 -0700 (PDT)
Received: from postal.iol.unh.edu (postal.iol.unh.edu. [132.177.123.84])
 by smtp-relay.gmail.com with ESMTPS id
 6a1803df08f44-6b59e561281sm5294046d6.22.2024.07.03.01.58.07
 (version=TLS1_2 cipher=ECDHE-ECDSA-AES128-GCM-SHA256 bits=128/128);
 Wed, 03 Jul 2024 01:58:07 -0700 (PDT)
X-Relaying-Domain: iol.unh.edu
Date: Wed, 03 Jul 2024 01:58:07 -0700 (PDT)
Message-ID: <6685129f.d40a0220.17c9.8bd6SMTPIN_ADDED_MISSING@mx.google.com>
Received: from [172.21.0.11] (unknown [172.18.0.240])
 by postal.iol.unh.edu (Postfix) with ESMTP id 882C860526E2;
 Wed,  3 Jul 2024 04:58:07 -0400 (EDT)
Subject: |PENDING| pw142020-142022 [PATCH] [v3,3/3] drivers: replace printf w
From: dpdklab@iol.unh.edu
To: Test Report <test-report@dpdk.org>
Cc: dpdk-test-reports@iol.unh.edu
In-Reply-To: <20240702130856.3927348-3-hemant.agrawal@nxp.com>
References: <20240702130856.3927348-3-hemant.agrawal@nxp.com>
Content-Type: text/plain
X-BeenThere: test-report@dpdk.org
X-Mailman-Version: 2.1.29
Precedence: list
List-Id: automatic DPDK test reports <test-report.dpdk.org>
List-Unsubscribe: <https://mails.dpdk.org/options/test-report>,
 <mailto:test-report-request@dpdk.org?subject=unsubscribe>
List-Archive: <http://mails.dpdk.org/archives/test-report/>
List-Post: <mailto:test-report@dpdk.org>
List-Help: <mailto:test-report-request@dpdk.org?subject=help>
List-Subscribe: <https://mails.dpdk.org/listinfo/test-report>,
 <mailto:test-report-request@dpdk.org?subject=subscribe>
Errors-To: test-report-bounces@dpdk.org

Test-Label: iol-unit-amd64-testing
Test-Status: PENDING
http://dpdk.org/patch/142022

_Testing pending_

Submitter: Hemant Agrawal <hemant.agrawal@nxp.com>
Date: Tuesday, July 02 2024 13:08:56 
DPDK git baseline: Repo:dpdk
  Branch: master
  CommitID:c15902587b538ff02cfb0fbb4dd481f1503d936b

142020-142022 --> testing pending

Test environment and result as below:

+-------------------+----------------+
|    Environment    | dpdk_unit_test |
+===================+================+
| CentOS Stream 8   | PASS           |
+-------------------+----------------+
| CentOS Stream 9   | PASS           |
+-------------------+----------------+
| Debian Bullseye   | PASS           |
+-------------------+----------------+
| Debian 12         | PASS           |
+-------------------+----------------+
| Fedora 37         | PASS           |
+-------------------+----------------+
| Fedora 38         | PASS           |
+-------------------+----------------+
| Fedora 38 (Clang) | PEND           |
+-------------------+----------------+
| Fedora 39         | PASS           |
+-------------------+----------------+
| Fedora 39 (Clang) | PEND           |
+-------------------+----------------+
| Fedora 40         | PEND           |
+-------------------+----------------+
| Fedora 40 (Clang) | PEND           |
+-------------------+----------------+
| openSUSE Leap 15  | PASS           |
+-------------------+----------------+
| RHEL8             | PEND           |
+-------------------+----------------+
| RHEL9             | PEND           |
+-------------------+----------------+
| Ubuntu 20.04      | PEND           |
+-------------------+----------------+
| Ubuntu 22.04      | PEND           |
+-------------------+----------------+
| Ubuntu 24.04      | PEND           |
+-------------------+----------------+


CentOS Stream 8
	Kernel: 5.4.0-167-generic
	Compiler: gcc 8.5.0 20210514

CentOS Stream 9
	Kernel: 5.4.0-167-generic
	Compiler: gcc 11.4.1 20230605

Debian Bullseye
	Kernel: 5.4.0-167-generic
	Compiler: gcc 10.2.1-6

Debian 12
	Kernel: Container Host Kernel
	Compiler: gcc 12.2.0

Fedora 37
	Kernel: Depends on container host system
	Compiler: gcc 12.3.1

Fedora 38
	Kernel: Depends on container host
	Compiler: gcc 13.2.1

Fedora 38 (Clang)
	Kernel: Depends on container host
	Compiler: clang 16.0.6

Fedora 39
	Kernel: Depends on container host
	Compiler: gcc 13.2.1

Fedora 39 (Clang)
	Kernel: Depends on container host
	Compiler: clang 17.0.6

Fedora 40
	Kernel: Depends on container host
	Compiler: gcc 14.1.1

Fedora 40 (Clang)
	Kernel: Depends on container host
	Compiler: clang 18.1.6

openSUSE Leap 15
	Kernel: 5.4.0-167-generic
	Compiler: gcc 7.5.0

RHEL8
	Kernel: 5.4.0-167-generic
	Compiler: gcc 8.5.0 20210514 (Red Hat 8.5.0-20)

RHEL9
	Kernel: Depends on container host
	Compiler: gcc 11.4.1

Ubuntu 20.04
	Kernel: 5.4.0-167-generic
	Compiler: gcc 9.4.0-1ubuntu1~20.04.1

Ubuntu 22.04
	Kernel: 5.4.0-167-generic
	Compiler: gcc 11.4.0

Ubuntu 24.04
	Kernel: 5.4.0-167-generic
	Compiler: gcc 13.2.0

To view detailed results, visit:
https://lab.dpdk.org/results/dashboard/patchsets/30378/

UNH-IOL DPDK Community Lab

To manage your email subscriptions, visit: 
https://lab.dpdk.org/results/dashboard/preferences/subscriptions/