From mboxrd@z Thu Jan  1 00:00:00 1970
Return-Path: <test-report-bounces@dpdk.org>
Received: from mails.dpdk.org (mails.dpdk.org [217.70.189.124])
	by inbox.dpdk.org (Postfix) with ESMTP id BFAE54555B
	for <public@inbox.dpdk.org>; Wed,  3 Jul 2024 11:11:26 +0200 (CEST)
Received: from mails.dpdk.org (localhost [127.0.0.1])
	by mails.dpdk.org (Postfix) with ESMTP id B93C440EDB;
	Wed,  3 Jul 2024 11:11:26 +0200 (CEST)
Received: from mail-qv1-f99.google.com (mail-qv1-f99.google.com
 [209.85.219.99]) by mails.dpdk.org (Postfix) with ESMTP id 0309A40E7C
 for <test-report@dpdk.org>; Wed,  3 Jul 2024 11:11:25 +0200 (CEST)
Received: by mail-qv1-f99.google.com with SMTP id
 6a1803df08f44-6b54683f65fso26766526d6.1
 for <test-report@dpdk.org>; Wed, 03 Jul 2024 02:11:24 -0700 (PDT)
DKIM-Signature: v=1; a=rsa-sha256; c=relaxed/relaxed;
 d=iol.unh.edu; s=unh-iol; t=1719997884; x=1720602684; darn=dpdk.org;
 h=references:in-reply-to:cc:to:from:subject:message-id:date:from:to
 :cc:subject:date:message-id:reply-to;
 bh=p5PSXeX/Gbo7IWmfIUS0dLw3W5O1HkiYKytz4G095N0=;
 b=ciHOsjOBIJ1HIFT7RTbpZbVk6WluRVt+dgV4jtpuEGbhUcwEOIEPJc9WdZajtsxAmk
 gyy5sZ+Oxz230sm2AFEIVDaV4bzxWE45P2Gx51xrrjwb2phUp6DDe2vH/UnLGQ3wpCeF
 WI365sNZiKNtCUP1TiNTiqq2SXxQuNJxF/S4Q=
X-Google-DKIM-Signature: v=1; a=rsa-sha256; c=relaxed/relaxed;
 d=1e100.net; s=20230601; t=1719997884; x=1720602684;
 h=references:in-reply-to:cc:to:from:subject:message-id:date
 :x-gm-message-state:from:to:cc:subject:date:message-id:reply-to;
 bh=p5PSXeX/Gbo7IWmfIUS0dLw3W5O1HkiYKytz4G095N0=;
 b=k5Esohoe6dAwcNE6rH+1GM/NKWL+BLjykxryPMgbfK+jUxL5MOoDkjAoqdGKwPu8AH
 CSNscL59Yg6PwibEQImmfzmQ5ChHfPHpJZ34Bf4EY+eM7BpzwiPZbHh56kU7q+JQX6rF
 jsLaHM3UTGkLhq40PQ9pkxxCa4wQM7x4K2WFaaeH1Gd9pDCqoPwsbpv1VFClphAEbogc
 Khg0/P1T4NnNeClgEWyXKEiNsK4310MzcZyBcGdS3m+hOjKcE91SS+1c869brKn9i1ev
 JDgFRqcm50mIB5aDfwP1QCRJ7f2EFxuATrQkpbVb417oZKLvaxxK1Ny6A+ILN1t8C9nh
 okDQ==
X-Gm-Message-State: AOJu0YxmAwkyvzNnjOPV6YT+XdiM/ta4ccxd2j8+VS47xyNuIIdPqYA3
 v5807LqNfXhgecOVKOcbR7AXqweMjt/n5IK0unqqE6rF+g4AgUyAuNI0dGZCDnlclG21wHRrPPz
 tk7oNkWbgXmi+Gxv5fdftp/beSIpIJV4McqfbxfycTEMkrjMPxOSwX2El
X-Google-Smtp-Source: AGHT+IFEJXLtaTlcEjchQKhmjb5yGSAZg0cN0bNS2vlStbogHn1768J0cV7iQAeE1bS4XvibRBHizHLjojoY
X-Received: by 2002:a05:6214:dac:b0:6b4:fa03:ab0b with SMTP id
 6a1803df08f44-6b5b70bcf69mr160681576d6.17.1719997884242; 
 Wed, 03 Jul 2024 02:11:24 -0700 (PDT)
Received: from postal.iol.unh.edu (postal.iol.unh.edu.
 [2606:4100:3880:1234::84]) by smtp-relay.gmail.com with ESMTPS id
 6a1803df08f44-6b5df1cc28esm678456d6.31.2024.07.03.02.11.24
 (version=TLS1_2 cipher=ECDHE-ECDSA-AES128-GCM-SHA256 bits=128/128);
 Wed, 03 Jul 2024 02:11:24 -0700 (PDT)
X-Relaying-Domain: iol.unh.edu
Date: Wed, 03 Jul 2024 02:11:24 -0700 (PDT)
Message-ID: <668515bc.050a0220.94608.4fe9SMTPIN_ADDED_MISSING@mx.google.com>
Received: from [172.21.0.6] (unknown [172.18.0.240])
 by postal.iol.unh.edu (Postfix) with ESMTP id E75A560526E2;
 Wed,  3 Jul 2024 05:11:23 -0400 (EDT)
Subject: |PENDING| pw142020-142022 [PATCH] [v3,3/3] drivers: replace printf w
From: dpdklab@iol.unh.edu
To: Test Report <test-report@dpdk.org>
Cc: dpdk-test-reports@iol.unh.edu
In-Reply-To: <20240702130856.3927348-3-hemant.agrawal@nxp.com>
References: <20240702130856.3927348-3-hemant.agrawal@nxp.com>
Content-Type: text/plain
X-BeenThere: test-report@dpdk.org
X-Mailman-Version: 2.1.29
Precedence: list
List-Id: automatic DPDK test reports <test-report.dpdk.org>
List-Unsubscribe: <https://mails.dpdk.org/options/test-report>,
 <mailto:test-report-request@dpdk.org?subject=unsubscribe>
List-Archive: <http://mails.dpdk.org/archives/test-report/>
List-Post: <mailto:test-report@dpdk.org>
List-Help: <mailto:test-report-request@dpdk.org?subject=help>
List-Subscribe: <https://mails.dpdk.org/listinfo/test-report>,
 <mailto:test-report-request@dpdk.org?subject=subscribe>
Errors-To: test-report-bounces@dpdk.org

Test-Label: iol-unit-amd64-testing
Test-Status: PENDING
http://dpdk.org/patch/142022

_Testing pending_

Submitter: Hemant Agrawal <hemant.agrawal@nxp.com>
Date: Tuesday, July 02 2024 13:08:56 
DPDK git baseline: Repo:dpdk
  Branch: master
  CommitID:c15902587b538ff02cfb0fbb4dd481f1503d936b

142020-142022 --> testing pending

Test environment and result as below:

+-------------------+----------------+
|    Environment    | dpdk_unit_test |
+===================+================+
| CentOS Stream 8   | PASS           |
+-------------------+----------------+
| CentOS Stream 9   | PASS           |
+-------------------+----------------+
| Debian Bullseye   | PASS           |
+-------------------+----------------+
| Debian 12         | PASS           |
+-------------------+----------------+
| Fedora 37         | PASS           |
+-------------------+----------------+
| Fedora 38         | PASS           |
+-------------------+----------------+
| Fedora 38 (Clang) | PASS           |
+-------------------+----------------+
| Fedora 39         | PASS           |
+-------------------+----------------+
| Fedora 39 (Clang) | PASS           |
+-------------------+----------------+
| Fedora 40         | PASS           |
+-------------------+----------------+
| Fedora 40 (Clang) | PASS           |
+-------------------+----------------+
| openSUSE Leap 15  | PASS           |
+-------------------+----------------+
| RHEL8             | PASS           |
+-------------------+----------------+
| RHEL9             | PASS           |
+-------------------+----------------+
| Ubuntu 20.04      | PEND           |
+-------------------+----------------+
| Ubuntu 22.04      | PEND           |
+-------------------+----------------+
| Ubuntu 24.04      | PEND           |
+-------------------+----------------+


CentOS Stream 8
	Kernel: 5.4.0-167-generic
	Compiler: gcc 8.5.0 20210514

CentOS Stream 9
	Kernel: 5.4.0-167-generic
	Compiler: gcc 11.4.1 20230605

Debian Bullseye
	Kernel: 5.4.0-167-generic
	Compiler: gcc 10.2.1-6

Debian 12
	Kernel: Container Host Kernel
	Compiler: gcc 12.2.0

Fedora 37
	Kernel: Depends on container host system
	Compiler: gcc 12.3.1

Fedora 38
	Kernel: Depends on container host
	Compiler: gcc 13.2.1

Fedora 38 (Clang)
	Kernel: Depends on container host
	Compiler: clang 16.0.6

Fedora 39
	Kernel: Depends on container host
	Compiler: gcc 13.2.1

Fedora 39 (Clang)
	Kernel: Depends on container host
	Compiler: clang 17.0.6

Fedora 40
	Kernel: Depends on container host
	Compiler: gcc 14.1.1

Fedora 40 (Clang)
	Kernel: Depends on container host
	Compiler: clang 18.1.6

openSUSE Leap 15
	Kernel: 5.4.0-167-generic
	Compiler: gcc 7.5.0

RHEL8
	Kernel: 5.4.0-167-generic
	Compiler: gcc 8.5.0 20210514 (Red Hat 8.5.0-20)

RHEL9
	Kernel: Depends on container host
	Compiler: gcc 11.4.1

Ubuntu 20.04
	Kernel: 5.4.0-167-generic
	Compiler: gcc 9.4.0-1ubuntu1~20.04.1

Ubuntu 22.04
	Kernel: 5.4.0-167-generic
	Compiler: gcc 11.4.0

Ubuntu 24.04
	Kernel: 5.4.0-167-generic
	Compiler: gcc 13.2.0

To view detailed results, visit:
https://lab.dpdk.org/results/dashboard/patchsets/30378/

UNH-IOL DPDK Community Lab

To manage your email subscriptions, visit: 
https://lab.dpdk.org/results/dashboard/preferences/subscriptions/