From mboxrd@z Thu Jan  1 00:00:00 1970
Return-Path: <test-report-bounces@dpdk.org>
Received: from mails.dpdk.org (mails.dpdk.org [217.70.189.124])
	by inbox.dpdk.org (Postfix) with ESMTP id 63FC145561
	for <public@inbox.dpdk.org>; Wed,  3 Jul 2024 14:17:50 +0200 (CEST)
Received: from mails.dpdk.org (localhost [127.0.0.1])
	by mails.dpdk.org (Postfix) with ESMTP id 5067240E7C;
	Wed,  3 Jul 2024 14:17:50 +0200 (CEST)
Received: from mail-qv1-f98.google.com (mail-qv1-f98.google.com
 [209.85.219.98]) by mails.dpdk.org (Postfix) with ESMTP id 040024029E
 for <test-report@dpdk.org>; Wed,  3 Jul 2024 14:17:49 +0200 (CEST)
Received: by mail-qv1-f98.google.com with SMTP id
 6a1803df08f44-6b06e63d288so24058616d6.0
 for <test-report@dpdk.org>; Wed, 03 Jul 2024 05:17:48 -0700 (PDT)
DKIM-Signature: v=1; a=rsa-sha256; c=relaxed/relaxed;
 d=iol.unh.edu; s=unh-iol; t=1720009068; x=1720613868; darn=dpdk.org;
 h=references:in-reply-to:cc:to:from:subject:message-id:date:from:to
 :cc:subject:date:message-id:reply-to;
 bh=SGUs/ERzmP1jnWkqxxMn++KeSkpCWNUHQzm3X9BEBR0=;
 b=Gz4yewxda6NSC/zi3YA/G+22sVtYEtYJWwz1hqHXnrP0FqaKyr6B9/KDbuuEgC7Ks/
 WK05eow148cw6+eavWIs3OKvvdu2kzNcdqlI6A9TZRo1OZqe8q80U6HTLgQxn2zNSIX4
 U5u5I3lrgV1ScqIkHjBZmh6l610aGmjaKQVYc=
X-Google-DKIM-Signature: v=1; a=rsa-sha256; c=relaxed/relaxed;
 d=1e100.net; s=20230601; t=1720009068; x=1720613868;
 h=references:in-reply-to:cc:to:from:subject:message-id:date
 :x-gm-message-state:from:to:cc:subject:date:message-id:reply-to;
 bh=SGUs/ERzmP1jnWkqxxMn++KeSkpCWNUHQzm3X9BEBR0=;
 b=Xs5tBduNSbpULPOAdxbk4uLGcpDF0AwcxnISWtVrlHQ4qQckM+vfsKDvuY/csj+ya4
 FOieKNDUXyluBDOhmf63sc/gowwVUqAGtv+UpRUhwapDYhhCi7gA6VlvKC1tsfH777N4
 S1HlVo5PfOEKIri0wxiIhvuIlpCSckab5QzL+0S8NL/wMsR3hDXpUMZOTTlyySJyFuya
 H9Bpj20bpXEWjje8lJStPn71UpLniYkYn0mE/YiNIB540dsNy8wNYWUaDasts5tlsHDG
 nNBX0mxKDPhtnr+Bfl1/kNV+nB80Mvehy7UtB1boFnwuPDxyoNQTvY7dIFPjK5jpRGHq
 +71A==
X-Gm-Message-State: AOJu0YxhICWQW2rxp/bUpwa9Krc3/FqRnK5Hd1zeF5R61Q7LWqbsgW92
 s7zOb6xBryDkNQbXjZQqo+GzBwPWrUaWiL0aq7CK2qibJIiCvwmeREA/zWe7MfmP7TtQuDLU7zz
 O4PtRbK+xMO8ZS8BILTG9kApFZx6+c9ciKiwq2/jCwZdRHQTJGjwI7uiK
X-Google-Smtp-Source: AGHT+IF06bnhe6GRfNpmPcgBraoOraB0k1geSFn20mYnrTH+EF5upmuv8hHRSUFJhUJSyYCHSk++GuASSObz
X-Received: by 2002:a05:6214:5010:b0:6b5:50:4427 with SMTP id
 6a1803df08f44-6b5b704ee85mr119846896d6.12.1720009068390; 
 Wed, 03 Jul 2024 05:17:48 -0700 (PDT)
Received: from postal.iol.unh.edu (postal.iol.unh.edu.
 [2606:4100:3880:1234::84]) by smtp-relay.gmail.com with ESMTPS id
 6a1803df08f44-6b59e5d9cb7sm5655176d6.59.2024.07.03.05.17.48
 (version=TLS1_2 cipher=ECDHE-ECDSA-AES128-GCM-SHA256 bits=128/128);
 Wed, 03 Jul 2024 05:17:48 -0700 (PDT)
X-Relaying-Domain: iol.unh.edu
Date: Wed, 03 Jul 2024 05:17:48 -0700 (PDT)
Message-ID: <6685416c.050a0220.6b6d8.a853SMTPIN_ADDED_MISSING@mx.google.com>
Received: from [172.21.0.7] (unknown [172.18.0.240])
 by postal.iol.unh.edu (Postfix) with ESMTP id 083F760526E2;
 Wed,  3 Jul 2024 08:17:48 -0400 (EDT)
Subject: |PENDING| pw142060-142062 [PATCH] [v3,3/3] net/virtio_user: support 
From: dpdklab@iol.unh.edu
To: Test Report <test-report@dpdk.org>
Cc: dpdk-test-reports@iol.unh.edu
In-Reply-To: <20240703100353.2243038-4-schalla@marvell.com>
References: <20240703100353.2243038-4-schalla@marvell.com>
Content-Type: text/plain
X-BeenThere: test-report@dpdk.org
X-Mailman-Version: 2.1.29
Precedence: list
List-Id: automatic DPDK test reports <test-report.dpdk.org>
List-Unsubscribe: <https://mails.dpdk.org/options/test-report>,
 <mailto:test-report-request@dpdk.org?subject=unsubscribe>
List-Archive: <http://mails.dpdk.org/archives/test-report/>
List-Post: <mailto:test-report@dpdk.org>
List-Help: <mailto:test-report-request@dpdk.org?subject=help>
List-Subscribe: <https://mails.dpdk.org/listinfo/test-report>,
 <mailto:test-report-request@dpdk.org?subject=subscribe>
Errors-To: test-report-bounces@dpdk.org

Test-Label: iol-abi-testing
Test-Status: PENDING
http://dpdk.org/patch/142062

_Testing pending_

Submitter: Srujana Challa <schalla@marvell.com>
Date: Wednesday, July 03 2024 10:03:53 
DPDK git baseline: Repo:dpdk
  Branch: master
  CommitID:d4cc6d4525f35078153f75ece05b7420aa11c37d

142060-142062 --> testing pending

Test environment and result as below:

+-------------------+----------+
|    Environment    | abi_test |
+===================+==========+
| CentOS Stream 8   | PASS     |
+-------------------+----------+
| Debian Bullseye   | PASS     |
+-------------------+----------+
| CentOS Stream 9   | PASS     |
+-------------------+----------+
| Fedora 37         | PEND     |
+-------------------+----------+
| Debian 12         | PEND     |
+-------------------+----------+
| Fedora 38 (Clang) | PASS     |
+-------------------+----------+
| RHEL8             | PEND     |
+-------------------+----------+
| Ubuntu 24.04      | PASS     |
+-------------------+----------+
| Fedora 39 (Clang) | PASS     |
+-------------------+----------+
| Fedora 39         | PASS     |
+-------------------+----------+
| Fedora 40 (Clang) | PASS     |
+-------------------+----------+
| Fedora 38         | PEND     |
+-------------------+----------+
| RHEL9             | PEND     |
+-------------------+----------+
| Fedora 40         | PEND     |
+-------------------+----------+
| Ubuntu 22.04      | PEND     |
+-------------------+----------+
| openSUSE Leap 15  | PEND     |
+-------------------+----------+


CentOS Stream 8
	Kernel: 5.4.0-167-generic
	Compiler: gcc 8.5.0 20210514

Debian Bullseye
	Kernel: 5.4.0-167-generic
	Compiler: gcc 10.2.1-6

CentOS Stream 9
	Kernel: 5.4.0-167-generic
	Compiler: gcc 11.4.1 20230605

Fedora 37
	Kernel: Depends on container host system
	Compiler: gcc 12.3.1

Debian 12
	Kernel: Container Host Kernel
	Compiler: gcc 12.2.0

Fedora 38 (Clang)
	Kernel: Depends on container host
	Compiler: clang 16.0.6

RHEL8
	Kernel: 5.4.0-167-generic
	Compiler: gcc 8.5.0 20210514 (Red Hat 8.5.0-20)

Ubuntu 24.04
	Kernel: 5.4.0-167-generic
	Compiler: gcc 13.2.0

Fedora 39 (Clang)
	Kernel: Depends on container host
	Compiler: clang 17.0.6

Fedora 39
	Kernel: Depends on container host
	Compiler: gcc 13.2.1

Fedora 40 (Clang)
	Kernel: Depends on container host
	Compiler: clang 18.1.6

Fedora 38
	Kernel: Depends on container host
	Compiler: gcc 13.2.1

RHEL9
	Kernel: Depends on container host
	Compiler: gcc 11.4.1

Fedora 40
	Kernel: Depends on container host
	Compiler: gcc 14.1.1

Ubuntu 22.04
	Kernel: 5.4.0-167-generic
	Compiler: gcc 11.4.0

openSUSE Leap 15
	Kernel: 5.4.0-167-generic
	Compiler: gcc 7.5.0

To view detailed results, visit:
https://lab.dpdk.org/results/dashboard/patchsets/30397/

UNH-IOL DPDK Community Lab

To manage your email subscriptions, visit: 
https://lab.dpdk.org/results/dashboard/preferences/subscriptions/