From mboxrd@z Thu Jan  1 00:00:00 1970
Return-Path: <test-report-bounces@dpdk.org>
Received: from mails.dpdk.org (mails.dpdk.org [217.70.189.124])
	by inbox.dpdk.org (Postfix) with ESMTP id 5F48D45561
	for <public@inbox.dpdk.org>; Wed,  3 Jul 2024 15:52:25 +0200 (CEST)
Received: from mails.dpdk.org (localhost [127.0.0.1])
	by mails.dpdk.org (Postfix) with ESMTP id 5B4F142DB4;
	Wed,  3 Jul 2024 15:52:25 +0200 (CEST)
Received: from mail-pj1-f98.google.com (mail-pj1-f98.google.com
 [209.85.216.98]) by mails.dpdk.org (Postfix) with ESMTP id C43F042DB1
 for <test-report@dpdk.org>; Wed,  3 Jul 2024 15:52:23 +0200 (CEST)
Received: by mail-pj1-f98.google.com with SMTP id
 98e67ed59e1d1-2c927152b4bso3893901a91.2
 for <test-report@dpdk.org>; Wed, 03 Jul 2024 06:52:23 -0700 (PDT)
DKIM-Signature: v=1; a=rsa-sha256; c=relaxed/relaxed;
 d=iol.unh.edu; s=unh-iol; t=1720014743; x=1720619543; darn=dpdk.org;
 h=references:in-reply-to:cc:to:from:subject:message-id:date:from:to
 :cc:subject:date:message-id:reply-to;
 bh=sVpeL03eCMOHgKgV5EQgTOGVeNvBNicy+vgV0KFBCWY=;
 b=ABQhiqhQZ6eNhZswKutf7CKI95iOrH65OMv19+TZfavvQUKqBLp30uTLG0Ce7A049k
 xUkVGxY/O599+v74jOvn/961UBybNyUCHqI0jxMEcpzDMF4yggzl28TFzI3a/V6/bx1O
 ZmaOmdQbPEL89jL2Sxy73bT3x3te9iKxKKSAE=
X-Google-DKIM-Signature: v=1; a=rsa-sha256; c=relaxed/relaxed;
 d=1e100.net; s=20230601; t=1720014743; x=1720619543;
 h=references:in-reply-to:cc:to:from:subject:message-id:date
 :x-gm-message-state:from:to:cc:subject:date:message-id:reply-to;
 bh=sVpeL03eCMOHgKgV5EQgTOGVeNvBNicy+vgV0KFBCWY=;
 b=BNVk4bt9gvxTh/rBQeag+kijmcf6LeM2Cjj6eZw2oxsAQz4t1gcNuKIrigMh9ahOLI
 /xvQ574fhqs1BSvIGl0lZzFXoEuKOQAhM+kPvkilr+8VxqvvzxCbOoX4bh9hPAvGUbdF
 obn/LyEPeDW6Xgo8IuNNoeTfxa/9X78MV7RmflLQzdJSWPk7/ReeNRbRgLeXGHo+VKmP
 FCj5Jm7L77zyAvciG8N8M70TVwA59woQGn2zA6zJQpqmoxNnHTmVh3huoadMYhKvdXz7
 OkkaMEZuudjVieKBFy6NiUPBIkUwfj+Z0Mn1ZXdcrwUVLrDrWBpMPRF+H/1rKyphRm6F
 WcDA==
X-Gm-Message-State: AOJu0YxZJlU/W+ufqKqnVfDkpwZXkpayWYDZ7VDIOOKuq2KkM0rVQR5r
 tCeNgISXsROv76CDhERCNxE+A4kvZzzvrD4WG3OvFnvmysHjd3ZVXzSR3Z9ZQNbrom5CZ5BWffL
 TKT/Env2m9LI/6lrGqqyRa47eMyu4w6S9DGYti9MbKaUM0OU6PZ9dxJdM
X-Google-Smtp-Source: AGHT+IHrOT8wTlrqF0/LsNEbJ3yKXcBnb2LJoGh04AWKBtqG+xsewexiUz+3vGtufskIpA3EfvbQtyh81aX2
X-Received: by 2002:a17:90b:368a:b0:2c9:7ff3:9417 with SMTP id
 98e67ed59e1d1-2c97ff3947amr1025903a91.28.1720014742905; 
 Wed, 03 Jul 2024 06:52:22 -0700 (PDT)
Received: from postal.iol.unh.edu (postal.iol.unh.edu.
 [2606:4100:3880:1234::84]) by smtp-relay.gmail.com with ESMTPS id
 98e67ed59e1d1-2c91d3b6953sm544703a91.14.2024.07.03.06.52.22
 (version=TLS1_2 cipher=ECDHE-ECDSA-AES128-GCM-SHA256 bits=128/128);
 Wed, 03 Jul 2024 06:52:22 -0700 (PDT)
X-Relaying-Domain: iol.unh.edu
Date: Wed, 03 Jul 2024 06:52:22 -0700 (PDT)
Message-ID: <66855796.170a0220.d660f.9829SMTPIN_ADDED_MISSING@mx.google.com>
Received: from [172.21.0.6] (unknown [172.18.0.240])
 by postal.iol.unh.edu (Postfix) with ESMTP id EEFF560526E2;
 Wed,  3 Jul 2024 09:52:21 -0400 (EDT)
Subject: |PENDING| pw142060-142062 [PATCH] [v3,3/3] net/virtio_user: support 
From: dpdklab@iol.unh.edu
To: Test Report <test-report@dpdk.org>
Cc: dpdk-test-reports@iol.unh.edu
In-Reply-To: <20240703100353.2243038-4-schalla@marvell.com>
References: <20240703100353.2243038-4-schalla@marvell.com>
Content-Type: text/plain
X-BeenThere: test-report@dpdk.org
X-Mailman-Version: 2.1.29
Precedence: list
List-Id: automatic DPDK test reports <test-report.dpdk.org>
List-Unsubscribe: <https://mails.dpdk.org/options/test-report>,
 <mailto:test-report-request@dpdk.org?subject=unsubscribe>
List-Archive: <http://mails.dpdk.org/archives/test-report/>
List-Post: <mailto:test-report@dpdk.org>
List-Help: <mailto:test-report-request@dpdk.org?subject=help>
List-Subscribe: <https://mails.dpdk.org/listinfo/test-report>,
 <mailto:test-report-request@dpdk.org?subject=subscribe>
Errors-To: test-report-bounces@dpdk.org

Test-Label: iol-unit-amd64-testing
Test-Status: PENDING
http://dpdk.org/patch/142062

_Testing pending_

Submitter: Srujana Challa <schalla@marvell.com>
Date: Wednesday, July 03 2024 10:03:53 
DPDK git baseline: Repo:dpdk
  Branch: master
  CommitID:d4cc6d4525f35078153f75ece05b7420aa11c37d

142060-142062 --> testing pending

Test environment and result as below:

+-------------------+----------------+
|    Environment    | dpdk_unit_test |
+===================+================+
| CentOS Stream 8   | PASS           |
+-------------------+----------------+
| CentOS Stream 9   | PASS           |
+-------------------+----------------+
| Debian 12         | PASS           |
+-------------------+----------------+
| Fedora 37         | PEND           |
+-------------------+----------------+
| Fedora 38         | PEND           |
+-------------------+----------------+
| Fedora 38 (Clang) | PEND           |
+-------------------+----------------+
| Fedora 39         | PEND           |
+-------------------+----------------+
| Fedora 39 (Clang) | PEND           |
+-------------------+----------------+
| Fedora 40         | PEND           |
+-------------------+----------------+
| Fedora 40 (Clang) | PEND           |
+-------------------+----------------+
| openSUSE Leap 15  | PEND           |
+-------------------+----------------+
| RHEL8             | PEND           |
+-------------------+----------------+
| Ubuntu 20.04      | PEND           |
+-------------------+----------------+
| RHEL9             | PEND           |
+-------------------+----------------+
| Ubuntu 24.04      | PEND           |
+-------------------+----------------+
| Debian Bullseye   | PEND           |
+-------------------+----------------+


CentOS Stream 8
	Kernel: 5.4.0-167-generic
	Compiler: gcc 8.5.0 20210514

CentOS Stream 9
	Kernel: 5.4.0-167-generic
	Compiler: gcc 11.4.1 20230605

Debian 12
	Kernel: Container Host Kernel
	Compiler: gcc 12.2.0

Fedora 37
	Kernel: Depends on container host system
	Compiler: gcc 12.3.1

Fedora 38
	Kernel: Depends on container host
	Compiler: gcc 13.2.1

Fedora 38 (Clang)
	Kernel: Depends on container host
	Compiler: clang 16.0.6

Fedora 39
	Kernel: Depends on container host
	Compiler: gcc 13.2.1

Fedora 39 (Clang)
	Kernel: Depends on container host
	Compiler: clang 17.0.6

Fedora 40
	Kernel: Depends on container host
	Compiler: gcc 14.1.1

Fedora 40 (Clang)
	Kernel: Depends on container host
	Compiler: clang 18.1.6

openSUSE Leap 15
	Kernel: 5.4.0-167-generic
	Compiler: gcc 7.5.0

RHEL8
	Kernel: 5.4.0-167-generic
	Compiler: gcc 8.5.0 20210514 (Red Hat 8.5.0-20)

Ubuntu 20.04
	Kernel: 5.4.0-167-generic
	Compiler: gcc 9.4.0-1ubuntu1~20.04.1

RHEL9
	Kernel: Depends on container host
	Compiler: gcc 11.4.1

Ubuntu 24.04
	Kernel: 5.4.0-167-generic
	Compiler: gcc 13.2.0

Debian Bullseye
	Kernel: 5.4.0-167-generic
	Compiler: gcc 10.2.1-6

To view detailed results, visit:
https://lab.dpdk.org/results/dashboard/patchsets/30397/

UNH-IOL DPDK Community Lab

To manage your email subscriptions, visit: 
https://lab.dpdk.org/results/dashboard/preferences/subscriptions/