From mboxrd@z Thu Jan  1 00:00:00 1970
Return-Path: <test-report-bounces@dpdk.org>
Received: from mails.dpdk.org (mails.dpdk.org [217.70.189.124])
	by inbox.dpdk.org (Postfix) with ESMTP id 914FC45562
	for <public@inbox.dpdk.org>; Wed,  3 Jul 2024 16:33:29 +0200 (CEST)
Received: from mails.dpdk.org (localhost [127.0.0.1])
	by mails.dpdk.org (Postfix) with ESMTP id 8E37C4279C;
	Wed,  3 Jul 2024 16:33:29 +0200 (CEST)
Received: from mail-pg1-f226.google.com (mail-pg1-f226.google.com
 [209.85.215.226])
 by mails.dpdk.org (Postfix) with ESMTP id BEFB340DD5
 for <test-report@dpdk.org>; Wed,  3 Jul 2024 16:33:27 +0200 (CEST)
Received: by mail-pg1-f226.google.com with SMTP id
 41be03b00d2f7-7182a634815so3413916a12.3
 for <test-report@dpdk.org>; Wed, 03 Jul 2024 07:33:27 -0700 (PDT)
DKIM-Signature: v=1; a=rsa-sha256; c=relaxed/relaxed;
 d=iol.unh.edu; s=unh-iol; t=1720017207; x=1720622007; darn=dpdk.org;
 h=references:in-reply-to:cc:to:from:subject:message-id:date:from:to
 :cc:subject:date:message-id:reply-to;
 bh=UL1IcyWKdbxJEA/xbhDQSmks6g6nbOEaE2BLtRC6K1I=;
 b=evV0P/bpi0qltHfYA4jw15wIE47OBAHCiC+5MHINoVpwGLOax58uTELbdTaCaWOi39
 Wh/mDKIR5vqOtw2tfyMxFsiQw8XBTPvlPn6oRb3rkcjz+1isjfccmues2lrfDWI2BT6i
 qVpsnYxs1nI5pK/hJSj20kEwfzI/5DwYM5xNs=
X-Google-DKIM-Signature: v=1; a=rsa-sha256; c=relaxed/relaxed;
 d=1e100.net; s=20230601; t=1720017207; x=1720622007;
 h=references:in-reply-to:cc:to:from:subject:message-id:date
 :x-gm-message-state:from:to:cc:subject:date:message-id:reply-to;
 bh=UL1IcyWKdbxJEA/xbhDQSmks6g6nbOEaE2BLtRC6K1I=;
 b=GK1jBl6dnXiVr1HkhYqgt/nZaOrabf7VY9QFF7q2bIxEVKt9HF54WbjecKFvWDsoMo
 f6AvIlp/NpwEjKdS43ahzc4FKNRKeGd/8nZUVpVMZsA/xUoTs3drDO8UN8xx+Kp3UttU
 ALrTPd0YQMdEpBOovPrt6arZ9zazsAWngM/PYMoKWvZxELmrinEg45jlDpKjFGXqFCtZ
 LIYOgLCXL3NbNaQKgsIwjE5r6s0MKllH/3J7B1kY8NlqfIx1mtWCSrY2KlP41ek8S2Ru
 IO2otKwTcTxWNuBHJCsYTHqMFtBqBKA4KBaIq/NIFU8hNyE2J4RsKle7Rk2tVaCfTk8X
 MuJA==
X-Gm-Message-State: AOJu0YybS0uxodiPnZXFKSO9F1NhESuKhIiKcU6XPOD59I3bx31Phj3G
 ZiFgMxc+2e6EUZp2dzNBBfb8MK72+ka9KEiHHctNp3nI3MMDpWXRs05pJQ55gY5bxsMLOlRJbHh
 1S8d/3Cmeg8e15sGy0HvWo12YgmFPu5kyDXgQInPA
X-Google-Smtp-Source: AGHT+IGdUaTgI2a06i5oHAzYXR9NyvCc2JFFBKX8/pcXX3ch3v2jMkKpvlYvgUM/5xtvied2B+bygV72W+hX
X-Received: by 2002:a05:6a20:c992:b0:1be:c1fd:b3fb with SMTP id
 adf61e73a8af0-1bef6217078mr10533907637.60.1720017206961; 
 Wed, 03 Jul 2024 07:33:26 -0700 (PDT)
Received: from postal.iol.unh.edu (postal.iol.unh.edu. [132.177.123.84])
 by smtp-relay.gmail.com with ESMTPS id
 d9443c01a7336-1fac155b110sm3576015ad.76.2024.07.03.07.33.26
 (version=TLS1_2 cipher=ECDHE-ECDSA-AES128-GCM-SHA256 bits=128/128);
 Wed, 03 Jul 2024 07:33:26 -0700 (PDT)
X-Relaying-Domain: iol.unh.edu
Date: Wed, 03 Jul 2024 07:33:26 -0700 (PDT)
Message-ID: <66856136.170a0220.2dc9e.bb74SMTPIN_ADDED_MISSING@mx.google.com>
Received: from [172.17.0.5] (unknown [172.18.0.214])
 by postal.iol.unh.edu (Postfix) with ESMTP id 05D646050A6B;
 Wed,  3 Jul 2024 10:33:26 -0400 (EDT)
Subject: |PENDING| pw142082-142084 [PATCH] [v4,3/3] drivers: replace printf w
From: dpdklab@iol.unh.edu
To: Test Report <test-report@dpdk.org>
Cc: dpdk-test-reports@iol.unh.edu
In-Reply-To: <20240703121614.198015-3-hemant.agrawal@nxp.com>
References: <20240703121614.198015-3-hemant.agrawal@nxp.com>
Content-Type: text/plain
X-BeenThere: test-report@dpdk.org
X-Mailman-Version: 2.1.29
Precedence: list
List-Id: automatic DPDK test reports <test-report.dpdk.org>
List-Unsubscribe: <https://mails.dpdk.org/options/test-report>,
 <mailto:test-report-request@dpdk.org?subject=unsubscribe>
List-Archive: <http://mails.dpdk.org/archives/test-report/>
List-Post: <mailto:test-report@dpdk.org>
List-Help: <mailto:test-report-request@dpdk.org?subject=help>
List-Subscribe: <https://mails.dpdk.org/listinfo/test-report>,
 <mailto:test-report-request@dpdk.org?subject=subscribe>
Errors-To: test-report-bounces@dpdk.org

Test-Label: iol-unit-amd64-testing
Test-Status: PENDING
http://dpdk.org/patch/142084

_Testing pending_

Submitter: Hemant Agrawal <hemant.agrawal@nxp.com>
Date: Wednesday, July 03 2024 12:16:14 
DPDK git baseline: Repo:dpdk
  Branch: master
  CommitID:c15902587b538ff02cfb0fbb4dd481f1503d936b

142082-142084 --> testing pending

Test environment and result as below:

+-------------------+----------------+
|    Environment    | dpdk_unit_test |
+===================+================+
| CentOS Stream 8   | PASS           |
+-------------------+----------------+
| CentOS Stream 9   | PASS           |
+-------------------+----------------+
| Debian Bullseye   | PASS           |
+-------------------+----------------+
| Debian 12         | PASS           |
+-------------------+----------------+
| Fedora 38         | PEND           |
+-------------------+----------------+
| Fedora 38 (Clang) | PEND           |
+-------------------+----------------+
| Fedora 39         | PEND           |
+-------------------+----------------+
| Fedora 39 (Clang) | PEND           |
+-------------------+----------------+
| Fedora 40         | PEND           |
+-------------------+----------------+
| Fedora 40 (Clang) | PEND           |
+-------------------+----------------+
| openSUSE Leap 15  | PEND           |
+-------------------+----------------+
| RHEL8             | PEND           |
+-------------------+----------------+
| RHEL9             | PEND           |
+-------------------+----------------+
| Ubuntu 20.04      | PEND           |
+-------------------+----------------+
| Ubuntu 22.04      | PEND           |
+-------------------+----------------+
| Ubuntu 24.04      | PEND           |
+-------------------+----------------+


CentOS Stream 8
	Kernel: 5.4.0-167-generic
	Compiler: gcc 8.5.0 20210514

CentOS Stream 9
	Kernel: 5.4.0-167-generic
	Compiler: gcc 11.4.1 20230605

Debian Bullseye
	Kernel: 5.4.0-167-generic
	Compiler: gcc 10.2.1-6

Debian 12
	Kernel: Container Host Kernel
	Compiler: gcc 12.2.0

Fedora 38
	Kernel: Depends on container host
	Compiler: gcc 13.2.1

Fedora 38 (Clang)
	Kernel: Depends on container host
	Compiler: clang 16.0.6

Fedora 39
	Kernel: Depends on container host
	Compiler: gcc 13.2.1

Fedora 39 (Clang)
	Kernel: Depends on container host
	Compiler: clang 17.0.6

Fedora 40
	Kernel: Depends on container host
	Compiler: gcc 14.1.1

Fedora 40 (Clang)
	Kernel: Depends on container host
	Compiler: clang 18.1.6

openSUSE Leap 15
	Kernel: 5.4.0-167-generic
	Compiler: gcc 7.5.0

RHEL8
	Kernel: 5.4.0-167-generic
	Compiler: gcc 8.5.0 20210514 (Red Hat 8.5.0-20)

RHEL9
	Kernel: Depends on container host
	Compiler: gcc 11.4.1

Ubuntu 20.04
	Kernel: 5.4.0-167-generic
	Compiler: gcc 9.4.0-1ubuntu1~20.04.1

Ubuntu 22.04
	Kernel: 5.4.0-167-generic
	Compiler: gcc 11.4.0

Ubuntu 24.04
	Kernel: 5.4.0-167-generic
	Compiler: gcc 13.2.0

To view detailed results, visit:
https://lab.dpdk.org/results/dashboard/patchsets/30400/

UNH-IOL DPDK Community Lab

To manage your email subscriptions, visit: 
https://lab.dpdk.org/results/dashboard/preferences/subscriptions/