From mboxrd@z Thu Jan  1 00:00:00 1970
Return-Path: <test-report-bounces@dpdk.org>
Received: from mails.dpdk.org (mails.dpdk.org [217.70.189.124])
	by inbox.dpdk.org (Postfix) with ESMTP id E870E45562
	for <public@inbox.dpdk.org>; Wed,  3 Jul 2024 16:34:53 +0200 (CEST)
Received: from mails.dpdk.org (localhost [127.0.0.1])
	by mails.dpdk.org (Postfix) with ESMTP id E5E6242E5F;
	Wed,  3 Jul 2024 16:34:53 +0200 (CEST)
Received: from mail-il1-f225.google.com (mail-il1-f225.google.com
 [209.85.166.225])
 by mails.dpdk.org (Postfix) with ESMTP id 90F6942E5C
 for <test-report@dpdk.org>; Wed,  3 Jul 2024 16:34:52 +0200 (CEST)
Received: by mail-il1-f225.google.com with SMTP id
 e9e14a558f8ab-38257b4283dso2695125ab.2
 for <test-report@dpdk.org>; Wed, 03 Jul 2024 07:34:52 -0700 (PDT)
DKIM-Signature: v=1; a=rsa-sha256; c=relaxed/relaxed;
 d=iol.unh.edu; s=unh-iol; t=1720017292; x=1720622092; darn=dpdk.org;
 h=references:in-reply-to:cc:to:from:subject:message-id:date:from:to
 :cc:subject:date:message-id:reply-to;
 bh=+fG7PdCVQVBeG/63Fp6SgXFIgRMmquHXtWggXUDLu2g=;
 b=SyqMm3PZkbXGATZ31l/FJYfrqnREhyMqBa7cOZBj0d8WFAC7nSEwvqwiCRTSrA7ukT
 kqmQsN+VVDrAFMThwBKY6WpMsbbAUnINc7RXrNworD0yhf/I3GwQB3W0k1aBkbJW1s+9
 74MFXByzWiq5cLtalt+9BjWtipFwHAQ90Nh8w=
X-Google-DKIM-Signature: v=1; a=rsa-sha256; c=relaxed/relaxed;
 d=1e100.net; s=20230601; t=1720017292; x=1720622092;
 h=references:in-reply-to:cc:to:from:subject:message-id:date
 :x-gm-message-state:from:to:cc:subject:date:message-id:reply-to;
 bh=+fG7PdCVQVBeG/63Fp6SgXFIgRMmquHXtWggXUDLu2g=;
 b=iNX8p05PTq15apqqnzYxX6jQWaVy3b6KsJXMmzuBelM7faOFHmaT5zB6ldSqIiyBl4
 Ao7qYdCdU45hD5eo9jJxT1TaoqNMzXZ3bRtwsfaejAacDHt9kb+NAsF/Tdf6O3jtOM6s
 q34Nr15DKG0TWwdkhggOCn6kGj/JYunaH0GadFtUHg8GpvfBRviH6CMWKWa7LAsr1Uyv
 sIfkwsp5rqg81txYMfNBpz2GQ5GRZ+blAPrTma8PaYTiCDW/rBHgp9q2DTSlefdhOccw
 ew2gYFbOxumTtHxcPKiwHfizRrN7sM4ziHU7qzkQLtR7hlHqsIMriS/03OAw8hP0/U98
 c6rA==
X-Gm-Message-State: AOJu0YxkjOcMxLcyW5TMBN2gI4rbumtN8mYdJMReDS8RLUhtkbQMrtJ/
 b5s0YWxb6LnTpR4R/Kmm7Naerw5UjuIde9JiSi3eiarZmu3zFTusMn2NDDyV3JvfInCLBMai+Xc
 El6O0FXJ2PxZtyj6utXhBm6IF9xuGqyqNbeNVEJpCmzbDTr4mGD3Xc5p1
X-Google-Smtp-Source: AGHT+IE/c3ysrKB0pVR7/HOTv+2I/PyRNTIUD6pvE5MT+Pri49Bciim992gJNr8wjvsTqpmpK+NSAmPWPUdq
X-Received: by 2002:a05:6e02:1d12:b0:375:da02:b7ef with SMTP id
 e9e14a558f8ab-37cd14af322mr161270135ab.19.1720017291915; 
 Wed, 03 Jul 2024 07:34:51 -0700 (PDT)
Received: from postal.iol.unh.edu (postal.iol.unh.edu.
 [2606:4100:3880:1234::84]) by smtp-relay.gmail.com with ESMTPS id
 41be03b00d2f7-72c6c8ec832sm258451a12.25.2024.07.03.07.34.51
 (version=TLS1_2 cipher=ECDHE-ECDSA-AES128-GCM-SHA256 bits=128/128);
 Wed, 03 Jul 2024 07:34:51 -0700 (PDT)
X-Relaying-Domain: iol.unh.edu
Date: Wed, 03 Jul 2024 07:34:51 -0700 (PDT)
Message-ID: <6685618b.630a0220.fe6c8.39fdSMTPIN_ADDED_MISSING@mx.google.com>
Received: from [172.21.0.8] (unknown [172.18.0.240])
 by postal.iol.unh.edu (Postfix) with ESMTP id 4DA216050A6B;
 Wed,  3 Jul 2024 10:34:51 -0400 (EDT)
Subject: |PENDING| pw142082-142084 [PATCH] [v4,3/3] drivers: replace printf w
From: dpdklab@iol.unh.edu
To: Test Report <test-report@dpdk.org>
Cc: dpdk-test-reports@iol.unh.edu
In-Reply-To: <20240703121614.198015-3-hemant.agrawal@nxp.com>
References: <20240703121614.198015-3-hemant.agrawal@nxp.com>
Content-Type: text/plain
X-BeenThere: test-report@dpdk.org
X-Mailman-Version: 2.1.29
Precedence: list
List-Id: automatic DPDK test reports <test-report.dpdk.org>
List-Unsubscribe: <https://mails.dpdk.org/options/test-report>,
 <mailto:test-report-request@dpdk.org?subject=unsubscribe>
List-Archive: <http://mails.dpdk.org/archives/test-report/>
List-Post: <mailto:test-report@dpdk.org>
List-Help: <mailto:test-report-request@dpdk.org?subject=help>
List-Subscribe: <https://mails.dpdk.org/listinfo/test-report>,
 <mailto:test-report-request@dpdk.org?subject=subscribe>
Errors-To: test-report-bounces@dpdk.org

Test-Label: iol-abi-testing
Test-Status: PENDING
http://dpdk.org/patch/142084

_Testing pending_

Submitter: Hemant Agrawal <hemant.agrawal@nxp.com>
Date: Wednesday, July 03 2024 12:16:14 
DPDK git baseline: Repo:dpdk
  Branch: master
  CommitID:c15902587b538ff02cfb0fbb4dd481f1503d936b

142082-142084 --> testing pending

Test environment and result as below:

+-------------------+----------+
|    Environment    | abi_test |
+===================+==========+
| CentOS Stream 8   | PASS     |
+-------------------+----------+
| Fedora 37         | PASS     |
+-------------------+----------+
| Debian 12         | PASS     |
+-------------------+----------+
| CentOS Stream 9   | PASS     |
+-------------------+----------+
| Debian Bullseye   | PASS     |
+-------------------+----------+
| Fedora 38 (Clang) | PASS     |
+-------------------+----------+
| Fedora 38         | PASS     |
+-------------------+----------+
| Fedora 39         | PEND     |
+-------------------+----------+
| Fedora 39 (Clang) | PEND     |
+-------------------+----------+
| Fedora 40 (Clang) | PEND     |
+-------------------+----------+
| Fedora 40         | PEND     |
+-------------------+----------+
| RHEL8             | PASS     |
+-------------------+----------+
| RHEL9             | PEND     |
+-------------------+----------+
| openSUSE Leap 15  | PEND     |
+-------------------+----------+
| Ubuntu 22.04      | PEND     |
+-------------------+----------+
| Ubuntu 24.04      | PEND     |
+-------------------+----------+


CentOS Stream 8
	Kernel: 5.4.0-167-generic
	Compiler: gcc 8.5.0 20210514

Fedora 37
	Kernel: Depends on container host system
	Compiler: gcc 12.3.1

Debian 12
	Kernel: Container Host Kernel
	Compiler: gcc 12.2.0

CentOS Stream 9
	Kernel: 5.4.0-167-generic
	Compiler: gcc 11.4.1 20230605

Debian Bullseye
	Kernel: 5.4.0-167-generic
	Compiler: gcc 10.2.1-6

Fedora 38 (Clang)
	Kernel: Depends on container host
	Compiler: clang 16.0.6

Fedora 38
	Kernel: Depends on container host
	Compiler: gcc 13.2.1

Fedora 39
	Kernel: Depends on container host
	Compiler: gcc 13.2.1

Fedora 39 (Clang)
	Kernel: Depends on container host
	Compiler: clang 17.0.6

Fedora 40 (Clang)
	Kernel: Depends on container host
	Compiler: clang 18.1.6

Fedora 40
	Kernel: Depends on container host
	Compiler: gcc 14.1.1

RHEL8
	Kernel: 5.4.0-167-generic
	Compiler: gcc 8.5.0 20210514 (Red Hat 8.5.0-20)

RHEL9
	Kernel: Depends on container host
	Compiler: gcc 11.4.1

openSUSE Leap 15
	Kernel: 5.4.0-167-generic
	Compiler: gcc 7.5.0

Ubuntu 22.04
	Kernel: 5.4.0-167-generic
	Compiler: gcc 11.4.0

Ubuntu 24.04
	Kernel: 5.4.0-167-generic
	Compiler: gcc 13.2.0

To view detailed results, visit:
https://lab.dpdk.org/results/dashboard/patchsets/30400/

UNH-IOL DPDK Community Lab

To manage your email subscriptions, visit: 
https://lab.dpdk.org/results/dashboard/preferences/subscriptions/