From mboxrd@z Thu Jan  1 00:00:00 1970
Return-Path: <test-report-bounces@dpdk.org>
Received: from mails.dpdk.org (mails.dpdk.org [217.70.189.124])
	by inbox.dpdk.org (Postfix) with ESMTP id 6048C45562
	for <public@inbox.dpdk.org>; Wed,  3 Jul 2024 16:35:57 +0200 (CEST)
Received: from mails.dpdk.org (localhost [127.0.0.1])
	by mails.dpdk.org (Postfix) with ESMTP id 5B60542E5B;
	Wed,  3 Jul 2024 16:35:57 +0200 (CEST)
Received: from mail-oi1-f225.google.com (mail-oi1-f225.google.com
 [209.85.167.225])
 by mails.dpdk.org (Postfix) with ESMTP id 7199F4279C
 for <test-report@dpdk.org>; Wed,  3 Jul 2024 16:35:56 +0200 (CEST)
Received: by mail-oi1-f225.google.com with SMTP id
 5614622812f47-3d841a56e1dso1777622b6e.2
 for <test-report@dpdk.org>; Wed, 03 Jul 2024 07:35:56 -0700 (PDT)
DKIM-Signature: v=1; a=rsa-sha256; c=relaxed/relaxed;
 d=iol.unh.edu; s=unh-iol; t=1720017355; x=1720622155; darn=dpdk.org;
 h=references:in-reply-to:cc:to:from:subject:message-id:date:from:to
 :cc:subject:date:message-id:reply-to;
 bh=Eib2q2AnHUF1TS3sNDwaLv+lgT51ovEHMf3usRCJfCI=;
 b=HuuyXdS+ItuLZrTxQ0fQEAt+6Ne0fq8DaoJVvQtmfVSfp9rJLM+L7UlCXU7Yuu6+tk
 lr8I4iJE7MZ/4mhi2RJ7UBvnOePtXci11/9hSPlYgA1ad40tSo8JosSwwntE+PylI5QE
 C4NhDUueB4M/wlEUIa4CkHtmL5LkZAgxeLbPI=
X-Google-DKIM-Signature: v=1; a=rsa-sha256; c=relaxed/relaxed;
 d=1e100.net; s=20230601; t=1720017355; x=1720622155;
 h=references:in-reply-to:cc:to:from:subject:message-id:date
 :x-gm-message-state:from:to:cc:subject:date:message-id:reply-to;
 bh=Eib2q2AnHUF1TS3sNDwaLv+lgT51ovEHMf3usRCJfCI=;
 b=W1WMzyBX6aVcHM1gR/CjAnwmwTmRSjy+XqZ6Rnqf4dPApYQll/IRNayCEtGRPP6ItY
 M7TTDaOoFtX/d0MnJRndTJCu2SGJffYdxnwjHwDmKtr8XpP7HbwX0PSbmRI8Bjh25cn9
 ObECzW00GZPzXjZBaOM+voMZDa1KQZ8c0Pk63L0OlWF+z0VIR+CxJir3gfQQ5Wh/SRWg
 g6hqhePcudV8cQUJGJLBeV/9ix3xmr9XyttXO2yd7gdnhVJEEF0CbGHmn7tNksoUWiuM
 uhsapdnKJ5BuNH18sgSpgUMpe78LJqD54qEdLxz8gwjLWYzYoEImNjA4lSI1Zg3Yo1mR
 EGSg==
X-Gm-Message-State: AOJu0YzT+xoSf0aGsJ1bzsgXIBY14UdTiTmbWqOSeFy+47mtNeqq3Zbe
 LPiF4O0FWI/YCsUaV4YV4xpOu6P65A5EdKfhIwQi9V086VzmR4TN55LYdhZwiz/zuOZ7ekm7spZ
 EDezLutHZDGRo46WkQPWroLfq7CfQ9WnO0RHJmtaYAB5Qpf3hsZEI67v+
X-Google-Smtp-Source: AGHT+IFFKu4qSIBic1EzcHZZS/SRq6riI8AqDodbXRc/1030qw+3oG2m8S7DOkOguO7LBUj6GziWwcOktYur
X-Received: by 2002:a05:6808:220d:b0:3d6:afcb:dbcf with SMTP id
 5614622812f47-3d6b31edbf5mr15817605b6e.17.1720017355575; 
 Wed, 03 Jul 2024 07:35:55 -0700 (PDT)
Received: from postal.iol.unh.edu (postal.iol.unh.edu.
 [2606:4100:3880:1234::84]) by smtp-relay.gmail.com with ESMTPS id
 6a1803df08f44-6b59e5da28esm5470796d6.50.2024.07.03.07.35.55
 (version=TLS1_2 cipher=ECDHE-ECDSA-AES128-GCM-SHA256 bits=128/128);
 Wed, 03 Jul 2024 07:35:55 -0700 (PDT)
X-Relaying-Domain: iol.unh.edu
Date: Wed, 03 Jul 2024 07:35:55 -0700 (PDT)
Message-ID: <668561cb.d40a0220.e992e.9668SMTPIN_ADDED_MISSING@mx.google.com>
Received: from [172.21.0.6] (unknown [172.18.0.240])
 by postal.iol.unh.edu (Postfix) with ESMTP id 4FFFC6050A6B;
 Wed,  3 Jul 2024 10:35:55 -0400 (EDT)
Subject: |PENDING| pw142082-142084 [PATCH] [v4,3/3] drivers: replace printf w
From: dpdklab@iol.unh.edu
To: Test Report <test-report@dpdk.org>
Cc: dpdk-test-reports@iol.unh.edu
In-Reply-To: <20240703121614.198015-3-hemant.agrawal@nxp.com>
References: <20240703121614.198015-3-hemant.agrawal@nxp.com>
Content-Type: text/plain
X-BeenThere: test-report@dpdk.org
X-Mailman-Version: 2.1.29
Precedence: list
List-Id: automatic DPDK test reports <test-report.dpdk.org>
List-Unsubscribe: <https://mails.dpdk.org/options/test-report>,
 <mailto:test-report-request@dpdk.org?subject=unsubscribe>
List-Archive: <http://mails.dpdk.org/archives/test-report/>
List-Post: <mailto:test-report@dpdk.org>
List-Help: <mailto:test-report-request@dpdk.org?subject=help>
List-Subscribe: <https://mails.dpdk.org/listinfo/test-report>,
 <mailto:test-report-request@dpdk.org?subject=subscribe>
Errors-To: test-report-bounces@dpdk.org

Test-Label: iol-unit-amd64-testing
Test-Status: PENDING
http://dpdk.org/patch/142084

_Testing pending_

Submitter: Hemant Agrawal <hemant.agrawal@nxp.com>
Date: Wednesday, July 03 2024 12:16:14 
DPDK git baseline: Repo:dpdk
  Branch: master
  CommitID:c15902587b538ff02cfb0fbb4dd481f1503d936b

142082-142084 --> testing pending

Test environment and result as below:

+-------------------+----------------+
|    Environment    | dpdk_unit_test |
+===================+================+
| CentOS Stream 8   | PASS           |
+-------------------+----------------+
| CentOS Stream 9   | PASS           |
+-------------------+----------------+
| Debian Bullseye   | PASS           |
+-------------------+----------------+
| Debian 12         | PASS           |
+-------------------+----------------+
| Fedora 38         | PASS           |
+-------------------+----------------+
| Fedora 38 (Clang) | PEND           |
+-------------------+----------------+
| Fedora 39         | PEND           |
+-------------------+----------------+
| Fedora 39 (Clang) | PEND           |
+-------------------+----------------+
| Fedora 40         | PEND           |
+-------------------+----------------+
| Fedora 40 (Clang) | PEND           |
+-------------------+----------------+
| openSUSE Leap 15  | PEND           |
+-------------------+----------------+
| RHEL8             | PEND           |
+-------------------+----------------+
| RHEL9             | PEND           |
+-------------------+----------------+
| Ubuntu 20.04      | PEND           |
+-------------------+----------------+
| Ubuntu 22.04      | PEND           |
+-------------------+----------------+
| Ubuntu 24.04      | PEND           |
+-------------------+----------------+
| Fedora 37         | PEND           |
+-------------------+----------------+


CentOS Stream 8
	Kernel: 5.4.0-167-generic
	Compiler: gcc 8.5.0 20210514

CentOS Stream 9
	Kernel: 5.4.0-167-generic
	Compiler: gcc 11.4.1 20230605

Debian Bullseye
	Kernel: 5.4.0-167-generic
	Compiler: gcc 10.2.1-6

Debian 12
	Kernel: Container Host Kernel
	Compiler: gcc 12.2.0

Fedora 38
	Kernel: Depends on container host
	Compiler: gcc 13.2.1

Fedora 38 (Clang)
	Kernel: Depends on container host
	Compiler: clang 16.0.6

Fedora 39
	Kernel: Depends on container host
	Compiler: gcc 13.2.1

Fedora 39 (Clang)
	Kernel: Depends on container host
	Compiler: clang 17.0.6

Fedora 40
	Kernel: Depends on container host
	Compiler: gcc 14.1.1

Fedora 40 (Clang)
	Kernel: Depends on container host
	Compiler: clang 18.1.6

openSUSE Leap 15
	Kernel: 5.4.0-167-generic
	Compiler: gcc 7.5.0

RHEL8
	Kernel: 5.4.0-167-generic
	Compiler: gcc 8.5.0 20210514 (Red Hat 8.5.0-20)

RHEL9
	Kernel: Depends on container host
	Compiler: gcc 11.4.1

Ubuntu 20.04
	Kernel: 5.4.0-167-generic
	Compiler: gcc 9.4.0-1ubuntu1~20.04.1

Ubuntu 22.04
	Kernel: 5.4.0-167-generic
	Compiler: gcc 11.4.0

Ubuntu 24.04
	Kernel: 5.4.0-167-generic
	Compiler: gcc 13.2.0

Fedora 37
	Kernel: Depends on container host system
	Compiler: gcc 12.3.1

To view detailed results, visit:
https://lab.dpdk.org/results/dashboard/patchsets/30400/

UNH-IOL DPDK Community Lab

To manage your email subscriptions, visit: 
https://lab.dpdk.org/results/dashboard/preferences/subscriptions/