From mboxrd@z Thu Jan  1 00:00:00 1970
Return-Path: <test-report-bounces@dpdk.org>
Received: from mails.dpdk.org (mails.dpdk.org [217.70.189.124])
	by inbox.dpdk.org (Postfix) with ESMTP id 6331A45562
	for <public@inbox.dpdk.org>; Wed,  3 Jul 2024 17:03:25 +0200 (CEST)
Received: from mails.dpdk.org (localhost [127.0.0.1])
	by mails.dpdk.org (Postfix) with ESMTP id 60A6E42E56;
	Wed,  3 Jul 2024 17:03:25 +0200 (CEST)
Received: from mail-io1-f97.google.com (mail-io1-f97.google.com
 [209.85.166.97]) by mails.dpdk.org (Postfix) with ESMTP id E88C24279C
 for <test-report@dpdk.org>; Wed,  3 Jul 2024 17:03:23 +0200 (CEST)
Received: by mail-io1-f97.google.com with SMTP id
 ca18e2360f4ac-7f4e2703306so21711739f.0
 for <test-report@dpdk.org>; Wed, 03 Jul 2024 08:03:23 -0700 (PDT)
DKIM-Signature: v=1; a=rsa-sha256; c=relaxed/relaxed;
 d=iol.unh.edu; s=unh-iol; t=1720019003; x=1720623803; darn=dpdk.org;
 h=references:in-reply-to:cc:to:from:subject:message-id:date:from:to
 :cc:subject:date:message-id:reply-to;
 bh=/O/aODlVdSiDjC1xxtgQK6qqB2sYX6rwCG1tQXiUFK4=;
 b=DFPnJKxRAFIymRIVZEEhhXJFOhD00ykosucv+u8VpRtaLRwRhijV8HMgwDHU07skN2
 wfcKTdjoCPs399sdymmSZ9IIgcVd3Km3lhKQji0FmwfJIeGd1yVnnCP3qAVH6hgzcljC
 k5+EJunbfdpK2RtjaU0LejjMheAYaH4qMMNdQ=
X-Google-DKIM-Signature: v=1; a=rsa-sha256; c=relaxed/relaxed;
 d=1e100.net; s=20230601; t=1720019003; x=1720623803;
 h=references:in-reply-to:cc:to:from:subject:message-id:date
 :x-gm-message-state:from:to:cc:subject:date:message-id:reply-to;
 bh=/O/aODlVdSiDjC1xxtgQK6qqB2sYX6rwCG1tQXiUFK4=;
 b=WIJRcNf1VrV7NTx//wMZjmXiV8tQGM5CHcKGNClBUJSls+v7edZwX2Pr4Yfy8LAMW5
 UuvL7TBxmcr5vAfCijlgWwHQ4PpJl8/0kWBGC9dnjw5RqzxfTbJOXqkzWWhdSv/3IWaH
 IyzwBfIH0F2AEORy2hOIKgJC8SODHzyvvhUbaiSDqrG/xnyLdO2fw33iZlkuwztj1Hyi
 6QtQRqdrZxwQZlOmGzrpg9Q1FT8U2cUZAB0QQy4gzDMWH5AB659NRtRMe0ZIi0V3QjMo
 dY0Ri800g3HCoH+UZNTiTap8IlHHXzFZIlVReF/J9pw+xIVmpPnOfXPcV6TrIhKYHvYF
 T1Ww==
X-Gm-Message-State: AOJu0YyED7zWDzbuGnXwsdCG4yZlOyvZ3k+NbMMwH4VZ86mRITXso6Ri
 ofnrKFdhmQNvoJKvBk2Vcyxq192ldEu80i9SJLfz/jVuumAyP5w7ufCusJ7mTvD9x5+gyYfoOL3
 IN88nzRFcHrNrDeiVpECkSc2e9bRoKVSNXGYATyG0
X-Google-Smtp-Source: AGHT+IG8F6TwdCZeA/39EBX+kVhm8zDD3dBpC1XxCSyBczz+t9vjrkXPSuwzIankox2TrlbTVZQ8Ad5TJJRa
X-Received: by 2002:a05:6e02:12b2:b0:381:1509:7487 with SMTP id
 e9e14a558f8ab-3823541df52mr9696335ab.7.1720019002998; 
 Wed, 03 Jul 2024 08:03:22 -0700 (PDT)
Received: from postal.iol.unh.edu (postal.iol.unh.edu. [132.177.123.84])
 by smtp-relay.gmail.com with ESMTPS id
 8926c6da1cb9f-4bb73fc7beasm290342173.54.2024.07.03.08.03.22
 (version=TLS1_2 cipher=ECDHE-ECDSA-AES128-GCM-SHA256 bits=128/128);
 Wed, 03 Jul 2024 08:03:22 -0700 (PDT)
X-Relaying-Domain: iol.unh.edu
Date: Wed, 03 Jul 2024 08:03:22 -0700 (PDT)
Message-ID: <6685683a.050a0220.0c29.538dSMTPIN_ADDED_MISSING@mx.google.com>
Received: from [172.21.0.10] (unknown [172.18.0.240])
 by postal.iol.unh.edu (Postfix) with ESMTP id 766B06050A6B;
 Wed,  3 Jul 2024 11:03:22 -0400 (EDT)
Subject: |SUCCESS| pw142082-142084 [PATCH] [v4,3/3] drivers: replace printf w
From: dpdklab@iol.unh.edu
To: Test Report <test-report@dpdk.org>
Cc: dpdk-test-reports@iol.unh.edu
In-Reply-To: <20240703121614.198015-3-hemant.agrawal@nxp.com>
References: <20240703121614.198015-3-hemant.agrawal@nxp.com>
Content-Type: text/plain
X-BeenThere: test-report@dpdk.org
X-Mailman-Version: 2.1.29
Precedence: list
List-Id: automatic DPDK test reports <test-report.dpdk.org>
List-Unsubscribe: <https://mails.dpdk.org/options/test-report>,
 <mailto:test-report-request@dpdk.org?subject=unsubscribe>
List-Archive: <http://mails.dpdk.org/archives/test-report/>
List-Post: <mailto:test-report@dpdk.org>
List-Help: <mailto:test-report-request@dpdk.org?subject=help>
List-Subscribe: <https://mails.dpdk.org/listinfo/test-report>,
 <mailto:test-report-request@dpdk.org?subject=subscribe>
Errors-To: test-report-bounces@dpdk.org

Test-Label: iol-abi-testing
Test-Status: SUCCESS
http://dpdk.org/patch/142084

_Testing PASS_

Submitter: Hemant Agrawal <hemant.agrawal@nxp.com>
Date: Wednesday, July 03 2024 12:16:14 
DPDK git baseline: Repo:dpdk
  Branch: master
  CommitID:c15902587b538ff02cfb0fbb4dd481f1503d936b

142082-142084 --> testing pass

Test environment and result as below:

+-------------------+----------+
|    Environment    | abi_test |
+===================+==========+
| CentOS Stream 8   | PASS     |
+-------------------+----------+
| Fedora 37         | PASS     |
+-------------------+----------+
| Debian 12         | PASS     |
+-------------------+----------+
| CentOS Stream 9   | PASS     |
+-------------------+----------+
| Debian Bullseye   | PASS     |
+-------------------+----------+
| Fedora 38 (Clang) | PASS     |
+-------------------+----------+
| Fedora 38         | PASS     |
+-------------------+----------+
| Fedora 39         | PASS     |
+-------------------+----------+
| Fedora 39 (Clang) | PASS     |
+-------------------+----------+
| Fedora 40 (Clang) | PASS     |
+-------------------+----------+
| Fedora 40         | PASS     |
+-------------------+----------+
| RHEL8             | PASS     |
+-------------------+----------+
| RHEL9             | PASS     |
+-------------------+----------+
| openSUSE Leap 15  | PASS     |
+-------------------+----------+
| Ubuntu 22.04      | PASS     |
+-------------------+----------+
| Ubuntu 24.04      | PASS     |
+-------------------+----------+


CentOS Stream 8
	Kernel: 5.4.0-167-generic
	Compiler: gcc 8.5.0 20210514

Fedora 37
	Kernel: Depends on container host system
	Compiler: gcc 12.3.1

Debian 12
	Kernel: Container Host Kernel
	Compiler: gcc 12.2.0

CentOS Stream 9
	Kernel: 5.4.0-167-generic
	Compiler: gcc 11.4.1 20230605

Debian Bullseye
	Kernel: 5.4.0-167-generic
	Compiler: gcc 10.2.1-6

Fedora 38 (Clang)
	Kernel: Depends on container host
	Compiler: clang 16.0.6

Fedora 38
	Kernel: Depends on container host
	Compiler: gcc 13.2.1

Fedora 39
	Kernel: Depends on container host
	Compiler: gcc 13.2.1

Fedora 39 (Clang)
	Kernel: Depends on container host
	Compiler: clang 17.0.6

Fedora 40 (Clang)
	Kernel: Depends on container host
	Compiler: clang 18.1.6

Fedora 40
	Kernel: Depends on container host
	Compiler: gcc 14.1.1

RHEL8
	Kernel: 5.4.0-167-generic
	Compiler: gcc 8.5.0 20210514 (Red Hat 8.5.0-20)

RHEL9
	Kernel: Depends on container host
	Compiler: gcc 11.4.1

openSUSE Leap 15
	Kernel: 5.4.0-167-generic
	Compiler: gcc 7.5.0

Ubuntu 22.04
	Kernel: 5.4.0-167-generic
	Compiler: gcc 11.4.0

Ubuntu 24.04
	Kernel: 5.4.0-167-generic
	Compiler: gcc 13.2.0

To view detailed results, visit:
https://lab.dpdk.org/results/dashboard/patchsets/30400/

UNH-IOL DPDK Community Lab

To manage your email subscriptions, visit: 
https://lab.dpdk.org/results/dashboard/preferences/subscriptions/