From mboxrd@z Thu Jan  1 00:00:00 1970
Return-Path: <test-report-bounces@dpdk.org>
Received: from mails.dpdk.org (mails.dpdk.org [217.70.189.124])
	by inbox.dpdk.org (Postfix) with ESMTP id 6CA4B45565
	for <public@inbox.dpdk.org>; Thu,  4 Jul 2024 00:24:57 +0200 (CEST)
Received: from mails.dpdk.org (localhost [127.0.0.1])
	by mails.dpdk.org (Postfix) with ESMTP id 54A00402A7;
	Thu,  4 Jul 2024 00:24:57 +0200 (CEST)
Received: from mail-qt1-f225.google.com (mail-qt1-f225.google.com
 [209.85.160.225])
 by mails.dpdk.org (Postfix) with ESMTP id 6CD4540263
 for <test-report@dpdk.org>; Thu,  4 Jul 2024 00:24:55 +0200 (CEST)
Received: by mail-qt1-f225.google.com with SMTP id
 d75a77b69052e-444fdb6c1cfso36249691cf.3
 for <test-report@dpdk.org>; Wed, 03 Jul 2024 15:24:55 -0700 (PDT)
DKIM-Signature: v=1; a=rsa-sha256; c=relaxed/relaxed;
 d=iol.unh.edu; s=unh-iol; t=1720045494; x=1720650294; darn=dpdk.org;
 h=references:in-reply-to:cc:to:from:subject:message-id:date:from:to
 :cc:subject:date:message-id:reply-to;
 bh=yqWreiz+dJT5LaHHPJSCliggphsOrmqoMtvYKvbD0KA=;
 b=QkCWwZeUnkE7clw9rkl/D9146g5Ja/Pp5a/HqabNUCVVExBF0BxZ/PrEtZiy++aoCv
 7ffh6KhNZMN3EdpVry8g5Z6SNxbXI13rNTtZqNRktCWlw6wDVqmsxS/XkrnrPU9aIjXr
 h8c06RiB7j4Ud5Do5xSmp1eorSchopZ5dhesM=
X-Google-DKIM-Signature: v=1; a=rsa-sha256; c=relaxed/relaxed;
 d=1e100.net; s=20230601; t=1720045494; x=1720650294;
 h=references:in-reply-to:cc:to:from:subject:message-id:date
 :x-gm-message-state:from:to:cc:subject:date:message-id:reply-to;
 bh=yqWreiz+dJT5LaHHPJSCliggphsOrmqoMtvYKvbD0KA=;
 b=qNA+2C+7xmUMsD+3018iFWe17mme8WRC/DNERkxsr7UN4xx9UWUdF3vo9djjaKYZUy
 FSMK2lzMdW/wgu0JcOFnJXpSsjKYUmbvxTfII6+MooXi+AKqG2Qr037DMfdWk8/UYJhP
 2GO3ONVYYMpeoFUCHourIz3ouFRzJVQiphlOVTrBz7znpQ3BoWdcVKv7qAWevlG159vh
 qG8LI1fIV1vyPDteFkpg4LcEhcJwSOAnCYsRRN2NUEbQJNT1jaC9KNcLVuzYhQraZBbt
 5KZNctDkKBJIGVvFRhCr3YXDeLWg7WItA6sSZfkDWt6M4M8ujJXffdmpy1JZZGcVpmGB
 sKRA==
X-Gm-Message-State: AOJu0Ywk5JTBZzQWRhpE1icCyYCTN5+1jyhTNvMrKpQKz+OjQroEGkbI
 9ngyLsC5xNSW7RX5Aw59zXagdMKlvMOBNHiuYfuJOuYGComaZcna5dMZIayFCIDq73uDqykxlqu
 6AL5qcFI2QtlNgPyaB8D30rYhruPtVjWprhEN76IwsjclG3kbuHMDxmSt
X-Google-Smtp-Source: AGHT+IHtVDvF3/BIExiPVCnTnw9D2ad25dbql1vFhXYf95dxJ2xk/q2f8DJKfBV9qFCf2vRZuBKX8OtwQJBc
X-Received: by 2002:ac8:5249:0:b0:446:67ad:ed69 with SMTP id
 d75a77b69052e-44667adf049mr127146041cf.38.1720045494568; 
 Wed, 03 Jul 2024 15:24:54 -0700 (PDT)
Received: from postal.iol.unh.edu (postal.iol.unh.edu.
 [2606:4100:3880:1234::84]) by smtp-relay.gmail.com with ESMTPS id
 d75a77b69052e-44651405c02sm2316581cf.12.2024.07.03.15.24.54
 (version=TLS1_2 cipher=ECDHE-ECDSA-AES128-GCM-SHA256 bits=128/128);
 Wed, 03 Jul 2024 15:24:54 -0700 (PDT)
X-Relaying-Domain: iol.unh.edu
Date: Wed, 03 Jul 2024 15:24:54 -0700 (PDT)
Message-ID: <6685cfb6.c80a0220.6b38b.134aSMTPIN_ADDED_MISSING@mx.google.com>
Received: from [172.21.0.7] (unknown [172.18.0.240])
 by postal.iol.unh.edu (Postfix) with ESMTP id E9926605C351;
 Wed,  3 Jul 2024 18:24:53 -0400 (EDT)
Subject: |PENDING| pw142110-142112 [PATCH] [v5,3/3] dts: queue suite conf sch
From: dpdklab@iol.unh.edu
To: Test Report <test-report@dpdk.org>
Cc: dpdk-test-reports@iol.unh.edu
In-Reply-To: <20240703180820.18723-3-dmarx@iol.unh.edu>
References: <20240703180820.18723-3-dmarx@iol.unh.edu>
Content-Type: text/plain
X-BeenThere: test-report@dpdk.org
X-Mailman-Version: 2.1.29
Precedence: list
List-Id: automatic DPDK test reports <test-report.dpdk.org>
List-Unsubscribe: <https://mails.dpdk.org/options/test-report>,
 <mailto:test-report-request@dpdk.org?subject=unsubscribe>
List-Archive: <http://mails.dpdk.org/archives/test-report/>
List-Post: <mailto:test-report@dpdk.org>
List-Help: <mailto:test-report-request@dpdk.org?subject=help>
List-Subscribe: <https://mails.dpdk.org/listinfo/test-report>,
 <mailto:test-report-request@dpdk.org?subject=subscribe>
Errors-To: test-report-bounces@dpdk.org

Test-Label: iol-abi-testing
Test-Status: PENDING
http://dpdk.org/patch/142112

_Testing pending_

Submitter: Dean Marx <dmarx@iol.unh.edu>
Date: Wednesday, July 03 2024 18:08:20 
DPDK git baseline: Repo:dpdk
  Branch: master
  CommitID:95bea772528d316c969a170e6206f3b05ac39413

142110-142112 --> testing pending

Test environment and result as below:

+-------------------+----------+
|    Environment    | abi_test |
+===================+==========+
| CentOS Stream 8   | PASS     |
+-------------------+----------+
| Debian Bullseye   | PASS     |
+-------------------+----------+
| CentOS Stream 9   | PASS     |
+-------------------+----------+
| Debian 12         | PASS     |
+-------------------+----------+
| Fedora 37         | PASS     |
+-------------------+----------+
| Fedora 38 (Clang) | PASS     |
+-------------------+----------+
| Fedora 38         | PASS     |
+-------------------+----------+
| Fedora 39 (Clang) | PASS     |
+-------------------+----------+
| Fedora 39         | PEND     |
+-------------------+----------+
| Fedora 40 (Clang) | PASS     |
+-------------------+----------+
| Fedora 40         | PASS     |
+-------------------+----------+
| RHEL9             | PASS     |
+-------------------+----------+
| openSUSE Leap 15  | PASS     |
+-------------------+----------+
| RHEL8             | PASS     |
+-------------------+----------+
| Ubuntu 22.04      | PASS     |
+-------------------+----------+
| Ubuntu 24.04      | PEND     |
+-------------------+----------+


CentOS Stream 8
	Kernel: 5.4.0-167-generic
	Compiler: gcc 8.5.0 20210514

Debian Bullseye
	Kernel: 5.4.0-167-generic
	Compiler: gcc 10.2.1-6

CentOS Stream 9
	Kernel: 5.4.0-167-generic
	Compiler: gcc 11.4.1 20230605

Debian 12
	Kernel: Container Host Kernel
	Compiler: gcc 12.2.0

Fedora 37
	Kernel: Depends on container host system
	Compiler: gcc 12.3.1

Fedora 38 (Clang)
	Kernel: Depends on container host
	Compiler: clang 16.0.6

Fedora 38
	Kernel: Depends on container host
	Compiler: gcc 13.2.1

Fedora 39 (Clang)
	Kernel: Depends on container host
	Compiler: clang 17.0.6

Fedora 39
	Kernel: Depends on container host
	Compiler: gcc 13.2.1

Fedora 40 (Clang)
	Kernel: Depends on container host
	Compiler: clang 18.1.6

Fedora 40
	Kernel: Depends on container host
	Compiler: gcc 14.1.1

RHEL9
	Kernel: Depends on container host
	Compiler: gcc 11.4.1

openSUSE Leap 15
	Kernel: 5.4.0-167-generic
	Compiler: gcc 7.5.0

RHEL8
	Kernel: 5.4.0-167-generic
	Compiler: gcc 8.5.0 20210514 (Red Hat 8.5.0-20)

Ubuntu 22.04
	Kernel: 5.4.0-167-generic
	Compiler: gcc 11.4.0

Ubuntu 24.04
	Kernel: 5.4.0-167-generic
	Compiler: gcc 13.2.0

To view detailed results, visit:
https://lab.dpdk.org/results/dashboard/patchsets/30411/

UNH-IOL DPDK Community Lab

To manage your email subscriptions, visit: 
https://lab.dpdk.org/results/dashboard/preferences/subscriptions/