From mboxrd@z Thu Jan  1 00:00:00 1970
Return-Path: <test-report-bounces@dpdk.org>
Received: from mails.dpdk.org (mails.dpdk.org [217.70.189.124])
	by inbox.dpdk.org (Postfix) with ESMTP id 94E6445565
	for <public@inbox.dpdk.org>; Thu,  4 Jul 2024 00:53:51 +0200 (CEST)
Received: from mails.dpdk.org (localhost [127.0.0.1])
	by mails.dpdk.org (Postfix) with ESMTP id 8F9D2402A7;
	Thu,  4 Jul 2024 00:53:51 +0200 (CEST)
Received: from mail-io1-f100.google.com (mail-io1-f100.google.com
 [209.85.166.100])
 by mails.dpdk.org (Postfix) with ESMTP id D2EFC40263
 for <test-report@dpdk.org>; Thu,  4 Jul 2024 00:53:49 +0200 (CEST)
Received: by mail-io1-f100.google.com with SMTP id
 ca18e2360f4ac-7f63db7a69cso1992239f.2
 for <test-report@dpdk.org>; Wed, 03 Jul 2024 15:53:49 -0700 (PDT)
DKIM-Signature: v=1; a=rsa-sha256; c=relaxed/relaxed;
 d=iol.unh.edu; s=unh-iol; t=1720047229; x=1720652029; darn=dpdk.org;
 h=references:in-reply-to:cc:to:from:subject:message-id:date:from:to
 :cc:subject:date:message-id:reply-to;
 bh=b/j3C6tnbwwhCuYzMmjQH3BAGEXQ/3Cf52Hx60/ervA=;
 b=GwnuVXVAJQUDk9Tl7JnpZLeZqY6OAt6jC3CdpWECAkoEd9M60sgJu2cs6gWeMIBu2Z
 Blw/KH+TVy1QzFYCHMAWRGUZfTODMmfbLaHMkMnBSc8jLQN3q+fZXChSzh2rnNTiuIuz
 /9ZndN7Vo/EMaKuSFDNIN5vmT62UmvO1/FB5s=
X-Google-DKIM-Signature: v=1; a=rsa-sha256; c=relaxed/relaxed;
 d=1e100.net; s=20230601; t=1720047229; x=1720652029;
 h=references:in-reply-to:cc:to:from:subject:message-id:date
 :x-gm-message-state:from:to:cc:subject:date:message-id:reply-to;
 bh=b/j3C6tnbwwhCuYzMmjQH3BAGEXQ/3Cf52Hx60/ervA=;
 b=aYb9en2W5NP709HlvCeycorKBc/TZxFi1lk3uOrQV5CjD0ZvYep6ugWFN7xUzwHKEM
 vOYzg3l+kfLenG9JqsylUhpDux6JlCuityS0VRvs9on3pd+sFEHmqRB7647yNbCNPuEa
 sKzzRG7fZ8ChpUCf/HX4I1D64iQCKVe1kw/f0RymAzN4coBBvlW6wbb1VlXv3Gp68Ce3
 XdC+/E+ONRFUwcyUnY+8a4Aa0GKUATywz6PTtzIbmY2Ewe3Qe0rMdCwNRplozaXahH8l
 IDSLGFoumi9t3/pQsuYjN9O01YDa8BSsuYAnfn0NPp7gGsoR8uaIXBEhwszSltsTQzN5
 Qb2Q==
X-Gm-Message-State: AOJu0YxbTEwGi07PORJ827Po4LIO9bSdXF6IJuTbJmQ1BDyXR6Uv5CKa
 wB9qIq/eH1tmTM1Q7OZ91m34NhUP3o3qD/d9mTBnrxbrsve7rzAL2+Me8rXL34b0F1TnWbjiXVq
 +WHpqw09KYbBiJ4tTi9AKDrP9oWDEeMGthTJOTwPG
X-Google-Smtp-Source: AGHT+IEmcnqoStpSYL9YL+aS4dWVKLKkxBREHy0IY2+0JKi39YKwbGiPKYHU50ZXQsXXtLahGt8klJyTOcW3
X-Received: by 2002:a05:6602:148c:b0:7f6:2e72:e810 with SMTP id
 ca18e2360f4ac-7f66de78058mr9660939f.3.1720047229118; 
 Wed, 03 Jul 2024 15:53:49 -0700 (PDT)
Received: from postal.iol.unh.edu (postal.iol.unh.edu. [132.177.123.84])
 by smtp-relay.gmail.com with ESMTPS id
 ca18e2360f4ac-7f61d0fe974sm43363439f.26.2024.07.03.15.53.49
 (version=TLS1_2 cipher=ECDHE-ECDSA-AES128-GCM-SHA256 bits=128/128);
 Wed, 03 Jul 2024 15:53:49 -0700 (PDT)
X-Relaying-Domain: iol.unh.edu
Date: Wed, 03 Jul 2024 15:53:49 -0700 (PDT)
Message-ID: <6685d67d.050a0220.c2d45.07bbSMTPIN_ADDED_MISSING@mx.google.com>
Received: from [172.21.0.6] (unknown [172.18.0.240])
 by postal.iol.unh.edu (Postfix) with ESMTP id 9487A605C351;
 Wed,  3 Jul 2024 18:53:48 -0400 (EDT)
Subject: |PENDING| pw142107-142109 [PATCH] [v10,4/4] hash: add SVE support fo
From: dpdklab@iol.unh.edu
To: Test Report <test-report@dpdk.org>
Cc: dpdk-test-reports@iol.unh.edu
In-Reply-To: <20240703171315.1470547-5-yoan.picchi@arm.com>
References: <20240703171315.1470547-5-yoan.picchi@arm.com>
Content-Type: text/plain
X-BeenThere: test-report@dpdk.org
X-Mailman-Version: 2.1.29
Precedence: list
List-Id: automatic DPDK test reports <test-report.dpdk.org>
List-Unsubscribe: <https://mails.dpdk.org/options/test-report>,
 <mailto:test-report-request@dpdk.org?subject=unsubscribe>
List-Archive: <http://mails.dpdk.org/archives/test-report/>
List-Post: <mailto:test-report@dpdk.org>
List-Help: <mailto:test-report-request@dpdk.org?subject=help>
List-Subscribe: <https://mails.dpdk.org/listinfo/test-report>,
 <mailto:test-report-request@dpdk.org?subject=subscribe>
Errors-To: test-report-bounces@dpdk.org

Test-Label: iol-abi-testing
Test-Status: PENDING
http://dpdk.org/patch/142109

_Testing pending_

Submitter: Yoan Picchi <yoan.picchi@arm.com>
Date: Wednesday, July 03 2024 17:13:15 
DPDK git baseline: Repo:dpdk
  Branch: master
  CommitID:95bea772528d316c969a170e6206f3b05ac39413

142107-142109 --> testing pending

Test environment and result as below:

+-------------------+----------+
|    Environment    | abi_test |
+===================+==========+
| CentOS Stream 8   | PASS     |
+-------------------+----------+
| Debian Bullseye   | PASS     |
+-------------------+----------+
| CentOS Stream 9   | PASS     |
+-------------------+----------+
| Debian 12         | PASS     |
+-------------------+----------+
| Fedora 37         | PASS     |
+-------------------+----------+
| Fedora 38         | PASS     |
+-------------------+----------+
| Fedora 38 (Clang) | PASS     |
+-------------------+----------+
| Fedora 39         | PASS     |
+-------------------+----------+
| Fedora 39 (Clang) | PASS     |
+-------------------+----------+
| Fedora 40 (Clang) | PASS     |
+-------------------+----------+
| Fedora 40         | PEND     |
+-------------------+----------+
| openSUSE Leap 15  | PASS     |
+-------------------+----------+
| RHEL8             | PASS     |
+-------------------+----------+
| RHEL9             | PEND     |
+-------------------+----------+
| Ubuntu 22.04      | PEND     |
+-------------------+----------+
| Ubuntu 24.04      | PEND     |
+-------------------+----------+


CentOS Stream 8
	Kernel: 5.4.0-167-generic
	Compiler: gcc 8.5.0 20210514

Debian Bullseye
	Kernel: 5.4.0-167-generic
	Compiler: gcc 10.2.1-6

CentOS Stream 9
	Kernel: 5.4.0-167-generic
	Compiler: gcc 11.4.1 20230605

Debian 12
	Kernel: Container Host Kernel
	Compiler: gcc 12.2.0

Fedora 37
	Kernel: Depends on container host system
	Compiler: gcc 12.3.1

Fedora 38
	Kernel: Depends on container host
	Compiler: gcc 13.2.1

Fedora 38 (Clang)
	Kernel: Depends on container host
	Compiler: clang 16.0.6

Fedora 39
	Kernel: Depends on container host
	Compiler: gcc 13.2.1

Fedora 39 (Clang)
	Kernel: Depends on container host
	Compiler: clang 17.0.6

Fedora 40 (Clang)
	Kernel: Depends on container host
	Compiler: clang 18.1.6

Fedora 40
	Kernel: Depends on container host
	Compiler: gcc 14.1.1

openSUSE Leap 15
	Kernel: 5.4.0-167-generic
	Compiler: gcc 7.5.0

RHEL8
	Kernel: 5.4.0-167-generic
	Compiler: gcc 8.5.0 20210514 (Red Hat 8.5.0-20)

RHEL9
	Kernel: Depends on container host
	Compiler: gcc 11.4.1

Ubuntu 22.04
	Kernel: 5.4.0-167-generic
	Compiler: gcc 11.4.0

Ubuntu 24.04
	Kernel: 5.4.0-167-generic
	Compiler: gcc 13.2.0

To view detailed results, visit:
https://lab.dpdk.org/results/dashboard/patchsets/30410/

UNH-IOL DPDK Community Lab

To manage your email subscriptions, visit: 
https://lab.dpdk.org/results/dashboard/preferences/subscriptions/