From mboxrd@z Thu Jan  1 00:00:00 1970
Return-Path: <test-report-bounces@dpdk.org>
Received: from mails.dpdk.org (mails.dpdk.org [217.70.189.124])
	by inbox.dpdk.org (Postfix) with ESMTP id 5438945565
	for <public@inbox.dpdk.org>; Thu,  4 Jul 2024 01:16:21 +0200 (CEST)
Received: from mails.dpdk.org (localhost [127.0.0.1])
	by mails.dpdk.org (Postfix) with ESMTP id 4F9FE402A7;
	Thu,  4 Jul 2024 01:16:21 +0200 (CEST)
Received: from mail-pl1-f226.google.com (mail-pl1-f226.google.com
 [209.85.214.226])
 by mails.dpdk.org (Postfix) with ESMTP id 3D81C40263
 for <test-report@dpdk.org>; Thu,  4 Jul 2024 01:16:20 +0200 (CEST)
Received: by mail-pl1-f226.google.com with SMTP id
 d9443c01a7336-1fa2782a8ccso3695ad.2
 for <test-report@dpdk.org>; Wed, 03 Jul 2024 16:16:20 -0700 (PDT)
DKIM-Signature: v=1; a=rsa-sha256; c=relaxed/relaxed;
 d=iol.unh.edu; s=unh-iol; t=1720048579; x=1720653379; darn=dpdk.org;
 h=references:in-reply-to:cc:to:from:subject:message-id:date:from:to
 :cc:subject:date:message-id:reply-to;
 bh=B26Jvs2ZcAV6je0GyBviErnA/lp3Sb/30if3ciuNPts=;
 b=jeu6QQ0gk9NecLbUz0n7q36xeaTpUkA54BmOldWx/2T1DjLiXwEfTTZgnaWGQlzlC+
 Ytxv9HN1MyKNl4RyNHMGIC3JNBm7gd3hz63VxPTDyFbHK7AXydlnRJB0hJ2WEFeq9VN1
 hCAkbIlEvgyAWThrItMltdYrS9oJTLgnU03wA=
X-Google-DKIM-Signature: v=1; a=rsa-sha256; c=relaxed/relaxed;
 d=1e100.net; s=20230601; t=1720048579; x=1720653379;
 h=references:in-reply-to:cc:to:from:subject:message-id:date
 :x-gm-message-state:from:to:cc:subject:date:message-id:reply-to;
 bh=B26Jvs2ZcAV6je0GyBviErnA/lp3Sb/30if3ciuNPts=;
 b=SKUJrwnv1Q+FfUffehQ9BCUzsFOwTrhsFrPlN/JbzRQajMopc8xfHCt9L34T50qZl+
 SS0ziN1wm3rMshr+ISNQZdJA1aiQwl5uch9jFN5LmT61wu4d3F9ZVqnP5ULqBVJ7w5r2
 cknNp0fDhY21S6wGaXQxWnvPRAcGYVUXiYisKZxtw6Je5Sbef8J7FENkT1/x1sgcrhlL
 dgI8+0oDgknvBoFQW8+EF5TiWztEa39SPe9imcl/MZC9lGgHO49lDRWvI1qUY+pXa3Ep
 8bLffo7TZwwUaUkWXjfvST6jTaCUSsa0aYp9MZGpiKFCH5hXM00Wpvca/eveIZsY1fRx
 Br/g==
X-Gm-Message-State: AOJu0YxE8idRaligFrbQFNgVT1xALXTxQ3AhJucekrxeapV4T8pdkrd1
 9dZRCcXyLZgyOsEWQST6R8Mb8xBFTFOTVmNDGAvce27aGSOclr/Q0mHR33e2mO5Xla9xwN7E8Xr
 b9t+yV9oPAQuQLYkb+n8EnFqn8Uf0yHY8XWqFGTiG
X-Google-Smtp-Source: AGHT+IGHrCmDJts3x32qLz5f9FXQB4axrezs2tppCEE6das8ucksJ6vg8j5nFs93L2PHZu//KE63VzAZIGdb
X-Received: by 2002:a17:903:11d2:b0:1fa:449:1dc7 with SMTP id
 d9443c01a7336-1fb33df5a32mr543435ad.4.1720048579319; 
 Wed, 03 Jul 2024 16:16:19 -0700 (PDT)
Received: from postal.iol.unh.edu (postal.iol.unh.edu. [132.177.123.84])
 by smtp-relay.gmail.com with ESMTPS id
 d9443c01a7336-1fac10e334bsm3871825ad.9.2024.07.03.16.16.19
 (version=TLS1_2 cipher=ECDHE-ECDSA-AES128-GCM-SHA256 bits=128/128);
 Wed, 03 Jul 2024 16:16:19 -0700 (PDT)
X-Relaying-Domain: iol.unh.edu
Date: Wed, 03 Jul 2024 16:16:19 -0700 (PDT)
Message-ID: <6685dbc3.170a0220.2cc96.c489SMTPIN_ADDED_MISSING@mx.google.com>
Received: from [172.21.0.7] (unknown [172.18.0.240])
 by postal.iol.unh.edu (Postfix) with ESMTP id BCC3E605C351;
 Wed,  3 Jul 2024 19:16:18 -0400 (EDT)
Subject: |PENDING| pw138647-138648 [PATCH] [2/2] mempool: use rte constant ma
From: dpdklab@iol.unh.edu
To: Test Report <test-report@dpdk.org>
Cc: dpdk-test-reports@iol.unh.edu
In-Reply-To: <1710970416-27841-3-git-send-email-roretzla@linux.microsoft.com>
References: <1710970416-27841-3-git-send-email-roretzla@linux.microsoft.com>
Content-Type: text/plain
X-BeenThere: test-report@dpdk.org
X-Mailman-Version: 2.1.29
Precedence: list
List-Id: automatic DPDK test reports <test-report.dpdk.org>
List-Unsubscribe: <https://mails.dpdk.org/options/test-report>,
 <mailto:test-report-request@dpdk.org?subject=unsubscribe>
List-Archive: <http://mails.dpdk.org/archives/test-report/>
List-Post: <mailto:test-report@dpdk.org>
List-Help: <mailto:test-report-request@dpdk.org?subject=help>
List-Subscribe: <https://mails.dpdk.org/listinfo/test-report>,
 <mailto:test-report-request@dpdk.org?subject=subscribe>
Errors-To: test-report-bounces@dpdk.org

Test-Label: iol-abi-testing
Test-Status: PENDING
http://dpdk.org/patch/138648

_Testing pending RETEST #2_

Submitter: Tyler Retzlaff <roretzla@linux.microsoft.com>
Date: Wednesday, March 20 2024 21:33:36 
DPDK git baseline: Repo:dpdk
  Branch: master
  CommitID:95bea772528d316c969a170e6206f3b05ac39413

138647-138648 --> testing pending

Test environment and result as below:

+-------------------+----------+
|    Environment    | abi_test |
+===================+==========+
| CentOS Stream 8   | PASS     |
+-------------------+----------+
| CentOS Stream 9   | PASS     |
+-------------------+----------+
| Debian Bullseye   | PASS     |
+-------------------+----------+
| Fedora 38 (Clang) | PASS     |
+-------------------+----------+
| Fedora 37         | PEND     |
+-------------------+----------+
| Debian 12         | PEND     |
+-------------------+----------+
| Fedora 38         | PEND     |
+-------------------+----------+
| Fedora 39 (Clang) | PASS     |
+-------------------+----------+
| Fedora 39         | PEND     |
+-------------------+----------+
| Fedora 40 (Clang) | PASS     |
+-------------------+----------+
| Fedora 40         | PEND     |
+-------------------+----------+
| openSUSE Leap 15  | PASS     |
+-------------------+----------+
| RHEL8             | PEND     |
+-------------------+----------+
| RHEL9             | PEND     |
+-------------------+----------+
| Ubuntu 22.04      | PEND     |
+-------------------+----------+
| Ubuntu 24.04      | PEND     |
+-------------------+----------+


CentOS Stream 8
	Kernel: 5.4.0-167-generic
	Compiler: gcc 8.5.0 20210514

CentOS Stream 9
	Kernel: 5.4.0-167-generic
	Compiler: gcc 11.4.1 20230605

Debian Bullseye
	Kernel: 5.4.0-167-generic
	Compiler: gcc 10.2.1-6

Fedora 38 (Clang)
	Kernel: Depends on container host
	Compiler: clang 16.0.6

Fedora 37
	Kernel: Depends on container host system
	Compiler: gcc 12.3.1

Debian 12
	Kernel: Container Host Kernel
	Compiler: gcc 12.2.0

Fedora 38
	Kernel: Depends on container host
	Compiler: gcc 13.2.1

Fedora 39 (Clang)
	Kernel: Depends on container host
	Compiler: clang 17.0.6

Fedora 39
	Kernel: Depends on container host
	Compiler: gcc 13.2.1

Fedora 40 (Clang)
	Kernel: Depends on container host
	Compiler: clang 18.1.6

Fedora 40
	Kernel: Depends on container host
	Compiler: gcc 14.1.1

openSUSE Leap 15
	Kernel: 5.4.0-167-generic
	Compiler: gcc 7.5.0

RHEL8
	Kernel: 5.4.0-167-generic
	Compiler: gcc 8.5.0 20210514 (Red Hat 8.5.0-20)

RHEL9
	Kernel: Depends on container host
	Compiler: gcc 11.4.1

Ubuntu 22.04
	Kernel: 5.4.0-167-generic
	Compiler: gcc 11.4.0

Ubuntu 24.04
	Kernel: 5.4.0-167-generic
	Compiler: gcc 13.2.0

To view detailed results, visit:
https://lab.dpdk.org/results/dashboard/patchsets/29615/

UNH-IOL DPDK Community Lab

To manage your email subscriptions, visit: 
https://lab.dpdk.org/results/dashboard/preferences/subscriptions/