From mboxrd@z Thu Jan  1 00:00:00 1970
Return-Path: <test-report-bounces@dpdk.org>
Received: from mails.dpdk.org (mails.dpdk.org [217.70.189.124])
	by inbox.dpdk.org (Postfix) with ESMTP id 4C57945565
	for <public@inbox.dpdk.org>; Thu,  4 Jul 2024 01:23:39 +0200 (CEST)
Received: from mails.dpdk.org (localhost [127.0.0.1])
	by mails.dpdk.org (Postfix) with ESMTP id 480DB402A7;
	Thu,  4 Jul 2024 01:23:39 +0200 (CEST)
Received: from mail-ot1-f100.google.com (mail-ot1-f100.google.com
 [209.85.210.100])
 by mails.dpdk.org (Postfix) with ESMTP id 9668240263
 for <test-report@dpdk.org>; Thu,  4 Jul 2024 01:23:37 +0200 (CEST)
Received: by mail-ot1-f100.google.com with SMTP id
 46e09a7af769-70211abf4cbso27660a34.3
 for <test-report@dpdk.org>; Wed, 03 Jul 2024 16:23:37 -0700 (PDT)
DKIM-Signature: v=1; a=rsa-sha256; c=relaxed/relaxed;
 d=iol.unh.edu; s=unh-iol; t=1720049017; x=1720653817; darn=dpdk.org;
 h=references:in-reply-to:cc:to:from:subject:message-id:date:from:to
 :cc:subject:date:message-id:reply-to;
 bh=AFlEe8v/g5yEsTpoA9th8qYxHkrEBI1W1UILAFbDKkU=;
 b=SRtc4Q+s49vLtOXtvfLErPkysW6v05vBQZsf8riNW9ToyJZIxay2r+gNS7dZ2ClM0l
 5vw+UkidEzdyPZwy/aTQm80c8+KAc7ZV2mr2eN3y9TInz5aFM8aLjeRCG6T1QB3FmAch
 FF1Bo+fzrc0SO3Bj5lwp4Hs4CMC8IvL2D0WVI=
X-Google-DKIM-Signature: v=1; a=rsa-sha256; c=relaxed/relaxed;
 d=1e100.net; s=20230601; t=1720049017; x=1720653817;
 h=references:in-reply-to:cc:to:from:subject:message-id:date
 :x-gm-message-state:from:to:cc:subject:date:message-id:reply-to;
 bh=AFlEe8v/g5yEsTpoA9th8qYxHkrEBI1W1UILAFbDKkU=;
 b=wUx5r0wEpKGCCOEBxdmZ204enwNFszJt963dexSSy5Rw/8AaLjdWoHy5vP/Ljapaj6
 kW2A47W07DrfCRQhbd1E7YDtOSKdynuMfNakE7qZyoVbCgNoKB4rBVk7gvr1hrlN47GD
 Zm2aRpWj0XSzqyWoyyoOgHaPrvBq5vyzlVALf+hLCXx7rI5YLgJpB7NtnEHiuJOTI9iW
 Vlxi4t4w1IC32toKKvmWC1nnl/MGsQDYViu2R2x/cbq5Pb7Vn/+RM5RoPlgiU7QSbB/V
 JjCmVYkFng5zTlRulNWhBrFoJJNIJgVL3YDl164GrfFViXYl6zP6We4wp2X/QW1Vgkk1
 rVMA==
X-Gm-Message-State: AOJu0Yz14g3dQkaZgX62K9IdUOolm5mIQsMgZ+1WWMVb3pCFj33IJ0Wg
 UJPOaVpar1zrJYIy+fQr5CX1HAzN1hqsmkUQALx+wt6ZO38KVMVcsrd28lapee9B7Ob+RPEgbrq
 wPxp4Vymu3h1ZOTi4K4QDqg3rKlfZ4cSiZKiXaVaw
X-Google-Smtp-Source: AGHT+IFmAi/OHLbo3gejJoVE+JCJ1qnFW+X6zlaS+cYPpPNTBgufoYJjKHdC+UkFF1sIIZUJ6AJ3Yk9lT2Gr
X-Received: by 2002:a9d:62d7:0:b0:700:d11d:6805 with SMTP id
 46e09a7af769-7034a73a513mr96161a34.5.1720049016754; 
 Wed, 03 Jul 2024 16:23:36 -0700 (PDT)
Received: from postal.iol.unh.edu (postal.iol.unh.edu. [132.177.123.84])
 by smtp-relay.gmail.com with ESMTPS id
 46e09a7af769-701f7ad9c76sm145632a34.5.2024.07.03.16.23.36
 (version=TLS1_2 cipher=ECDHE-ECDSA-AES128-GCM-SHA256 bits=128/128);
 Wed, 03 Jul 2024 16:23:36 -0700 (PDT)
X-Relaying-Domain: iol.unh.edu
Date: Wed, 03 Jul 2024 16:23:36 -0700 (PDT)
Message-ID: <6685dd78.050a0220.ad626.a542SMTPIN_ADDED_MISSING@mx.google.com>
Received: from [172.21.0.7] (unknown [172.18.0.240])
 by postal.iol.unh.edu (Postfix) with ESMTP id 2D3C9605C351;
 Wed,  3 Jul 2024 19:23:36 -0400 (EDT)
Subject: |PENDING| pw138647-138648 [PATCH] [2/2] mempool: use rte constant ma
From: dpdklab@iol.unh.edu
To: Test Report <test-report@dpdk.org>
Cc: dpdk-test-reports@iol.unh.edu
In-Reply-To: <1710970416-27841-3-git-send-email-roretzla@linux.microsoft.com>
References: <1710970416-27841-3-git-send-email-roretzla@linux.microsoft.com>
Content-Type: text/plain
X-BeenThere: test-report@dpdk.org
X-Mailman-Version: 2.1.29
Precedence: list
List-Id: automatic DPDK test reports <test-report.dpdk.org>
List-Unsubscribe: <https://mails.dpdk.org/options/test-report>,
 <mailto:test-report-request@dpdk.org?subject=unsubscribe>
List-Archive: <http://mails.dpdk.org/archives/test-report/>
List-Post: <mailto:test-report@dpdk.org>
List-Help: <mailto:test-report-request@dpdk.org?subject=help>
List-Subscribe: <https://mails.dpdk.org/listinfo/test-report>,
 <mailto:test-report-request@dpdk.org?subject=subscribe>
Errors-To: test-report-bounces@dpdk.org

Test-Label: iol-abi-testing
Test-Status: PENDING
http://dpdk.org/patch/138648

_Testing pending RETEST #2_

Submitter: Tyler Retzlaff <roretzla@linux.microsoft.com>
Date: Wednesday, March 20 2024 21:33:36 
DPDK git baseline: Repo:dpdk
  Branch: master
  CommitID:95bea772528d316c969a170e6206f3b05ac39413

138647-138648 --> testing pending

Test environment and result as below:

+-------------------+----------+
|    Environment    | abi_test |
+===================+==========+
| CentOS Stream 8   | PASS     |
+-------------------+----------+
| CentOS Stream 9   | PASS     |
+-------------------+----------+
| Debian Bullseye   | PASS     |
+-------------------+----------+
| Fedora 38 (Clang) | PASS     |
+-------------------+----------+
| Fedora 37         | PASS     |
+-------------------+----------+
| Debian 12         | PEND     |
+-------------------+----------+
| Fedora 38         | PASS     |
+-------------------+----------+
| Fedora 39 (Clang) | PASS     |
+-------------------+----------+
| Fedora 39         | PASS     |
+-------------------+----------+
| Fedora 40 (Clang) | PASS     |
+-------------------+----------+
| Fedora 40         | PEND     |
+-------------------+----------+
| openSUSE Leap 15  | PASS     |
+-------------------+----------+
| RHEL8             | PASS     |
+-------------------+----------+
| RHEL9             | PASS     |
+-------------------+----------+
| Ubuntu 22.04      | PEND     |
+-------------------+----------+
| Ubuntu 24.04      | PEND     |
+-------------------+----------+


CentOS Stream 8
	Kernel: 5.4.0-167-generic
	Compiler: gcc 8.5.0 20210514

CentOS Stream 9
	Kernel: 5.4.0-167-generic
	Compiler: gcc 11.4.1 20230605

Debian Bullseye
	Kernel: 5.4.0-167-generic
	Compiler: gcc 10.2.1-6

Fedora 38 (Clang)
	Kernel: Depends on container host
	Compiler: clang 16.0.6

Fedora 37
	Kernel: Depends on container host system
	Compiler: gcc 12.3.1

Debian 12
	Kernel: Container Host Kernel
	Compiler: gcc 12.2.0

Fedora 38
	Kernel: Depends on container host
	Compiler: gcc 13.2.1

Fedora 39 (Clang)
	Kernel: Depends on container host
	Compiler: clang 17.0.6

Fedora 39
	Kernel: Depends on container host
	Compiler: gcc 13.2.1

Fedora 40 (Clang)
	Kernel: Depends on container host
	Compiler: clang 18.1.6

Fedora 40
	Kernel: Depends on container host
	Compiler: gcc 14.1.1

openSUSE Leap 15
	Kernel: 5.4.0-167-generic
	Compiler: gcc 7.5.0

RHEL8
	Kernel: 5.4.0-167-generic
	Compiler: gcc 8.5.0 20210514 (Red Hat 8.5.0-20)

RHEL9
	Kernel: Depends on container host
	Compiler: gcc 11.4.1

Ubuntu 22.04
	Kernel: 5.4.0-167-generic
	Compiler: gcc 11.4.0

Ubuntu 24.04
	Kernel: 5.4.0-167-generic
	Compiler: gcc 13.2.0

To view detailed results, visit:
https://lab.dpdk.org/results/dashboard/patchsets/29615/

UNH-IOL DPDK Community Lab

To manage your email subscriptions, visit: 
https://lab.dpdk.org/results/dashboard/preferences/subscriptions/