From mboxrd@z Thu Jan  1 00:00:00 1970
Return-Path: <test-report-bounces@dpdk.org>
Received: from mails.dpdk.org (mails.dpdk.org [217.70.189.124])
	by inbox.dpdk.org (Postfix) with ESMTP id A3AEF45565
	for <public@inbox.dpdk.org>; Thu,  4 Jul 2024 01:46:36 +0200 (CEST)
Received: from mails.dpdk.org (localhost [127.0.0.1])
	by mails.dpdk.org (Postfix) with ESMTP id 9D612402A7;
	Thu,  4 Jul 2024 01:46:36 +0200 (CEST)
Received: from mail-io1-f100.google.com (mail-io1-f100.google.com
 [209.85.166.100])
 by mails.dpdk.org (Postfix) with ESMTP id 7053E40263
 for <test-report@dpdk.org>; Thu,  4 Jul 2024 01:46:35 +0200 (CEST)
Received: by mail-io1-f100.google.com with SMTP id
 ca18e2360f4ac-7f6154e20bbso4378739f.2
 for <test-report@dpdk.org>; Wed, 03 Jul 2024 16:46:35 -0700 (PDT)
DKIM-Signature: v=1; a=rsa-sha256; c=relaxed/relaxed;
 d=iol.unh.edu; s=unh-iol; t=1720050395; x=1720655195; darn=dpdk.org;
 h=references:in-reply-to:cc:to:from:subject:message-id:date:from:to
 :cc:subject:date:message-id:reply-to;
 bh=hGKvScbmet+XRebNPzXQA4YbOtmjUAJw1uElNaTJb30=;
 b=DcZ7/k5Vi/rf4IMewHX0NwWPbHq3GHo9tp1sriOqxbM5/wuXyY5Vx8LjXwWQ0quEhj
 0WIply0xCyz9GlofXOd/c6SXXKGmIUeb5P3tELejpxijxp/xUePkhh+4gTF46LeSqMxQ
 rEown7bAQRtQbXyvX8INL9uhIAYMLgF/9CtH0=
X-Google-DKIM-Signature: v=1; a=rsa-sha256; c=relaxed/relaxed;
 d=1e100.net; s=20230601; t=1720050395; x=1720655195;
 h=references:in-reply-to:cc:to:from:subject:message-id:date
 :x-gm-message-state:from:to:cc:subject:date:message-id:reply-to;
 bh=hGKvScbmet+XRebNPzXQA4YbOtmjUAJw1uElNaTJb30=;
 b=YNjRTHnSR5IcIRhOXcH97onIAWaSaQFqlAdsgKtRTVuNcG0PVTlgate5uJKUFeox7S
 Qt8onp/ZbRl0704ROX49TBdYyX+rHLTvpK76YD55hMGKiwuLf5ulcNL0uNONbQDMoT/C
 jMg4FWTVY/L4NJzdIiq7VwDP07kb9dlE6/FpfseX693GtalLbwTa+ot1JbVcdZYxnEBl
 zZM57/Yzqpktt5ZrvIVXzYJQVJxtjZ4mSjNnNw1lCYEq9etuvlUfc0e4vwSS4ehBmRUN
 5amoMXbKTVkZKMn2CS9zuTWqnf6zjNDtKlwndj9piw29HRsig/2vdMRWgn0J8waIUoMg
 hTyQ==
X-Gm-Message-State: AOJu0YxiconRWY9wWX+aNOeD+rCh8/oBN9XtXeF9sRD5k06KHk02WOIQ
 wTy0WGC/WSEcV24Np8pu8xPYrQKmAYA1V6CYWOtNBMaq12IuUAsKNhdEeaMKfDkeyK+QMzgDyjI
 UXD/pe4HKL+1f2mLSctFECVMPUu6ws/M/ejNQgyk7gddLE5N7Ngi1vtEE
X-Google-Smtp-Source: AGHT+IG24S50sliLwdPCUpVGjSILWfUADr1bkHvdeW0ZSY4zG74nmVnAosnH9M10zckTfveSe8OjwSsygkcT
X-Received: by 2002:a05:6602:600b:b0:7f6:56d2:8d4d with SMTP id
 ca18e2360f4ac-7f66db2e632mr33105439f.0.1720050394894; 
 Wed, 03 Jul 2024 16:46:34 -0700 (PDT)
Received: from postal.iol.unh.edu (postal.iol.unh.edu.
 [2606:4100:3880:1234::84]) by smtp-relay.gmail.com with ESMTPS id
 8926c6da1cb9f-4bb742f19f9sm329499173.85.2024.07.03.16.46.34
 (version=TLS1_2 cipher=ECDHE-ECDSA-AES128-GCM-SHA256 bits=128/128);
 Wed, 03 Jul 2024 16:46:34 -0700 (PDT)
X-Relaying-Domain: iol.unh.edu
Date: Wed, 03 Jul 2024 16:46:34 -0700 (PDT)
Message-ID: <6685e2da.050a0220.9458b.8051SMTPIN_ADDED_MISSING@mx.google.com>
Received: from [172.21.0.9] (unknown [172.18.0.240])
 by postal.iol.unh.edu (Postfix) with ESMTP id 637DF605C351;
 Wed,  3 Jul 2024 19:46:34 -0400 (EDT)
Subject: |PENDING| pw142103-142105 [PATCH] [v10,3/3] dts: config schema
From: dpdklab@iol.unh.edu
To: Test Report <test-report@dpdk.org>
Cc: dpdk-test-reports@iol.unh.edu
In-Reply-To: <20240703165055.18939-3-dmarx@iol.unh.edu>
References: <20240703165055.18939-3-dmarx@iol.unh.edu>
Content-Type: text/plain
X-BeenThere: test-report@dpdk.org
X-Mailman-Version: 2.1.29
Precedence: list
List-Id: automatic DPDK test reports <test-report.dpdk.org>
List-Unsubscribe: <https://mails.dpdk.org/options/test-report>,
 <mailto:test-report-request@dpdk.org?subject=unsubscribe>
List-Archive: <http://mails.dpdk.org/archives/test-report/>
List-Post: <mailto:test-report@dpdk.org>
List-Help: <mailto:test-report-request@dpdk.org?subject=help>
List-Subscribe: <https://mails.dpdk.org/listinfo/test-report>,
 <mailto:test-report-request@dpdk.org?subject=subscribe>
Errors-To: test-report-bounces@dpdk.org

Test-Label: iol-abi-testing
Test-Status: PENDING
http://dpdk.org/patch/142105

_Testing pending_

Submitter: Dean Marx <dmarx@iol.unh.edu>
Date: Wednesday, July 03 2024 16:50:55 
DPDK git baseline: Repo:dpdk
  Branch: master
  CommitID:95bea772528d316c969a170e6206f3b05ac39413

142103-142105 --> testing pending

Test environment and result as below:

+-------------------+----------+
|    Environment    | abi_test |
+===================+==========+
| CentOS Stream 8   | PEND     |
+-------------------+----------+
| Debian Bullseye   | PASS     |
+-------------------+----------+
| CentOS Stream 9   | PASS     |
+-------------------+----------+
| Fedora 38 (Clang) | PASS     |
+-------------------+----------+
| Debian 12         | PEND     |
+-------------------+----------+
| Fedora 37         | PASS     |
+-------------------+----------+
| Fedora 38         | PEND     |
+-------------------+----------+
| Fedora 39 (Clang) | PEND     |
+-------------------+----------+
| Fedora 39         | PEND     |
+-------------------+----------+
| Fedora 40 (Clang) | PASS     |
+-------------------+----------+
| Fedora 40         | PEND     |
+-------------------+----------+
| openSUSE Leap 15  | PEND     |
+-------------------+----------+
| RHEL8             | PEND     |
+-------------------+----------+
| RHEL9             | PEND     |
+-------------------+----------+
| Ubuntu 22.04      | PEND     |
+-------------------+----------+
| Ubuntu 24.04      | PEND     |
+-------------------+----------+


CentOS Stream 8
	Kernel: 5.4.0-167-generic
	Compiler: gcc 8.5.0 20210514

Debian Bullseye
	Kernel: 5.4.0-167-generic
	Compiler: gcc 10.2.1-6

CentOS Stream 9
	Kernel: 5.4.0-167-generic
	Compiler: gcc 11.4.1 20230605

Fedora 38 (Clang)
	Kernel: Depends on container host
	Compiler: clang 16.0.6

Debian 12
	Kernel: Container Host Kernel
	Compiler: gcc 12.2.0

Fedora 37
	Kernel: Depends on container host system
	Compiler: gcc 12.3.1

Fedora 38
	Kernel: Depends on container host
	Compiler: gcc 13.2.1

Fedora 39 (Clang)
	Kernel: Depends on container host
	Compiler: clang 17.0.6

Fedora 39
	Kernel: Depends on container host
	Compiler: gcc 13.2.1

Fedora 40 (Clang)
	Kernel: Depends on container host
	Compiler: clang 18.1.6

Fedora 40
	Kernel: Depends on container host
	Compiler: gcc 14.1.1

openSUSE Leap 15
	Kernel: 5.4.0-167-generic
	Compiler: gcc 7.5.0

RHEL8
	Kernel: 5.4.0-167-generic
	Compiler: gcc 8.5.0 20210514 (Red Hat 8.5.0-20)

RHEL9
	Kernel: Depends on container host
	Compiler: gcc 11.4.1

Ubuntu 22.04
	Kernel: 5.4.0-167-generic
	Compiler: gcc 11.4.0

Ubuntu 24.04
	Kernel: 5.4.0-167-generic
	Compiler: gcc 13.2.0

To view detailed results, visit:
https://lab.dpdk.org/results/dashboard/patchsets/30409/

UNH-IOL DPDK Community Lab

To manage your email subscriptions, visit: 
https://lab.dpdk.org/results/dashboard/preferences/subscriptions/