From mboxrd@z Thu Jan  1 00:00:00 1970
Return-Path: <test-report-bounces@dpdk.org>
Received: from mails.dpdk.org (mails.dpdk.org [217.70.189.124])
	by inbox.dpdk.org (Postfix) with ESMTP id 056FD45580
	for <public@inbox.dpdk.org>; Thu,  4 Jul 2024 04:16:31 +0200 (CEST)
Received: from mails.dpdk.org (localhost [127.0.0.1])
	by mails.dpdk.org (Postfix) with ESMTP id 0099242EBA;
	Thu,  4 Jul 2024 04:16:31 +0200 (CEST)
Received: from mail-ot1-f99.google.com (mail-ot1-f99.google.com
 [209.85.210.99]) by mails.dpdk.org (Postfix) with ESMTP id 6F73240263
 for <test-report@dpdk.org>; Thu,  4 Jul 2024 04:16:29 +0200 (CEST)
Received: by mail-ot1-f99.google.com with SMTP id
 46e09a7af769-701f397e8ffso90889a34.0
 for <test-report@dpdk.org>; Wed, 03 Jul 2024 19:16:29 -0700 (PDT)
DKIM-Signature: v=1; a=rsa-sha256; c=relaxed/relaxed;
 d=iol.unh.edu; s=unh-iol; t=1720059388; x=1720664188; darn=dpdk.org;
 h=references:in-reply-to:cc:to:from:subject:message-id:date:from:to
 :cc:subject:date:message-id:reply-to;
 bh=SaCT4w00MV/SkrY1NyAUN0R8dCFkKz/n9aVexTZj7uo=;
 b=hIJ60m5dbqYqqiYzw+7SZtgE1wa9QXPrmVnRkPY6UlXQ96hGEUp6xFxXnk896c8OMD
 QmymL4tNw9gmaDqwyv9L1rAUo4bBQfwOh3dwqxZq9BTLjmfRGUyGO1ZmmPg76VFcdxZx
 TYhc23jsqik6FiSpM1AOqAaNMBNNyQAQDkhM8=
X-Google-DKIM-Signature: v=1; a=rsa-sha256; c=relaxed/relaxed;
 d=1e100.net; s=20230601; t=1720059388; x=1720664188;
 h=references:in-reply-to:cc:to:from:subject:message-id:date
 :x-gm-message-state:from:to:cc:subject:date:message-id:reply-to;
 bh=SaCT4w00MV/SkrY1NyAUN0R8dCFkKz/n9aVexTZj7uo=;
 b=A+CZcAgYJ+UX6pkk3H8mFm2kcN5cjqE1EI2OGTri1JHMNq1CvnHF2G8vXFonjTVgJQ
 td8h6rP+6IyrGh5Zj2reN6jRlxRfV+s2a566Sw8ly5667zNitcDuKpSFE8ckgt+7tQpL
 OPJFN+MaFN36lif6GPLfmfo7/i7reQSaFcmNwE6+/81uRriGvIUrLr3Z8x4tnM8KvxxA
 OEtMdZaBgBN8ha9EIqcukB0MZlHxG3qAiAqGJrjTsK3OpbOsH4tduOeSziOSlEewScx5
 h9run9jke0foI9O4y8ttNuhSsYOD7ILh9uRoOrsyLH0Z9u8mnqzpcyRe509xJ5SYP032
 kGiQ==
X-Gm-Message-State: AOJu0Yw4yitBS1gIQE6wMEP/SBvU2mqqld8grv4DaCp/LLFm0Pa3cZZS
 MfnjcRjRrdj2ne+Ak+/vjIFoYVciinFy1JwLyvBKx365bV0Afu6E3RvJyoV6RhEctw7Qtc9b1+x
 we8B89lW7QIgTyQBQOQY08lno4oA5QkSpSh4UcILW
X-Google-Smtp-Source: AGHT+IEi4o0gXuSbkmRvmCKG9W17+A/eRqcS8+13HNu0XtGJywEkFdpwoepj7lOmFiGQ6SpXLcf1EEUhmTHh
X-Received: by 2002:a05:6358:88a:b0:19f:2c7e:a232 with SMTP id
 e5c5f4694b2df-1aa98c86755mr37196255d.21.1720059388328; 
 Wed, 03 Jul 2024 19:16:28 -0700 (PDT)
Received: from postal.iol.unh.edu (postal.iol.unh.edu. [132.177.123.84])
 by smtp-relay.gmail.com with ESMTPS id
 41be03b00d2f7-72c6c8ec4desm305715a12.23.2024.07.03.19.16.28
 (version=TLS1_2 cipher=ECDHE-ECDSA-AES128-GCM-SHA256 bits=128/128);
 Wed, 03 Jul 2024 19:16:28 -0700 (PDT)
X-Relaying-Domain: iol.unh.edu
Date: Wed, 03 Jul 2024 19:16:28 -0700 (PDT)
Message-ID: <668605fc.630a0220.15606.6963SMTPIN_ADDED_MISSING@mx.google.com>
Received: from [172.21.0.6] (unknown [172.18.0.240])
 by postal.iol.unh.edu (Postfix) with ESMTP id 5A0A7605C351;
 Wed,  3 Jul 2024 22:16:27 -0400 (EDT)
Subject: |PENDING| pw142097-142099 [PATCH] [v5,3/3] testpmd: replace EAL logt
From: dpdklab@iol.unh.edu
To: Test Report <test-report@dpdk.org>
Cc: dpdk-test-reports@iol.unh.edu
In-Reply-To: <20240703162929.78438-4-stephen@networkplumber.org>
References: <20240703162929.78438-4-stephen@networkplumber.org>
Content-Type: text/plain
X-BeenThere: test-report@dpdk.org
X-Mailman-Version: 2.1.29
Precedence: list
List-Id: automatic DPDK test reports <test-report.dpdk.org>
List-Unsubscribe: <https://mails.dpdk.org/options/test-report>,
 <mailto:test-report-request@dpdk.org?subject=unsubscribe>
List-Archive: <http://mails.dpdk.org/archives/test-report/>
List-Post: <mailto:test-report@dpdk.org>
List-Help: <mailto:test-report-request@dpdk.org?subject=help>
List-Subscribe: <https://mails.dpdk.org/listinfo/test-report>,
 <mailto:test-report-request@dpdk.org?subject=subscribe>
Errors-To: test-report-bounces@dpdk.org

Test-Label: iol-abi-testing
Test-Status: PENDING
http://dpdk.org/patch/142099

_Testing pending_

Submitter: Stephen Hemminger <stephen@networkplumber.org>
Date: Wednesday, July 03 2024 16:28:21 
DPDK git baseline: Repo:dpdk
  Branch: master
  CommitID:95bea772528d316c969a170e6206f3b05ac39413

142097-142099 --> testing pending

Test environment and result as below:

+-------------------+----------+
|    Environment    | abi_test |
+===================+==========+
| CentOS Stream 8   | PASS     |
+-------------------+----------+
| CentOS Stream 9   | PEND     |
+-------------------+----------+
| Debian Bullseye   | PASS     |
+-------------------+----------+
| Debian 12         | PASS     |
+-------------------+----------+
| Fedora 38 (Clang) | PASS     |
+-------------------+----------+
| Fedora 37         | PASS     |
+-------------------+----------+
| Fedora 39 (Clang) | PASS     |
+-------------------+----------+
| Fedora 38         | PASS     |
+-------------------+----------+
| Fedora 39         | PASS     |
+-------------------+----------+
| Fedora 40 (Clang) | PASS     |
+-------------------+----------+
| Fedora 40         | PEND     |
+-------------------+----------+
| openSUSE Leap 15  | PEND     |
+-------------------+----------+
| RHEL8             | PASS     |
+-------------------+----------+
| Ubuntu 24.04      | PEND     |
+-------------------+----------+
| Ubuntu 22.04      | PEND     |
+-------------------+----------+


CentOS Stream 8
	Kernel: 5.4.0-167-generic
	Compiler: gcc 8.5.0 20210514

CentOS Stream 9
	Kernel: 5.4.0-167-generic
	Compiler: gcc 11.4.1 20230605

Debian Bullseye
	Kernel: 5.4.0-167-generic
	Compiler: gcc 10.2.1-6

Debian 12
	Kernel: Container Host Kernel
	Compiler: gcc 12.2.0

Fedora 38 (Clang)
	Kernel: Depends on container host
	Compiler: clang 16.0.6

Fedora 37
	Kernel: Depends on container host system
	Compiler: gcc 12.3.1

Fedora 39 (Clang)
	Kernel: Depends on container host
	Compiler: clang 17.0.6

Fedora 38
	Kernel: Depends on container host
	Compiler: gcc 13.2.1

Fedora 39
	Kernel: Depends on container host
	Compiler: gcc 13.2.1

Fedora 40 (Clang)
	Kernel: Depends on container host
	Compiler: clang 18.1.6

Fedora 40
	Kernel: Depends on container host
	Compiler: gcc 14.1.1

openSUSE Leap 15
	Kernel: 5.4.0-167-generic
	Compiler: gcc 7.5.0

RHEL8
	Kernel: 5.4.0-167-generic
	Compiler: gcc 8.5.0 20210514 (Red Hat 8.5.0-20)

Ubuntu 24.04
	Kernel: 5.4.0-167-generic
	Compiler: gcc 13.2.0

Ubuntu 22.04
	Kernel: 5.4.0-167-generic
	Compiler: gcc 11.4.0

To view detailed results, visit:
https://lab.dpdk.org/results/dashboard/patchsets/30407/

UNH-IOL DPDK Community Lab

To manage your email subscriptions, visit: 
https://lab.dpdk.org/results/dashboard/preferences/subscriptions/