From mboxrd@z Thu Jan  1 00:00:00 1970
Return-Path: <test-report-bounces@dpdk.org>
Received: from mails.dpdk.org (mails.dpdk.org [217.70.189.124])
	by inbox.dpdk.org (Postfix) with ESMTP id 5624E45580
	for <public@inbox.dpdk.org>; Thu,  4 Jul 2024 04:28:02 +0200 (CEST)
Received: from mails.dpdk.org (localhost [127.0.0.1])
	by mails.dpdk.org (Postfix) with ESMTP id 51F4340280;
	Thu,  4 Jul 2024 04:28:02 +0200 (CEST)
Received: from mail-qv1-f97.google.com (mail-qv1-f97.google.com
 [209.85.219.97]) by mails.dpdk.org (Postfix) with ESMTP id 811D940263
 for <test-report@dpdk.org>; Thu,  4 Jul 2024 04:28:00 +0200 (CEST)
Received: by mail-qv1-f97.google.com with SMTP id
 6a1803df08f44-6b5da2730efso1065826d6.2
 for <test-report@dpdk.org>; Wed, 03 Jul 2024 19:28:00 -0700 (PDT)
DKIM-Signature: v=1; a=rsa-sha256; c=relaxed/relaxed;
 d=iol.unh.edu; s=unh-iol; t=1720060080; x=1720664880; darn=dpdk.org;
 h=references:in-reply-to:cc:to:from:subject:message-id:date:from:to
 :cc:subject:date:message-id:reply-to;
 bh=nnjsF6ZaUVtI9jbea3q3CeHDyljQK+lENxnvLP0T5no=;
 b=UXkOsOwVFkUWY+Gfh1m3jyA5DncHLmACu2JL8NdWUWuutBK4LbQqZQp4C7FUS6Ze5l
 K2qz9lgI7+dwW7Rx5CRQ11E+plaqb1fCXXJDl2+OgUvD79xCQbjLLs+k4ABYp2rV5OVG
 oWnrRIdrhKtsDUkAKGKY5JkOD7NGoEtDsgQYk=
X-Google-DKIM-Signature: v=1; a=rsa-sha256; c=relaxed/relaxed;
 d=1e100.net; s=20230601; t=1720060080; x=1720664880;
 h=references:in-reply-to:cc:to:from:subject:message-id:date
 :x-gm-message-state:from:to:cc:subject:date:message-id:reply-to;
 bh=nnjsF6ZaUVtI9jbea3q3CeHDyljQK+lENxnvLP0T5no=;
 b=UCcSqOVf84xntVqoQ2xfN6qL7KENFe9A6gZ9n/YNYKRHVFEEB+dXR55uoG0OM0Lrax
 iKntEd1mH0IvGcZPi4A/jw4XbhGKxvRpBTMOC5JzPbFO/UCCcWHYyPkWB/l3iB1KiP5c
 /JitpiHwntMjAjFnDVLJAJtzOhsZLirABc0xRiJBrVVtGjkwYUCQouTlMfTE88WNLYjk
 G9yN9QcxkPOTQ1ryaVEvPAzivQ2ocwYy5B1Ynu0A2dF4x5IgkF9+oagE2kCMiVRpBE3O
 U6tAyLhNkjArcQlNqmIHRWiE9XoIsSJh9YXrUplzraavVfrY9LuOnYKNm8gkuW0XFTms
 hTvQ==
X-Gm-Message-State: AOJu0YyhwFVIFnelOjRebRuSifFuf/RlxMMKA+761ecvIpyCADJhB1GM
 3ofL0ZQLwMG6sOVGIdAqtq9EcUkS9ZD9GXUOkmd5d79zbrJDhb2cgqcpDdp4d7vmYpY/jlYZS71
 L+YcbtwY5XmL4BbsXMePk3aGxCzsQjvdS9d9QoNO6
X-Google-Smtp-Source: AGHT+IEtcs60PeOAURVHnmkyfAcMAaXMbzta7dejHm1XRAsTTVbhCZlHqY7VjpZB/eqqQ6iAuQ0WC9clEqON
X-Received: by 2002:a05:6214:e82:b0:6b5:58e8:8f0c with SMTP id
 6a1803df08f44-6b5ecf8f06fmr4035836d6.7.1720060079872; 
 Wed, 03 Jul 2024 19:27:59 -0700 (PDT)
Received: from postal.iol.unh.edu (postal.iol.unh.edu. [132.177.123.84])
 by smtp-relay.gmail.com with ESMTPS id
 6a1803df08f44-6b5dfd1e00bsm1328406d6.15.2024.07.03.19.27.59
 (version=TLS1_2 cipher=ECDHE-ECDSA-AES128-GCM-SHA256 bits=128/128);
 Wed, 03 Jul 2024 19:27:59 -0700 (PDT)
X-Relaying-Domain: iol.unh.edu
Date: Wed, 03 Jul 2024 19:27:59 -0700 (PDT)
Message-ID: <668608af.d40a0220.d09f1.9c8bSMTPIN_ADDED_MISSING@mx.google.com>
Received: from [172.21.0.6] (unknown [172.18.0.240])
 by postal.iol.unh.edu (Postfix) with ESMTP id 87376605C351;
 Wed,  3 Jul 2024 22:27:59 -0400 (EDT)
Subject: |PENDING| pw142097-142099 [PATCH] [v5,3/3] testpmd: replace EAL logt
From: dpdklab@iol.unh.edu
To: Test Report <test-report@dpdk.org>
Cc: dpdk-test-reports@iol.unh.edu
In-Reply-To: <20240703162929.78438-4-stephen@networkplumber.org>
References: <20240703162929.78438-4-stephen@networkplumber.org>
Content-Type: text/plain
X-BeenThere: test-report@dpdk.org
X-Mailman-Version: 2.1.29
Precedence: list
List-Id: automatic DPDK test reports <test-report.dpdk.org>
List-Unsubscribe: <https://mails.dpdk.org/options/test-report>,
 <mailto:test-report-request@dpdk.org?subject=unsubscribe>
List-Archive: <http://mails.dpdk.org/archives/test-report/>
List-Post: <mailto:test-report@dpdk.org>
List-Help: <mailto:test-report-request@dpdk.org?subject=help>
List-Subscribe: <https://mails.dpdk.org/listinfo/test-report>,
 <mailto:test-report-request@dpdk.org?subject=subscribe>
Errors-To: test-report-bounces@dpdk.org

Test-Label: iol-abi-testing
Test-Status: PENDING
http://dpdk.org/patch/142099

_Testing pending_

Submitter: Stephen Hemminger <stephen@networkplumber.org>
Date: Wednesday, July 03 2024 16:28:21 
DPDK git baseline: Repo:dpdk
  Branch: master
  CommitID:95bea772528d316c969a170e6206f3b05ac39413

142097-142099 --> testing pending

Test environment and result as below:

+-------------------+----------+
|    Environment    | abi_test |
+===================+==========+
| CentOS Stream 8   | PASS     |
+-------------------+----------+
| CentOS Stream 9   | PASS     |
+-------------------+----------+
| Debian Bullseye   | PASS     |
+-------------------+----------+
| Debian 12         | PASS     |
+-------------------+----------+
| Fedora 38 (Clang) | PASS     |
+-------------------+----------+
| Fedora 37         | PASS     |
+-------------------+----------+
| Fedora 39 (Clang) | PASS     |
+-------------------+----------+
| Fedora 38         | PASS     |
+-------------------+----------+
| Fedora 39         | PASS     |
+-------------------+----------+
| Fedora 40 (Clang) | PASS     |
+-------------------+----------+
| Fedora 40         | PEND     |
+-------------------+----------+
| openSUSE Leap 15  | PASS     |
+-------------------+----------+
| RHEL8             | PASS     |
+-------------------+----------+
| Ubuntu 24.04      | PASS     |
+-------------------+----------+
| Ubuntu 22.04      | PASS     |
+-------------------+----------+


CentOS Stream 8
	Kernel: 5.4.0-167-generic
	Compiler: gcc 8.5.0 20210514

CentOS Stream 9
	Kernel: 5.4.0-167-generic
	Compiler: gcc 11.4.1 20230605

Debian Bullseye
	Kernel: 5.4.0-167-generic
	Compiler: gcc 10.2.1-6

Debian 12
	Kernel: Container Host Kernel
	Compiler: gcc 12.2.0

Fedora 38 (Clang)
	Kernel: Depends on container host
	Compiler: clang 16.0.6

Fedora 37
	Kernel: Depends on container host system
	Compiler: gcc 12.3.1

Fedora 39 (Clang)
	Kernel: Depends on container host
	Compiler: clang 17.0.6

Fedora 38
	Kernel: Depends on container host
	Compiler: gcc 13.2.1

Fedora 39
	Kernel: Depends on container host
	Compiler: gcc 13.2.1

Fedora 40 (Clang)
	Kernel: Depends on container host
	Compiler: clang 18.1.6

Fedora 40
	Kernel: Depends on container host
	Compiler: gcc 14.1.1

openSUSE Leap 15
	Kernel: 5.4.0-167-generic
	Compiler: gcc 7.5.0

RHEL8
	Kernel: 5.4.0-167-generic
	Compiler: gcc 8.5.0 20210514 (Red Hat 8.5.0-20)

Ubuntu 24.04
	Kernel: 5.4.0-167-generic
	Compiler: gcc 13.2.0

Ubuntu 22.04
	Kernel: 5.4.0-167-generic
	Compiler: gcc 11.4.0

To view detailed results, visit:
https://lab.dpdk.org/results/dashboard/patchsets/30407/

UNH-IOL DPDK Community Lab

To manage your email subscriptions, visit: 
https://lab.dpdk.org/results/dashboard/preferences/subscriptions/