From mboxrd@z Thu Jan  1 00:00:00 1970
Return-Path: <test-report-bounces@dpdk.org>
Received: from mails.dpdk.org (mails.dpdk.org [217.70.189.124])
	by inbox.dpdk.org (Postfix) with ESMTP id C683945582
	for <public@inbox.dpdk.org>; Thu,  4 Jul 2024 05:19:47 +0200 (CEST)
Received: from mails.dpdk.org (localhost [127.0.0.1])
	by mails.dpdk.org (Postfix) with ESMTP id B76A540280;
	Thu,  4 Jul 2024 05:19:47 +0200 (CEST)
Received: from mail-io1-f100.google.com (mail-io1-f100.google.com
 [209.85.166.100])
 by mails.dpdk.org (Postfix) with ESMTP id CE6B540263
 for <test-report@dpdk.org>; Thu,  4 Jul 2024 05:19:45 +0200 (CEST)
Received: by mail-io1-f100.google.com with SMTP id
 ca18e2360f4ac-7f3d3919a4aso7634639f.1
 for <test-report@dpdk.org>; Wed, 03 Jul 2024 20:19:45 -0700 (PDT)
DKIM-Signature: v=1; a=rsa-sha256; c=relaxed/relaxed;
 d=iol.unh.edu; s=unh-iol; t=1720063185; x=1720667985; darn=dpdk.org;
 h=references:in-reply-to:cc:to:from:subject:message-id:date:from:to
 :cc:subject:date:message-id:reply-to;
 bh=gCeDhyySlUhPaVvqyzcXEgFQFAINqGsjLiZngWG95qk=;
 b=XZ/oZlv9G8/EZeFsHWUkKZCQxZRHiBdNEpb+i1y1Y82T0cSsvfqdugYbt+Jmqm09Ci
 2pwOupHZeaAeV8jVO/EmO7fr7Eenxi4rY3ZYY9KQ9ghODs1GxyGNyFaKodEmWQ2q0IGv
 tbtFVewPiSIVBdDd89eApYdzFbafElH+Ko4UY=
X-Google-DKIM-Signature: v=1; a=rsa-sha256; c=relaxed/relaxed;
 d=1e100.net; s=20230601; t=1720063185; x=1720667985;
 h=references:in-reply-to:cc:to:from:subject:message-id:date
 :x-gm-message-state:from:to:cc:subject:date:message-id:reply-to;
 bh=gCeDhyySlUhPaVvqyzcXEgFQFAINqGsjLiZngWG95qk=;
 b=VbK0FekkpHrYpk0PJSLKYSNJ23pSQJrZ4YCrqgTi/YVe+sVv9pKkc5CIrCOMhLymk+
 SSwumbvDx0YQI6sCqqHGT9MHGZaHQu2A6x+xrzfyFOLWBIcqrcL7i9XojJhyXgkWh+Y+
 pCcPfWnvKY+sG+pSXrxNvVHTW//XphZQ1WIwxvNhIPfOKDfwTKuslIWTJVH6f8gOlbyF
 UTZIXnuD3nwCwKuXjoPWxEC3vQCSsq52zjdfB2+rUm2lHP51OuSSDtCMAJiU4My54ZgA
 Bi/6n70aQCh3kwon9LLoworu+rPRVmNhtbE6IctR1bQha+tjGJnVTTuFe9wIvqbKEtIg
 8arw==
X-Gm-Message-State: AOJu0YyQN6fHpESymri8OolrMMdWvVTZUd2Qa5I4iFNC42IU82HDQlpH
 lYrAVrrfJ2OmSz42TIpwrm7UEFiQlmI4ZKtvuzG4L35VYfya9B/ZOEKofmGRDEYAA0tKt0J0kRe
 AMzMk4a5D9CvQy+511CoU2IfYTctWyYHJEWjEY2f9
X-Google-Smtp-Source: AGHT+IFB98Lmnt+tmSlH3cMqaCENbg51bjUApco+gsaR7JOIYz+vsgp5f2iDfqiJszoToIv7CKf3sugUmA/e
X-Received: by 2002:a05:6602:234f:b0:7f3:cb2a:a1b2 with SMTP id
 ca18e2360f4ac-7f66df1d862mr63443339f.13.1720063185128; 
 Wed, 03 Jul 2024 20:19:45 -0700 (PDT)
Received: from postal.iol.unh.edu (postal.iol.unh.edu. [132.177.123.84])
 by smtp-relay.gmail.com with ESMTPS id
 ca18e2360f4ac-7f61ce81ab6sm45025639f.1.2024.07.03.20.19.45
 (version=TLS1_2 cipher=ECDHE-ECDSA-AES128-GCM-SHA256 bits=128/128);
 Wed, 03 Jul 2024 20:19:45 -0700 (PDT)
X-Relaying-Domain: iol.unh.edu
Date: Wed, 03 Jul 2024 20:19:45 -0700 (PDT)
Message-ID: <668614d1.050a0220.c5b94.1a80SMTPIN_ADDED_MISSING@mx.google.com>
Received: from [172.21.0.6] (unknown [172.18.0.240])
 by postal.iol.unh.edu (Postfix) with ESMTP id 6DC7B605C351;
 Wed,  3 Jul 2024 23:19:44 -0400 (EDT)
Subject: |PENDING| pw142110-142112 [PATCH] [v5,3/3] dts: queue suite conf sch
From: dpdklab@iol.unh.edu
To: Test Report <test-report@dpdk.org>
Cc: dpdk-test-reports@iol.unh.edu
In-Reply-To: <20240703180820.18723-3-dmarx@iol.unh.edu>
References: <20240703180820.18723-3-dmarx@iol.unh.edu>
Content-Type: text/plain
X-BeenThere: test-report@dpdk.org
X-Mailman-Version: 2.1.29
Precedence: list
List-Id: automatic DPDK test reports <test-report.dpdk.org>
List-Unsubscribe: <https://mails.dpdk.org/options/test-report>,
 <mailto:test-report-request@dpdk.org?subject=unsubscribe>
List-Archive: <http://mails.dpdk.org/archives/test-report/>
List-Post: <mailto:test-report@dpdk.org>
List-Help: <mailto:test-report-request@dpdk.org?subject=help>
List-Subscribe: <https://mails.dpdk.org/listinfo/test-report>,
 <mailto:test-report-request@dpdk.org?subject=subscribe>
Errors-To: test-report-bounces@dpdk.org

Test-Label: iol-unit-amd64-testing
Test-Status: PENDING
http://dpdk.org/patch/142112

_Testing pending_

Submitter: Dean Marx <dmarx@iol.unh.edu>
Date: Wednesday, July 03 2024 18:08:20 
DPDK git baseline: Repo:dpdk
  Branch: master
  CommitID:95bea772528d316c969a170e6206f3b05ac39413

142110-142112 --> testing pending

Test environment and result as below:

+-------------------+----------------+
|    Environment    | dpdk_unit_test |
+===================+================+
| CentOS Stream 8   | PASS           |
+-------------------+----------------+
| CentOS Stream 9   | PASS           |
+-------------------+----------------+
| Debian Bullseye   | PASS           |
+-------------------+----------------+
| Debian 12         | PASS           |
+-------------------+----------------+
| Fedora 38 (Clang) | PASS           |
+-------------------+----------------+
| Fedora 37         | PASS           |
+-------------------+----------------+
| Fedora 38         | PASS           |
+-------------------+----------------+
| Fedora 39         | PASS           |
+-------------------+----------------+
| Fedora 39 (Clang) | PASS           |
+-------------------+----------------+
| Fedora 40         | PASS           |
+-------------------+----------------+
| RHEL8             | PASS           |
+-------------------+----------------+
| Fedora 40 (Clang) | PASS           |
+-------------------+----------------+
| openSUSE Leap 15  | PASS           |
+-------------------+----------------+
| Ubuntu 22.04      | PASS           |
+-------------------+----------------+
| RHEL9             | PASS           |
+-------------------+----------------+
| Ubuntu 20.04      | PASS           |
+-------------------+----------------+
| Ubuntu 24.04      | PEND           |
+-------------------+----------------+


CentOS Stream 8
	Kernel: 5.4.0-167-generic
	Compiler: gcc 8.5.0 20210514

CentOS Stream 9
	Kernel: 5.4.0-167-generic
	Compiler: gcc 11.4.1 20230605

Debian Bullseye
	Kernel: 5.4.0-167-generic
	Compiler: gcc 10.2.1-6

Debian 12
	Kernel: Container Host Kernel
	Compiler: gcc 12.2.0

Fedora 38 (Clang)
	Kernel: Depends on container host
	Compiler: clang 16.0.6

Fedora 37
	Kernel: Depends on container host system
	Compiler: gcc 12.3.1

Fedora 38
	Kernel: Depends on container host
	Compiler: gcc 13.2.1

Fedora 39
	Kernel: Depends on container host
	Compiler: gcc 13.2.1

Fedora 39 (Clang)
	Kernel: Depends on container host
	Compiler: clang 17.0.6

Fedora 40
	Kernel: Depends on container host
	Compiler: gcc 14.1.1

RHEL8
	Kernel: 5.4.0-167-generic
	Compiler: gcc 8.5.0 20210514 (Red Hat 8.5.0-20)

Fedora 40 (Clang)
	Kernel: Depends on container host
	Compiler: clang 18.1.6

openSUSE Leap 15
	Kernel: 5.4.0-167-generic
	Compiler: gcc 7.5.0

Ubuntu 22.04
	Kernel: 5.4.0-167-generic
	Compiler: gcc 11.4.0

RHEL9
	Kernel: Depends on container host
	Compiler: gcc 11.4.1

Ubuntu 20.04
	Kernel: 5.4.0-167-generic
	Compiler: gcc 9.4.0-1ubuntu1~20.04.1

Ubuntu 24.04
	Kernel: 5.4.0-167-generic
	Compiler: gcc 13.2.0

To view detailed results, visit:
https://lab.dpdk.org/results/dashboard/patchsets/30411/

UNH-IOL DPDK Community Lab

To manage your email subscriptions, visit: 
https://lab.dpdk.org/results/dashboard/preferences/subscriptions/