From mboxrd@z Thu Jan  1 00:00:00 1970
Return-Path: <test-report-bounces@dpdk.org>
Received: from mails.dpdk.org (mails.dpdk.org [217.70.189.124])
	by inbox.dpdk.org (Postfix) with ESMTP id BCF1E45552
	for <public@inbox.dpdk.org>; Thu,  4 Jul 2024 06:34:47 +0200 (CEST)
Received: from mails.dpdk.org (localhost [127.0.0.1])
	by mails.dpdk.org (Postfix) with ESMTP id B936340280;
	Thu,  4 Jul 2024 06:34:47 +0200 (CEST)
Received: from mail-il1-f225.google.com (mail-il1-f225.google.com
 [209.85.166.225])
 by mails.dpdk.org (Postfix) with ESMTP id 2516640263
 for <test-report@dpdk.org>; Thu,  4 Jul 2024 06:34:46 +0200 (CEST)
Received: by mail-il1-f225.google.com with SMTP id
 e9e14a558f8ab-3737dc4a669so947945ab.0
 for <test-report@dpdk.org>; Wed, 03 Jul 2024 21:34:46 -0700 (PDT)
DKIM-Signature: v=1; a=rsa-sha256; c=relaxed/relaxed;
 d=iol.unh.edu; s=unh-iol; t=1720067685; x=1720672485; darn=dpdk.org;
 h=references:in-reply-to:cc:to:from:subject:message-id:date:from:to
 :cc:subject:date:message-id:reply-to;
 bh=vO6IYW4uvgPRjoKjFMETW/GGU0bKNj0bqE6KRhhDHAE=;
 b=QyY0HS4UMvQv3nMWNtsF4oqUO2Qqpax50ZBO6+m5BnGlq4NTz0DtfGRRseWQBQhS3v
 CmUIwX1oVE0uZluXNvT9PephqTtQwj21VBjeXijyIO71hTSaBuyXxmqnjWUYLstMyZ7+
 htCZzFQFwCnvFE18p42R1lYp4QrjPpa/4xKVY=
X-Google-DKIM-Signature: v=1; a=rsa-sha256; c=relaxed/relaxed;
 d=1e100.net; s=20230601; t=1720067685; x=1720672485;
 h=references:in-reply-to:cc:to:from:subject:message-id:date
 :x-gm-message-state:from:to:cc:subject:date:message-id:reply-to;
 bh=vO6IYW4uvgPRjoKjFMETW/GGU0bKNj0bqE6KRhhDHAE=;
 b=wpp0nvXPgXAxxMJzB8DYG+/V6OfeDSpEi0J/ED7x03cHoLJ4fC1+sNfHPSOPS8Zx8q
 WQg5FDtEp4ZHXfLf6ddU25hNp7xMCTxRCnqWfZ7MwqDauCkn3ZatVna7+Y9pb2fVhMT9
 KYAv2osovFUvft4XykmQJk/8kaq7/92DjiZeCQHNLu/PKbIN5Azv6SgIGSAuvHqGL/eP
 SNr7pBAgbrB1kNjyvNzmZUUwZtqwed/vHCum27VhIjK81L1GDRcAufFsj9KKnUJ2Rb2j
 JHANeMq+tNmlejlye4PyEsdpk1B8vz3sV7JaSONrYiID23khRRvHCkprBZA2t4N34vkO
 s3Ag==
X-Gm-Message-State: AOJu0YzGr8NUwEF6znDnEdScvu1P9kAGUFLC+QFsi7QUt9GNnWbeaIUm
 ak6LFVuFEXRnyHRxY1uvke0qSxCcPh0KQM6U16nAqZZNBVLsT57nqD7p4TfGtNKk2+bfHbXWzoJ
 G52OtiqzvHYmRuwbFdHNENv8RHAnPffraxtAlLW/L
X-Google-Smtp-Source: AGHT+IFJI5ry4vNbonGQfaPGnwG6TG/JV8mBqUeuz/YT2OCqixrZ/1MpfHFxd9m73xQFYfLkChgZq7nV1EZw
X-Received: by 2002:a05:6e02:1aa8:b0:381:5590:756f with SMTP id
 e9e14a558f8ab-3839a6f7ddemr6382925ab.23.1720067685302; 
 Wed, 03 Jul 2024 21:34:45 -0700 (PDT)
Received: from postal.iol.unh.edu (postal.iol.unh.edu. [132.177.123.84])
 by smtp-relay.gmail.com with ESMTPS id
 e9e14a558f8ab-3810eca8deasm1529485ab.78.2024.07.03.21.34.45
 (version=TLS1_2 cipher=ECDHE-ECDSA-AES128-GCM-SHA256 bits=128/128);
 Wed, 03 Jul 2024 21:34:45 -0700 (PDT)
X-Relaying-Domain: iol.unh.edu
Date: Wed, 03 Jul 2024 21:34:45 -0700 (PDT)
Message-ID: <66862665.050a0220.b3804.ae75SMTPIN_ADDED_MISSING@mx.google.com>
Received: from [172.21.0.7] (unknown [172.18.0.240])
 by postal.iol.unh.edu (Postfix) with ESMTP id C3C46605C351;
 Thu,  4 Jul 2024 00:34:44 -0400 (EDT)
Subject: |PENDING| pw142093-142095 [PATCH] [v3,3/3] dumpcap: add lcores optio
From: dpdklab@iol.unh.edu
To: Test Report <test-report@dpdk.org>
Cc: dpdk-test-reports@iol.unh.edu
In-Reply-To: <20240703154705.19192-4-stephen@networkplumber.org>
References: <20240703154705.19192-4-stephen@networkplumber.org>
Content-Type: text/plain
X-BeenThere: test-report@dpdk.org
X-Mailman-Version: 2.1.29
Precedence: list
List-Id: automatic DPDK test reports <test-report.dpdk.org>
List-Unsubscribe: <https://mails.dpdk.org/options/test-report>,
 <mailto:test-report-request@dpdk.org?subject=unsubscribe>
List-Archive: <http://mails.dpdk.org/archives/test-report/>
List-Post: <mailto:test-report@dpdk.org>
List-Help: <mailto:test-report-request@dpdk.org?subject=help>
List-Subscribe: <https://mails.dpdk.org/listinfo/test-report>,
 <mailto:test-report-request@dpdk.org?subject=subscribe>
Errors-To: test-report-bounces@dpdk.org

Test-Label: iol-abi-testing
Test-Status: PENDING
http://dpdk.org/patch/142095

_Testing pending_

Submitter: Stephen Hemminger <stephen@networkplumber.org>
Date: Wednesday, July 03 2024 15:45:45 
DPDK git baseline: Repo:dpdk
  Branch: master
  CommitID:95bea772528d316c969a170e6206f3b05ac39413

142093-142095 --> testing pending

Test environment and result as below:

+-------------------+----------+
|    Environment    | abi_test |
+===================+==========+
| CentOS Stream 8   | PASS     |
+-------------------+----------+
| CentOS Stream 9   | PASS     |
+-------------------+----------+
| Debian Bullseye   | PASS     |
+-------------------+----------+
| Debian 12         | PASS     |
+-------------------+----------+
| Fedora 37         | PASS     |
+-------------------+----------+
| Fedora 38 (Clang) | PASS     |
+-------------------+----------+
| Fedora 38         | PASS     |
+-------------------+----------+
| Fedora 39 (Clang) | PASS     |
+-------------------+----------+
| Fedora 39         | PEND     |
+-------------------+----------+
| Fedora 40 (Clang) | PASS     |
+-------------------+----------+
| openSUSE Leap 15  | PASS     |
+-------------------+----------+
| RHEL8             | PEND     |
+-------------------+----------+
| RHEL9             | PASS     |
+-------------------+----------+
| Ubuntu 22.04      | PASS     |
+-------------------+----------+
| Ubuntu 24.04      | PASS     |
+-------------------+----------+
| Fedora 40         | PEND     |
+-------------------+----------+


CentOS Stream 8
	Kernel: 5.4.0-167-generic
	Compiler: gcc 8.5.0 20210514

CentOS Stream 9
	Kernel: 5.4.0-167-generic
	Compiler: gcc 11.4.1 20230605

Debian Bullseye
	Kernel: 5.4.0-167-generic
	Compiler: gcc 10.2.1-6

Debian 12
	Kernel: Container Host Kernel
	Compiler: gcc 12.2.0

Fedora 37
	Kernel: Depends on container host system
	Compiler: gcc 12.3.1

Fedora 38 (Clang)
	Kernel: Depends on container host
	Compiler: clang 16.0.6

Fedora 38
	Kernel: Depends on container host
	Compiler: gcc 13.2.1

Fedora 39 (Clang)
	Kernel: Depends on container host
	Compiler: clang 17.0.6

Fedora 39
	Kernel: Depends on container host
	Compiler: gcc 13.2.1

Fedora 40 (Clang)
	Kernel: Depends on container host
	Compiler: clang 18.1.6

openSUSE Leap 15
	Kernel: 5.4.0-167-generic
	Compiler: gcc 7.5.0

RHEL8
	Kernel: 5.4.0-167-generic
	Compiler: gcc 8.5.0 20210514 (Red Hat 8.5.0-20)

RHEL9
	Kernel: Depends on container host
	Compiler: gcc 11.4.1

Ubuntu 22.04
	Kernel: 5.4.0-167-generic
	Compiler: gcc 11.4.0

Ubuntu 24.04
	Kernel: 5.4.0-167-generic
	Compiler: gcc 13.2.0

Fedora 40
	Kernel: Depends on container host
	Compiler: gcc 14.1.1

To view detailed results, visit:
https://lab.dpdk.org/results/dashboard/patchsets/30405/

UNH-IOL DPDK Community Lab

To manage your email subscriptions, visit: 
https://lab.dpdk.org/results/dashboard/preferences/subscriptions/