From mboxrd@z Thu Jan  1 00:00:00 1970
Return-Path: <test-report-bounces@dpdk.org>
Received: from mails.dpdk.org (mails.dpdk.org [217.70.189.124])
	by inbox.dpdk.org (Postfix) with ESMTP id 6D7EB45552
	for <public@inbox.dpdk.org>; Thu,  4 Jul 2024 06:50:41 +0200 (CEST)
Received: from mails.dpdk.org (localhost [127.0.0.1])
	by mails.dpdk.org (Postfix) with ESMTP id 6C77D40280;
	Thu,  4 Jul 2024 06:50:41 +0200 (CEST)
Received: from mail-pl1-f226.google.com (mail-pl1-f226.google.com
 [209.85.214.226])
 by mails.dpdk.org (Postfix) with ESMTP id 1600440263
 for <test-report@dpdk.org>; Thu,  4 Jul 2024 06:50:40 +0200 (CEST)
Received: by mail-pl1-f226.google.com with SMTP id
 d9443c01a7336-1fb05ac6b77so1174515ad.0
 for <test-report@dpdk.org>; Wed, 03 Jul 2024 21:50:40 -0700 (PDT)
DKIM-Signature: v=1; a=rsa-sha256; c=relaxed/relaxed;
 d=iol.unh.edu; s=unh-iol; t=1720068639; x=1720673439; darn=dpdk.org;
 h=references:in-reply-to:cc:to:from:subject:message-id:date:from:to
 :cc:subject:date:message-id:reply-to;
 bh=HVI2V5PDh+350U7P2zXP8cE237eV77mkYJibusoouAY=;
 b=JN211WULMbX1Crix5XWxYlHFTqovLeUV/3CLwL3YiAnMEdi3QwuVbKe2NUu3psm2Vv
 3NEXIAN5VQi3xg2VvNZffUspRxFT4FqHNdSiM91hzJNsTFgjoGLxQ3cgkhxjG0o45/Qm
 RS54HWiqHx0tFdJn3TTysT6LxqIG/y4RWuoVU=
X-Google-DKIM-Signature: v=1; a=rsa-sha256; c=relaxed/relaxed;
 d=1e100.net; s=20230601; t=1720068639; x=1720673439;
 h=references:in-reply-to:cc:to:from:subject:message-id:date
 :x-gm-message-state:from:to:cc:subject:date:message-id:reply-to;
 bh=HVI2V5PDh+350U7P2zXP8cE237eV77mkYJibusoouAY=;
 b=sgXDMpNZxeyI1mM90G1Wdeh8F/uY8aPurodU3fdRLWv4T4OC0hGYSAbQ9O+YFsTgJZ
 46sQfM5aHngQCr1iRmvCdkkh1xOzh+bbMMrZMPBslwABGUHk81ySKLN0Rq/W3bVIzHB5
 y6oP0LKltfp5iSojXngbHlszPsDo0cu9Yoq1gqMTDODNcr4TJTJKAfHoZTOzH5mxsPjP
 pbdi1s2yncExtAhFFhn9MY6x77p5CJb4p0NdeUTG4wXgXDux6kSxbza3NuIg9b7FMZp+
 7zQvZsbudqqdzRJUgqtJhKxW9RgMRfBPdM10pAxn6Iy73f3FSOV53FC3U2kkV3O6StnI
 1nVQ==
X-Gm-Message-State: AOJu0Yz2zrcXjtOIIkZSIPcKciU9fJLJ8JyJCo09rJseN346flVc/V/x
 1mc9b6Z0q70roLeWLu5837XaOSjMDqaKEXhqcnff9bpTjbS6vsCTt15p5YoH61Bs1TODo2eh2Ry
 r6ua0ek6v6c70aS6W7lr0a1D0sTc6QHkIEPkPmyNK
X-Google-Smtp-Source: AGHT+IFAW8fR0FyzGVl8A1Cz+OEXXMdURXAMpl6cWOr18Hyh9RoyZ2LVB9nmvzUAMYtvmK6hHp4DoNoKsLKy
X-Received: by 2002:a17:902:c943:b0:1fa:2099:5c18 with SMTP id
 d9443c01a7336-1fb33e76f25mr5211985ad.26.1720068639203; 
 Wed, 03 Jul 2024 21:50:39 -0700 (PDT)
Received: from postal.iol.unh.edu (postal.iol.unh.edu. [132.177.123.84])
 by smtp-relay.gmail.com with ESMTPS id
 d9443c01a7336-1fac155a781sm3809195ad.104.2024.07.03.21.50.39
 (version=TLS1_2 cipher=ECDHE-ECDSA-AES128-GCM-SHA256 bits=128/128);
 Wed, 03 Jul 2024 21:50:39 -0700 (PDT)
X-Relaying-Domain: iol.unh.edu
Date: Wed, 03 Jul 2024 21:50:39 -0700 (PDT)
Message-ID: <66862a1f.170a0220.c98f0.cf4eSMTPIN_ADDED_MISSING@mx.google.com>
Received: from [172.21.0.6] (unknown [172.18.0.240])
 by postal.iol.unh.edu (Postfix) with ESMTP id 543D2605C351;
 Thu,  4 Jul 2024 00:50:38 -0400 (EDT)
Subject: |PENDING| pw138647-138648 [PATCH] [2/2] mempool: use rte constant ma
From: dpdklab@iol.unh.edu
To: Test Report <test-report@dpdk.org>
Cc: dpdk-test-reports@iol.unh.edu
In-Reply-To: <1710970416-27841-3-git-send-email-roretzla@linux.microsoft.com>
References: <1710970416-27841-3-git-send-email-roretzla@linux.microsoft.com>
Content-Type: text/plain
X-BeenThere: test-report@dpdk.org
X-Mailman-Version: 2.1.29
Precedence: list
List-Id: automatic DPDK test reports <test-report.dpdk.org>
List-Unsubscribe: <https://mails.dpdk.org/options/test-report>,
 <mailto:test-report-request@dpdk.org?subject=unsubscribe>
List-Archive: <http://mails.dpdk.org/archives/test-report/>
List-Post: <mailto:test-report@dpdk.org>
List-Help: <mailto:test-report-request@dpdk.org?subject=help>
List-Subscribe: <https://mails.dpdk.org/listinfo/test-report>,
 <mailto:test-report-request@dpdk.org?subject=subscribe>
Errors-To: test-report-bounces@dpdk.org

Test-Label: iol-compile-amd64-testing
Test-Status: PENDING
http://dpdk.org/patch/138648

_Testing pending RETEST #2_

Submitter: Tyler Retzlaff <roretzla@linux.microsoft.com>
Date: Wednesday, March 20 2024 21:33:36 
DPDK git baseline: Repo:dpdk
  Branch: master
  CommitID:95bea772528d316c969a170e6206f3b05ac39413

138647-138648 --> testing pending

Test environment and result as below:

+---------------------+--------------------+----------------------+-------------------+
|     Environment     | dpdk_meson_compile | dpdk_mingw64_compile | dpdk_msvc_compile |
+=====================+====================+======================+===================+
| Windows Server 2019 | PASS               | PEND                 | SKIPPED           |
+---------------------+--------------------+----------------------+-------------------+
| FreeBSD 13.3        | PASS               | SKIPPED              | SKIPPED           |
+---------------------+--------------------+----------------------+-------------------+
| Windows Server 2022 | PASS               | PASS                 | PASS              |
+---------------------+--------------------+----------------------+-------------------+
| FreeBSD 14.1        | PASS               | SKIPPED              | SKIPPED           |
+---------------------+--------------------+----------------------+-------------------+


Windows Server 2019
	Kernel: 10.0.17763
	Compiler: clang 14.0 and gcc 8.1.0 (MinGW)

FreeBSD 13.3
	Kernel: 13.3-RELEASE-p1
	Compiler: clang 17.0.6

Windows Server 2022
	Kernel: 10.0.20348.2031
	Compiler: clang 15.0.7, gcc 8.1.0 (MinGW), and MSVC VS 17.9

FreeBSD 14.1
	Kernel: 14.1
	Compiler: clang 18.1.5

To view detailed results, visit:
https://lab.dpdk.org/results/dashboard/patchsets/29615/

UNH-IOL DPDK Community Lab

To manage your email subscriptions, visit: 
https://lab.dpdk.org/results/dashboard/preferences/subscriptions/