From mboxrd@z Thu Jan  1 00:00:00 1970
Return-Path: <test-report-bounces@dpdk.org>
Received: from mails.dpdk.org (mails.dpdk.org [217.70.189.124])
	by inbox.dpdk.org (Postfix) with ESMTP id 944EE45583
	for <public@inbox.dpdk.org>; Thu,  4 Jul 2024 08:16:46 +0200 (CEST)
Received: from mails.dpdk.org (localhost [127.0.0.1])
	by mails.dpdk.org (Postfix) with ESMTP id 8ED6040E72;
	Thu,  4 Jul 2024 08:16:46 +0200 (CEST)
Received: from mail-yb1-f228.google.com (mail-yb1-f228.google.com
 [209.85.219.228])
 by mails.dpdk.org (Postfix) with ESMTP id 1757840280
 for <test-report@dpdk.org>; Thu,  4 Jul 2024 08:16:45 +0200 (CEST)
Received: by mail-yb1-f228.google.com with SMTP id
 3f1490d57ef6-dff1ccdc17bso313858276.0
 for <test-report@dpdk.org>; Wed, 03 Jul 2024 23:16:45 -0700 (PDT)
DKIM-Signature: v=1; a=rsa-sha256; c=relaxed/relaxed;
 d=iol.unh.edu; s=unh-iol; t=1720073804; x=1720678604; darn=dpdk.org;
 h=references:in-reply-to:cc:to:from:subject:message-id:date:from:to
 :cc:subject:date:message-id:reply-to;
 bh=hh92a20BAQHm6wHvfLLgMs9EdULwLhknDhNp85NFJrk=;
 b=DFbwtUcqbbJhhIbho8k4IbNXHG2Emw3H7Jdg8aXnVFzr24R/NgY7HvInfgdtNt2MBT
 AZfIXBFcQJj6jcbd2Cfx3903+uD/N7koi9vdhFq+D7SETukkn6kK21xPb8ot7E27brKx
 OTRph8Pk9+THzg3roItzJ1aED1n1A9rf3yoLY=
X-Google-DKIM-Signature: v=1; a=rsa-sha256; c=relaxed/relaxed;
 d=1e100.net; s=20230601; t=1720073804; x=1720678604;
 h=references:in-reply-to:cc:to:from:subject:message-id:date
 :x-gm-message-state:from:to:cc:subject:date:message-id:reply-to;
 bh=hh92a20BAQHm6wHvfLLgMs9EdULwLhknDhNp85NFJrk=;
 b=XuMSAg2k+bdLhEcfV09yZeilKt7m5h2A5zWw0s2vdFPUzIZ/cxuXFc4wSHeU4zXKW9
 7VGVwnR/2PC1pyU3wt3KxtZ/Nf/eO2oxXf7b4fZoc/v6vVxz/9zOgigJHFv1kwdfLzEL
 bhZdz7QGmjQjQdoCBEB8bpUm2KUU6iCCJvii8jIvdx/foyq8LyHuLJ/MMaQESN55tPym
 cyjvP6rKdajvVCPs7lIJ6FnN8Estdvw+VzeoWL7bt9iIu8aAeDsuG1vQdQ9/upQ2kKEs
 xs3OPVUMW4FJgoJ8/+VDn+aynrOtuTXgt/IIktjWLMU9kqttsIpWZ4GiTpVeCIeUAUob
 a0mA==
X-Gm-Message-State: AOJu0Ywelea+VBR4ChuOI2tEvIGXj8ajAMzZUA1K/AJoVK1ndn3B7NhY
 FU9n2uOOqA+KhTeivyc8/B7zGoNq5ifK+TiL8PDPIUMciSDFnX9lvyh1xDH4CDzYSwasgRQQqw+
 osDzRYQMQBGKhhw7crzQrUboiHyy5JrrVVhrgmDWzA8K5D1hpOIJlHOoL
X-Google-Smtp-Source: AGHT+IHtGsXEo+ShjNeYkdvMvJJYA3Vfc+YdPGeQ6PhP3CqIa6DSMibvRDgdimnLmtfRLqfIBahzSg/b3jFB
X-Received: by 2002:a25:83c2:0:b0:e02:721b:756a with SMTP id
 3f1490d57ef6-e03c1a456c9mr584070276.47.1720073804473; 
 Wed, 03 Jul 2024 23:16:44 -0700 (PDT)
Received: from postal.iol.unh.edu (postal.iol.unh.edu.
 [2606:4100:3880:1234::84]) by smtp-relay.gmail.com with ESMTPS id
 3f1490d57ef6-e03a1969d62sm155074276.7.2024.07.03.23.16.44
 (version=TLS1_2 cipher=ECDHE-ECDSA-AES128-GCM-SHA256 bits=128/128);
 Wed, 03 Jul 2024 23:16:44 -0700 (PDT)
X-Relaying-Domain: iol.unh.edu
Date: Wed, 03 Jul 2024 23:16:44 -0700 (PDT)
Message-ID: <66863e4c.050a0220.80053.ba08SMTPIN_ADDED_MISSING@mx.google.com>
Received: from [172.21.0.6] (unknown [172.18.0.240])
 by postal.iol.unh.edu (Postfix) with ESMTP id 1BDBE605C351;
 Thu,  4 Jul 2024 02:16:44 -0400 (EDT)
Subject: |PENDING| pw138647-138648 [PATCH] [2/2] mempool: use rte constant ma
From: dpdklab@iol.unh.edu
To: Test Report <test-report@dpdk.org>
Cc: dpdk-test-reports@iol.unh.edu
In-Reply-To: <1710970416-27841-3-git-send-email-roretzla@linux.microsoft.com>
References: <1710970416-27841-3-git-send-email-roretzla@linux.microsoft.com>
Content-Type: text/plain
X-BeenThere: test-report@dpdk.org
X-Mailman-Version: 2.1.29
Precedence: list
List-Id: automatic DPDK test reports <test-report.dpdk.org>
List-Unsubscribe: <https://mails.dpdk.org/options/test-report>,
 <mailto:test-report-request@dpdk.org?subject=unsubscribe>
List-Archive: <http://mails.dpdk.org/archives/test-report/>
List-Post: <mailto:test-report@dpdk.org>
List-Help: <mailto:test-report-request@dpdk.org?subject=help>
List-Subscribe: <https://mails.dpdk.org/listinfo/test-report>,
 <mailto:test-report-request@dpdk.org?subject=subscribe>
Errors-To: test-report-bounces@dpdk.org

Test-Label: iol-unit-amd64-testing
Test-Status: PENDING
http://dpdk.org/patch/138648

_Testing pending RETEST #2_

Submitter: Tyler Retzlaff <roretzla@linux.microsoft.com>
Date: Wednesday, March 20 2024 21:33:36 
DPDK git baseline: Repo:dpdk
  Branch: master
  CommitID:95bea772528d316c969a170e6206f3b05ac39413

138647-138648 --> testing pending

Test environment and result as below:

+-------------------+----------------+
|    Environment    | dpdk_unit_test |
+===================+================+
| CentOS Stream 8   | PASS           |
+-------------------+----------------+
| CentOS Stream 9   | PASS           |
+-------------------+----------------+
| Debian Bullseye   | PASS           |
+-------------------+----------------+
| Debian 12         | PASS           |
+-------------------+----------------+
| Fedora 37         | PASS           |
+-------------------+----------------+
| Fedora 38         | PASS           |
+-------------------+----------------+
| Fedora 38 (Clang) | PASS           |
+-------------------+----------------+
| Fedora 39         | PASS           |
+-------------------+----------------+
| Fedora 39 (Clang) | PASS           |
+-------------------+----------------+
| Fedora 40         | PASS           |
+-------------------+----------------+
| Fedora 40 (Clang) | PASS           |
+-------------------+----------------+
| openSUSE Leap 15  | PASS           |
+-------------------+----------------+
| RHEL8             | PASS           |
+-------------------+----------------+
| RHEL9             | PEND           |
+-------------------+----------------+
| Ubuntu 20.04      | PEND           |
+-------------------+----------------+
| Ubuntu 22.04      | PEND           |
+-------------------+----------------+
| Ubuntu 24.04      | PEND           |
+-------------------+----------------+


CentOS Stream 8
	Kernel: 5.4.0-167-generic
	Compiler: gcc 8.5.0 20210514

CentOS Stream 9
	Kernel: 5.4.0-167-generic
	Compiler: gcc 11.4.1 20230605

Debian Bullseye
	Kernel: 5.4.0-167-generic
	Compiler: gcc 10.2.1-6

Debian 12
	Kernel: Container Host Kernel
	Compiler: gcc 12.2.0

Fedora 37
	Kernel: Depends on container host system
	Compiler: gcc 12.3.1

Fedora 38
	Kernel: Depends on container host
	Compiler: gcc 13.2.1

Fedora 38 (Clang)
	Kernel: Depends on container host
	Compiler: clang 16.0.6

Fedora 39
	Kernel: Depends on container host
	Compiler: gcc 13.2.1

Fedora 39 (Clang)
	Kernel: Depends on container host
	Compiler: clang 17.0.6

Fedora 40
	Kernel: Depends on container host
	Compiler: gcc 14.1.1

Fedora 40 (Clang)
	Kernel: Depends on container host
	Compiler: clang 18.1.6

openSUSE Leap 15
	Kernel: 5.4.0-167-generic
	Compiler: gcc 7.5.0

RHEL8
	Kernel: 5.4.0-167-generic
	Compiler: gcc 8.5.0 20210514 (Red Hat 8.5.0-20)

RHEL9
	Kernel: Depends on container host
	Compiler: gcc 11.4.1

Ubuntu 20.04
	Kernel: 5.4.0-167-generic
	Compiler: gcc 9.4.0-1ubuntu1~20.04.1

Ubuntu 22.04
	Kernel: 5.4.0-167-generic
	Compiler: gcc 11.4.0

Ubuntu 24.04
	Kernel: 5.4.0-167-generic
	Compiler: gcc 13.2.0

To view detailed results, visit:
https://lab.dpdk.org/results/dashboard/patchsets/29615/

UNH-IOL DPDK Community Lab

To manage your email subscriptions, visit: 
https://lab.dpdk.org/results/dashboard/preferences/subscriptions/