From mboxrd@z Thu Jan  1 00:00:00 1970
Return-Path: <test-report-bounces@dpdk.org>
Received: from mails.dpdk.org (mails.dpdk.org [217.70.189.124])
	by inbox.dpdk.org (Postfix) with ESMTP id 5DED445583
	for <public@inbox.dpdk.org>; Thu,  4 Jul 2024 08:56:36 +0200 (CEST)
Received: from mails.dpdk.org (localhost [127.0.0.1])
	by mails.dpdk.org (Postfix) with ESMTP id 57DC94025C;
	Thu,  4 Jul 2024 08:56:36 +0200 (CEST)
Received: from mail-qv1-f100.google.com (mail-qv1-f100.google.com
 [209.85.219.100])
 by mails.dpdk.org (Postfix) with ESMTP id D2AA940156
 for <test-report@dpdk.org>; Thu,  4 Jul 2024 08:56:30 +0200 (CEST)
Received: by mail-qv1-f100.google.com with SMTP id
 6a1803df08f44-6b2c6291038so3063046d6.0
 for <test-report@dpdk.org>; Wed, 03 Jul 2024 23:56:30 -0700 (PDT)
DKIM-Signature: v=1; a=rsa-sha256; c=relaxed/relaxed;
 d=iol.unh.edu; s=unh-iol; t=1720076190; x=1720680990; darn=dpdk.org;
 h=references:in-reply-to:cc:to:from:subject:message-id:date:from:to
 :cc:subject:date:message-id:reply-to;
 bh=+Ewwx764RDcoZ/C61j+uqBX+UFlUap8muSo0hhJtc8c=;
 b=jbQIxBBv/XuNwAVc6KvTKTsIrdtuf+dO8AtYHxhegdMjilC2+zvLeB+rWnZOSJwqb9
 XySjwaLHb2yO2Zj5EL9GewJQ1VENwcOHqqGu24sznvqEU7jaKwRGV6y7gUgAm70l2YVr
 RnJSAR0Y9Y7gXaYuDnAc1E6ESt2PCDAFD/lag=
X-Google-DKIM-Signature: v=1; a=rsa-sha256; c=relaxed/relaxed;
 d=1e100.net; s=20230601; t=1720076190; x=1720680990;
 h=references:in-reply-to:cc:to:from:subject:message-id:date
 :x-gm-message-state:from:to:cc:subject:date:message-id:reply-to;
 bh=+Ewwx764RDcoZ/C61j+uqBX+UFlUap8muSo0hhJtc8c=;
 b=KiTJXKI/9GVkBtacKKP4kzIoa92zgXYvfo2qRIkhdIqZeIHusRgibPQOyjg4zy7rpk
 vrriauIoZCq7rbAB0EdYoAAhBvfswqGYXAzaWDD0w5mMx2QHuPPGlQ8pX/kqNH4Z9ovT
 1a6oIf5SRk5VxPFjHXjCblboBAx0Z6ybQNlVNC/cz7A7HBy095k0rtbQ1NW16EGA3/Kj
 aywPZg3C9lrbQiUL8HJZIyuCNHJ44jxFYe1TXNnFb6zQKFRqvQZzGiO+MGjrhEvhG131
 +dOW1QcQtglGb4qypDG3chWrMuA1ZuPISbMwME5IV/zZ7jYTTjyTrZOG22/Mln3jRM9e
 aplA==
X-Gm-Message-State: AOJu0YxlK1DOEIQJozXkZZSweZDZzZHqMmHSlJQ4DYI1b+FGLl1e097W
 rhLSHhadovvUDTVh0kQrCmJNaUrFE8u5S5Uy/JcER9KMwbcPQ83SuRLugJPBqOjDQKcgN5fVS0A
 Caw9wjtOw6xImZ2q9p7H4BaqVL4Kr6ulK9kCWLmniZhaOOhvsbtTiCNPZ
X-Google-Smtp-Source: AGHT+IEHdBa2mvZ+Z7y8eGkjGqcUCjseet2+2add5WYRSqalv7f9EJU/mSc1ScbooZ4+Mvdimwil66cLW4tk
X-Received: by 2002:ad4:5ced:0:b0:6b5:80de:987f with SMTP id
 6a1803df08f44-6b5ee530610mr10157766d6.3.1720076190315; 
 Wed, 03 Jul 2024 23:56:30 -0700 (PDT)
Received: from postal.iol.unh.edu (postal.iol.unh.edu.
 [2606:4100:3880:1234::84]) by smtp-relay.gmail.com with ESMTPS id
 6a1803df08f44-6b59e3677bcsm6413656d6.2.2024.07.03.23.56.30
 (version=TLS1_2 cipher=ECDHE-ECDSA-AES128-GCM-SHA256 bits=128/128);
 Wed, 03 Jul 2024 23:56:30 -0700 (PDT)
X-Relaying-Domain: iol.unh.edu
Date: Wed, 03 Jul 2024 23:56:30 -0700 (PDT)
Message-ID: <6686479e.d40a0220.95a1d.2281SMTPIN_ADDED_MISSING@mx.google.com>
Received: from [172.21.0.7] (unknown [172.18.0.240])
 by postal.iol.unh.edu (Postfix) with ESMTP id 14D5C605C351;
 Thu,  4 Jul 2024 02:56:30 -0400 (EDT)
Subject: |PENDING| pw142110-142112 [PATCH] [v5,3/3] dts: queue suite conf sch
From: dpdklab@iol.unh.edu
To: Test Report <test-report@dpdk.org>
Cc: dpdk-test-reports@iol.unh.edu
In-Reply-To: <20240703180820.18723-3-dmarx@iol.unh.edu>
References: <20240703180820.18723-3-dmarx@iol.unh.edu>
Content-Type: text/plain
X-BeenThere: test-report@dpdk.org
X-Mailman-Version: 2.1.29
Precedence: list
List-Id: automatic DPDK test reports <test-report.dpdk.org>
List-Unsubscribe: <https://mails.dpdk.org/options/test-report>,
 <mailto:test-report-request@dpdk.org?subject=unsubscribe>
List-Archive: <http://mails.dpdk.org/archives/test-report/>
List-Post: <mailto:test-report@dpdk.org>
List-Help: <mailto:test-report-request@dpdk.org?subject=help>
List-Subscribe: <https://mails.dpdk.org/listinfo/test-report>,
 <mailto:test-report-request@dpdk.org?subject=subscribe>
Errors-To: test-report-bounces@dpdk.org

Test-Label: iol-unit-arm64-testing
Test-Status: PENDING
http://dpdk.org/patch/142112

_Testing pending_

Submitter: Dean Marx <dmarx@iol.unh.edu>
Date: Wednesday, July 03 2024 18:08:20 
DPDK git baseline: Repo:dpdk
  Branch: master
  CommitID:95bea772528d316c969a170e6206f3b05ac39413

142110-142112 --> testing pending

Test environment and result as below:

+-----------------------------+------------------------------+----------------+--------------+---------------------------+
|         Environment         | cryptodev_sw_snow3g_autotest | dpdk_unit_test | lpm_autotest | cryptodev_sw_zuc_autotest |
+=============================+==============================+================+==============+===========================+
| Debian 12 (arm)             | PASS                         | PASS           | SKIPPED      | PASS                      |
+-----------------------------+------------------------------+----------------+--------------+---------------------------+
| 32-bit Ubuntu 20.04.4 (ARM) | SKIPPED                      | PASS           | SKIPPED      | SKIPPED                   |
+-----------------------------+------------------------------+----------------+--------------+---------------------------+
| Debian 11 (Buster) (ARM)    | SKIPPED                      | PASS           | SKIPPED      | SKIPPED                   |
+-----------------------------+------------------------------+----------------+--------------+---------------------------+
| CentOS Stream 9 (ARM)       | SKIPPED                      | PASS           | SKIPPED      | SKIPPED                   |
+-----------------------------+------------------------------+----------------+--------------+---------------------------+
| Fedora 38 (ARM)             | SKIPPED                      | PASS           | SKIPPED      | SKIPPED                   |
+-----------------------------+------------------------------+----------------+--------------+---------------------------+
| Fedora 37 (ARM)             | SKIPPED                      | PASS           | SKIPPED      | SKIPPED                   |
+-----------------------------+------------------------------+----------------+--------------+---------------------------+
| Fedora 38 (ARM Clang)       | SKIPPED                      | PEND           | SKIPPED      | SKIPPED                   |
+-----------------------------+------------------------------+----------------+--------------+---------------------------+
| Fedora 39 (ARM)             | SKIPPED                      | PASS           | SKIPPED      | SKIPPED                   |
+-----------------------------+------------------------------+----------------+--------------+---------------------------+
| Fedora 39 (ARM Clang)       | SKIPPED                      | PEND           | SKIPPED      | SKIPPED                   |
+-----------------------------+------------------------------+----------------+--------------+---------------------------+
| Fedora 40 (ARM)             | SKIPPED                      | PEND           | SKIPPED      | SKIPPED                   |
+-----------------------------+------------------------------+----------------+--------------+---------------------------+
| Fedora 40 (ARM Clang)       | SKIPPED                      | PEND           | SKIPPED      | SKIPPED                   |
+-----------------------------+------------------------------+----------------+--------------+---------------------------+
| Ubuntu 20.04 (ARM)          | SKIPPED                      | PEND           | SKIPPED      | SKIPPED                   |
+-----------------------------+------------------------------+----------------+--------------+---------------------------+
| Ubuntu 22.04 (ARM)          | SKIPPED                      | PEND           | SKIPPED      | SKIPPED                   |
+-----------------------------+------------------------------+----------------+--------------+---------------------------+
| Ubuntu 24.04 (ARM)          | SKIPPED                      | PEND           | SKIPPED      | SKIPPED                   |
+-----------------------------+------------------------------+----------------+--------------+---------------------------+
| RHEL9 (ARM)                 | SKIPPED                      | PEND           | SKIPPED      | SKIPPED                   |
+-----------------------------+------------------------------+----------------+--------------+---------------------------+
| Ubuntu 20.04 ARM SVE        | SKIPPED                      | SKIPPED        | PASS         | SKIPPED                   |
+-----------------------------+------------------------------+----------------+--------------+---------------------------+


Debian 12 (arm)
	Kernel: Container Host Kernel
	Compiler: gcc 12.2.0

32-bit Ubuntu 20.04.4 (ARM)
	Kernel: 5.4.0-155-generic aarch64
	Compiler: gcc 9.4

Debian 11 (Buster) (ARM)
	Kernel: Container Host Kernel
	Compiler: gcc 10.2.1

CentOS Stream 9 (ARM)
	Kernel: Container Host Kernel
	Compiler: gcc 11.4.1

Fedora 38 (ARM)
	Kernel: Depends on container host
	Compiler: gcc 13.2.1

Fedora 37 (ARM)
	Kernel: Depends on container host
	Compiler: gcc 12.3.1

Fedora 38 (ARM Clang)
	Kernel: Depends on container host
	Compiler: clang 16.0.6

Fedora 39 (ARM)
	Kernel: Depends on container host
	Compiler: gcc 13.2.1

Fedora 39 (ARM Clang)
	Kernel: Depends on container host
	Compiler: clang 17.0.6

Fedora 40 (ARM)
	Kernel: Depends on container host
	Compiler: gcc 14.1.1

Fedora 40 (ARM Clang)
	Kernel: Depends on container host
	Compiler: clang 18.1.6

Ubuntu 20.04 (ARM)
	Kernel: Container Host Kernel
	Compiler: gcc 9.4.0

Ubuntu 22.04 (ARM)
	Kernel: Container Host Kernel
	Compiler: gcc 11.4.0

Ubuntu 24.04 (ARM)
	Kernel: 5.4.0-167-generic
	Compiler: gcc 13.2.0

RHEL9 (ARM)
	Kernel: Depends on container host
	Compiler: gcc 11.4.1

Ubuntu 20.04 ARM SVE
	Kernel: 5.4.0-167-generic
	Compiler: gcc (Ubuntu 10.5.0-1ubuntu1~20.04) 10.5.0

To view detailed results, visit:
https://lab.dpdk.org/results/dashboard/patchsets/30411/

UNH-IOL DPDK Community Lab

To manage your email subscriptions, visit: 
https://lab.dpdk.org/results/dashboard/preferences/subscriptions/