From mboxrd@z Thu Jan  1 00:00:00 1970
Return-Path: <test-report-bounces@dpdk.org>
Received: from mails.dpdk.org (mails.dpdk.org [217.70.189.124])
	by inbox.dpdk.org (Postfix) with ESMTP id 3229545583
	for <public@inbox.dpdk.org>; Thu,  4 Jul 2024 09:17:04 +0200 (CEST)
Received: from mails.dpdk.org (localhost [127.0.0.1])
	by mails.dpdk.org (Postfix) with ESMTP id 2E1524025C;
	Thu,  4 Jul 2024 09:17:04 +0200 (CEST)
Received: from mail-pf1-f227.google.com (mail-pf1-f227.google.com
 [209.85.210.227])
 by mails.dpdk.org (Postfix) with ESMTP id 0407D40156
 for <test-report@dpdk.org>; Thu,  4 Jul 2024 09:17:02 +0200 (CEST)
Received: by mail-pf1-f227.google.com with SMTP id
 d2e1a72fcca58-70af48692bcso235917b3a.1
 for <test-report@dpdk.org>; Thu, 04 Jul 2024 00:17:02 -0700 (PDT)
DKIM-Signature: v=1; a=rsa-sha256; c=relaxed/relaxed;
 d=iol.unh.edu; s=unh-iol; t=1720077422; x=1720682222; darn=dpdk.org;
 h=references:in-reply-to:cc:to:from:subject:message-id:date:from:to
 :cc:subject:date:message-id:reply-to;
 bh=hDLA4FZKNE5jHlnLH02eGXWI3r+tg+dOK9/7UvcFVBc=;
 b=XIqipOQF30uPEaiMoi7DaHSVfRfopc5+51pn51MSKnINSDwMxEQLuPgdfBiri5nfd8
 UHdk42NH7E6tiDWIpfmoagEELpjVpRuZ2UbjVqxbRlqzg1bLcO3Js0r5JyNtTlGcT5JC
 fwBuot0FQco0ZXm4x5N2KZlb+nzHFtXVUqsO0=
X-Google-DKIM-Signature: v=1; a=rsa-sha256; c=relaxed/relaxed;
 d=1e100.net; s=20230601; t=1720077422; x=1720682222;
 h=references:in-reply-to:cc:to:from:subject:message-id:date
 :x-gm-message-state:from:to:cc:subject:date:message-id:reply-to;
 bh=hDLA4FZKNE5jHlnLH02eGXWI3r+tg+dOK9/7UvcFVBc=;
 b=HC3vvbtSFusHzT74mL+BJQg/9P3v1QmOW92zCB8FVKRZkt3ynRaaAZhcFweQn6rYUl
 sQupBeHWeA9fkbAjYLy0dxDmcEWM5OvP5d+MeiF8BBvBkHI+FhjmE+rkUM1vBQ3cpwHA
 0/y2R0U1X9kK6+BmfFhfndZ2ibS7R6275pu58jH0jsmakDZkQ62hJzq3IoTpWVErcsa9
 8jZSn4HsAoz7TYSNnQXs9h4gPVw5uOnbxcQaddk1sYtUrZlTcgYp7/jTiveXFRwaIvvi
 1MADjOsyt8mJg4GyNBI3bU1/sNilBhL/9/uqXDNp+QiN7fpYp4sjeCqYtz///dUVeuH6
 0USQ==
X-Gm-Message-State: AOJu0YxhLW+8vlZQjJh0HfhEtq8VwtLeT4CPUkhvI/X8Fmi3XsCFOVUw
 I+hrUZCLm+9eER72Na4n9I3YP8c62m+47ecSEUoMWIJI7oGzsvhpSz0Ydp5alhv1CUluDD1wqEb
 fDKupivW3vOYS0K9t/3HAAm+fN0sGtlihJCxxrUYb8xYKRL2pgJHoMY2k
X-Google-Smtp-Source: AGHT+IGtCMM0C9jR9eKoiv6jzkjmBx5gLHpoyl2SI4jwB3Wl64kpb7uXOEkJW0ht/LZ4xgEpfzq5IvsS85jk
X-Received: by 2002:a05:6a20:2583:b0:1be:e265:8201 with SMTP id
 adf61e73a8af0-1c0cc75c761mr726085637.28.1720077422045; 
 Thu, 04 Jul 2024 00:17:02 -0700 (PDT)
Received: from postal.iol.unh.edu (postal.iol.unh.edu.
 [2606:4100:3880:1234::84]) by smtp-relay.gmail.com with ESMTPS id
 98e67ed59e1d1-2c99aa1cf5csm33748a91.12.2024.07.04.00.17.01
 (version=TLS1_2 cipher=ECDHE-ECDSA-AES128-GCM-SHA256 bits=128/128);
 Thu, 04 Jul 2024 00:17:02 -0700 (PDT)
X-Relaying-Domain: iol.unh.edu
Date: Thu, 04 Jul 2024 00:17:02 -0700 (PDT)
Message-ID: <66864c6e.170a0220.de227.286cSMTPIN_ADDED_MISSING@mx.google.com>
Received: from [172.21.0.7] (unknown [172.18.0.240])
 by postal.iol.unh.edu (Postfix) with ESMTP id 2033B60524C8;
 Thu,  4 Jul 2024 03:17:01 -0400 (EDT)
Subject: |PENDING| pw142103-142105 [PATCH] [v10,3/3] dts: config schema
From: dpdklab@iol.unh.edu
To: Test Report <test-report@dpdk.org>
Cc: dpdk-test-reports@iol.unh.edu
In-Reply-To: <20240703165055.18939-3-dmarx@iol.unh.edu>
References: <20240703165055.18939-3-dmarx@iol.unh.edu>
Content-Type: text/plain
X-BeenThere: test-report@dpdk.org
X-Mailman-Version: 2.1.29
Precedence: list
List-Id: automatic DPDK test reports <test-report.dpdk.org>
List-Unsubscribe: <https://mails.dpdk.org/options/test-report>,
 <mailto:test-report-request@dpdk.org?subject=unsubscribe>
List-Archive: <http://mails.dpdk.org/archives/test-report/>
List-Post: <mailto:test-report@dpdk.org>
List-Help: <mailto:test-report-request@dpdk.org?subject=help>
List-Subscribe: <https://mails.dpdk.org/listinfo/test-report>,
 <mailto:test-report-request@dpdk.org?subject=subscribe>
Errors-To: test-report-bounces@dpdk.org

Test-Label: iol-unit-amd64-testing
Test-Status: PENDING
http://dpdk.org/patch/142105

_Testing pending_

Submitter: Dean Marx <dmarx@iol.unh.edu>
Date: Wednesday, July 03 2024 16:50:55 
DPDK git baseline: Repo:dpdk
  Branch: master
  CommitID:95bea772528d316c969a170e6206f3b05ac39413

142103-142105 --> testing pending

Test environment and result as below:

+-------------------+----------------+
|    Environment    | dpdk_unit_test |
+===================+================+
| CentOS Stream 8   | PASS           |
+-------------------+----------------+
| CentOS Stream 9   | PASS           |
+-------------------+----------------+
| Debian Bullseye   | PASS           |
+-------------------+----------------+
| Debian 12         | PASS           |
+-------------------+----------------+
| Fedora 38         | PASS           |
+-------------------+----------------+
| Fedora 37         | PASS           |
+-------------------+----------------+
| Fedora 38 (Clang) | PASS           |
+-------------------+----------------+
| Fedora 39         | PASS           |
+-------------------+----------------+
| Fedora 39 (Clang) | PASS           |
+-------------------+----------------+
| Fedora 40         | PASS           |
+-------------------+----------------+
| Fedora 40 (Clang) | PASS           |
+-------------------+----------------+
| openSUSE Leap 15  | PASS           |
+-------------------+----------------+
| RHEL8             | PASS           |
+-------------------+----------------+
| RHEL9             | PEND           |
+-------------------+----------------+
| Ubuntu 20.04      | PEND           |
+-------------------+----------------+
| Ubuntu 22.04      | PEND           |
+-------------------+----------------+
| Ubuntu 24.04      | PEND           |
+-------------------+----------------+


CentOS Stream 8
	Kernel: 5.4.0-167-generic
	Compiler: gcc 8.5.0 20210514

CentOS Stream 9
	Kernel: 5.4.0-167-generic
	Compiler: gcc 11.4.1 20230605

Debian Bullseye
	Kernel: 5.4.0-167-generic
	Compiler: gcc 10.2.1-6

Debian 12
	Kernel: Container Host Kernel
	Compiler: gcc 12.2.0

Fedora 38
	Kernel: Depends on container host
	Compiler: gcc 13.2.1

Fedora 37
	Kernel: Depends on container host system
	Compiler: gcc 12.3.1

Fedora 38 (Clang)
	Kernel: Depends on container host
	Compiler: clang 16.0.6

Fedora 39
	Kernel: Depends on container host
	Compiler: gcc 13.2.1

Fedora 39 (Clang)
	Kernel: Depends on container host
	Compiler: clang 17.0.6

Fedora 40
	Kernel: Depends on container host
	Compiler: gcc 14.1.1

Fedora 40 (Clang)
	Kernel: Depends on container host
	Compiler: clang 18.1.6

openSUSE Leap 15
	Kernel: 5.4.0-167-generic
	Compiler: gcc 7.5.0

RHEL8
	Kernel: 5.4.0-167-generic
	Compiler: gcc 8.5.0 20210514 (Red Hat 8.5.0-20)

RHEL9
	Kernel: Depends on container host
	Compiler: gcc 11.4.1

Ubuntu 20.04
	Kernel: 5.4.0-167-generic
	Compiler: gcc 9.4.0-1ubuntu1~20.04.1

Ubuntu 22.04
	Kernel: 5.4.0-167-generic
	Compiler: gcc 11.4.0

Ubuntu 24.04
	Kernel: 5.4.0-167-generic
	Compiler: gcc 13.2.0

To view detailed results, visit:
https://lab.dpdk.org/results/dashboard/patchsets/30409/

UNH-IOL DPDK Community Lab

To manage your email subscriptions, visit: 
https://lab.dpdk.org/results/dashboard/preferences/subscriptions/