From mboxrd@z Thu Jan  1 00:00:00 1970
Return-Path: <test-report-bounces@dpdk.org>
Received: from mails.dpdk.org (mails.dpdk.org [217.70.189.124])
	by inbox.dpdk.org (Postfix) with ESMTP id 02D4845587
	for <public@inbox.dpdk.org>; Thu,  4 Jul 2024 11:48:01 +0200 (CEST)
Received: from mails.dpdk.org (localhost [127.0.0.1])
	by mails.dpdk.org (Postfix) with ESMTP id E5A4E410F1;
	Thu,  4 Jul 2024 11:48:01 +0200 (CEST)
Received: from mail-oa1-f98.google.com (mail-oa1-f98.google.com
 [209.85.160.98]) by mails.dpdk.org (Postfix) with ESMTP id C9DAC410F1
 for <test-report@dpdk.org>; Thu,  4 Jul 2024 11:48:00 +0200 (CEST)
Received: by mail-oa1-f98.google.com with SMTP id
 586e51a60fabf-25e15406855so269813fac.0
 for <test-report@dpdk.org>; Thu, 04 Jul 2024 02:48:00 -0700 (PDT)
DKIM-Signature: v=1; a=rsa-sha256; c=relaxed/relaxed;
 d=iol.unh.edu; s=unh-iol; t=1720086480; x=1720691280; darn=dpdk.org;
 h=references:in-reply-to:cc:to:from:subject:message-id:date:from:to
 :cc:subject:date:message-id:reply-to;
 bh=om6/yIPKankRiA7CW1oU9rJHEUJPPv5gP9EfLLq7pzE=;
 b=fn78C8ewQFKdzFqbb0oYTzaFN9frnxxC0fRrodlkOdWDvxYm426Ckt2DRZfVPXS2VX
 B46riVZdEUD59eIRG0sFfZQFbOYinwhSXRZHC8ar24FMgjza7mMU0D+lzstFPSNID+my
 aGw2y+9ZAF/nI24MOexEiglFTVahMbNB6YlgI=
X-Google-DKIM-Signature: v=1; a=rsa-sha256; c=relaxed/relaxed;
 d=1e100.net; s=20230601; t=1720086480; x=1720691280;
 h=references:in-reply-to:cc:to:from:subject:message-id:date
 :x-gm-message-state:from:to:cc:subject:date:message-id:reply-to;
 bh=om6/yIPKankRiA7CW1oU9rJHEUJPPv5gP9EfLLq7pzE=;
 b=Ol05XTBmly6hsbsLtbQQbpWAMNOef9fLO9CXCiZw/hoqwQ9PBByNWoNB4Nlu/yYsqP
 CtWZKE67ZUdihLW5kF5KZT+u3RWR0SDnUTD9brsOqG3GfhpIye1piQxeg7l4QVpUFt86
 24SXUdmkyKRRC25gEbT5B4wvvn/shu1f1lJSclNMOgzDfUMf6g2V2N+cVhghFr6bWDb3
 72KhxtggsbgV+LYXrdDHfTZsllkKAZ/x+fsKX6Wm4l8iOqlkK1ZC0jkU7IENTyOUhCmo
 B6f0LoS0u57LsVhINy1zioQVG4qMtaIyznge/HBZIAS35Uu8tXhIgv3dYVwf0K9Q3bD2
 iZxw==
X-Gm-Message-State: AOJu0Yyf+898VFvlVUFm4PE9SKWG+7y0faAHWX83GMVJKm1ToqbUbYVg
 zNeAU/pdA4hSJLrpibnhu8A646JMlqkrlo3SziS1VEbTC+pJbEo+8dgq1tH0z0GW8ryoAfi7YHP
 amI3jPk8W7DlRsUT7Px+BlIkrGd1ajyrGyN0dWLe6
X-Google-Smtp-Source: AGHT+IGAFHHF77s4Hcs+yrxfQsQ3gultWcXhAxFuEvr9iC559w+Yemqp4s3JHfKoa2y2eFtH3pPfOmTAQ0t1
X-Received: by 2002:a05:6870:d10b:b0:254:b5b9:354e with SMTP id
 586e51a60fabf-25e2ba181ccmr1036602fac.19.1720086478895; 
 Thu, 04 Jul 2024 02:47:58 -0700 (PDT)
Received: from postal.iol.unh.edu (postal.iol.unh.edu. [132.177.123.84])
 by smtp-relay.gmail.com with ESMTPS id
 586e51a60fabf-25df17178b2sm250971fac.14.2024.07.04.02.47.58
 (version=TLS1_2 cipher=ECDHE-ECDSA-AES128-GCM-SHA256 bits=128/128);
 Thu, 04 Jul 2024 02:47:58 -0700 (PDT)
X-Relaying-Domain: iol.unh.edu
Date: Thu, 04 Jul 2024 02:47:58 -0700 (PDT)
Message-ID: <66866fce.050a0220.99c2.283dSMTPIN_ADDED_MISSING@mx.google.com>
Received: from [172.21.0.8] (unknown [172.18.0.240])
 by postal.iol.unh.edu (Postfix) with ESMTP id 4CBF460526E2;
 Thu,  4 Jul 2024 05:47:58 -0400 (EDT)
Subject: |PENDING| pw138647-138648 [PATCH] [2/2] mempool: use rte constant ma
From: dpdklab@iol.unh.edu
To: Test Report <test-report@dpdk.org>
Cc: dpdk-test-reports@iol.unh.edu
In-Reply-To: <1710970416-27841-3-git-send-email-roretzla@linux.microsoft.com>
References: <1710970416-27841-3-git-send-email-roretzla@linux.microsoft.com>
Content-Type: text/plain
X-BeenThere: test-report@dpdk.org
X-Mailman-Version: 2.1.29
Precedence: list
List-Id: automatic DPDK test reports <test-report.dpdk.org>
List-Unsubscribe: <https://mails.dpdk.org/options/test-report>,
 <mailto:test-report-request@dpdk.org?subject=unsubscribe>
List-Archive: <http://mails.dpdk.org/archives/test-report/>
List-Post: <mailto:test-report@dpdk.org>
List-Help: <mailto:test-report-request@dpdk.org?subject=help>
List-Subscribe: <https://mails.dpdk.org/listinfo/test-report>,
 <mailto:test-report-request@dpdk.org?subject=subscribe>
Errors-To: test-report-bounces@dpdk.org

Test-Label: iol-compile-arm64-testing
Test-Status: PENDING
http://dpdk.org/patch/138648

_Testing pending RETEST #2_

Submitter: Tyler Retzlaff <roretzla@linux.microsoft.com>
Date: Wednesday, March 20 2024 21:33:36 
DPDK git baseline: Repo:dpdk
  Branch: master
  CommitID:95bea772528d316c969a170e6206f3b05ac39413

138647-138648 --> testing pending

Test environment and result as below:

+-----------------------+--------------------+
|      Environment      | dpdk_meson_compile |
+=======================+====================+
| RHEL9 (ARM)           | PASS               |
+-----------------------+--------------------+
| Ubuntu 20.04 ARM SVE  | PASS               |
+-----------------------+--------------------+
| Debian 12 with MUSDK  | PASS               |
+-----------------------+--------------------+
| Fedora 37 (ARM)       | PASS               |
+-----------------------+--------------------+
| Fedora 38 (ARM)       | PASS               |
+-----------------------+--------------------+
| Fedora 38 (ARM Clang) | PEND               |
+-----------------------+--------------------+
| Fedora 39 (ARM)       | PEND               |
+-----------------------+--------------------+
| Fedora 39 (ARM Clang) | PEND               |
+-----------------------+--------------------+
| Fedora 40 (ARM)       | PEND               |
+-----------------------+--------------------+
| Fedora 40 (ARM Clang) | PEND               |
+-----------------------+--------------------+
| Ubuntu 20.04 (ARM)    | PEND               |
+-----------------------+--------------------+


RHEL9 (ARM)
	Kernel: Depends on container host
	Compiler: gcc 11.4.1

Ubuntu 20.04 ARM SVE
	Kernel: 5.4.0-167-generic
	Compiler: gcc (Ubuntu 10.5.0-1ubuntu1~20.04) 10.5.0

Debian 12 with MUSDK
	Kernel: Container Host Kernel
	Compiler: gcc 12.2.0

Fedora 37 (ARM)
	Kernel: Depends on container host
	Compiler: gcc 12.3.1

Fedora 38 (ARM)
	Kernel: Depends on container host
	Compiler: gcc 13.2.1

Fedora 38 (ARM Clang)
	Kernel: Depends on container host
	Compiler: clang 16.0.6

Fedora 39 (ARM)
	Kernel: Depends on container host
	Compiler: gcc 13.2.1

Fedora 39 (ARM Clang)
	Kernel: Depends on container host
	Compiler: clang 17.0.6

Fedora 40 (ARM)
	Kernel: Depends on container host
	Compiler: gcc 14.1.1

Fedora 40 (ARM Clang)
	Kernel: Depends on container host
	Compiler: clang 18.1.6

Ubuntu 20.04 (ARM)
	Kernel: Container Host Kernel
	Compiler: gcc 9.4.0

To view detailed results, visit:
https://lab.dpdk.org/results/dashboard/patchsets/29615/

UNH-IOL DPDK Community Lab

To manage your email subscriptions, visit: 
https://lab.dpdk.org/results/dashboard/preferences/subscriptions/