From mboxrd@z Thu Jan  1 00:00:00 1970
Return-Path: <test-report-bounces@dpdk.org>
Received: from mails.dpdk.org (mails.dpdk.org [217.70.189.124])
	by inbox.dpdk.org (Postfix) with ESMTP id D5E5045589
	for <public@inbox.dpdk.org>; Thu,  4 Jul 2024 14:55:48 +0200 (CEST)
Received: from mails.dpdk.org (localhost [127.0.0.1])
	by mails.dpdk.org (Postfix) with ESMTP id D250140280;
	Thu,  4 Jul 2024 14:55:48 +0200 (CEST)
Received: from mail-yb1-f228.google.com (mail-yb1-f228.google.com
 [209.85.219.228])
 by mails.dpdk.org (Postfix) with ESMTP id 567664025C
 for <test-report@dpdk.org>; Thu,  4 Jul 2024 14:55:47 +0200 (CEST)
Received: by mail-yb1-f228.google.com with SMTP id
 3f1490d57ef6-e0360f890a1so1449765276.0
 for <test-report@dpdk.org>; Thu, 04 Jul 2024 05:55:47 -0700 (PDT)
DKIM-Signature: v=1; a=rsa-sha256; c=relaxed/relaxed;
 d=iol.unh.edu; s=unh-iol; t=1720097746; x=1720702546; darn=dpdk.org;
 h=references:in-reply-to:cc:to:from:subject:message-id:date:from:to
 :cc:subject:date:message-id:reply-to;
 bh=FCocy1iZS3LSJpcvf3J/mDE0xUbrD7zSYAk6YWFD+60=;
 b=I2EBGUHdl1neQvKzA5l+E4vYBAxOVREvEjTY/LtWl90cLHO91CJgXiMAVWQipBJJRA
 Cd1VqIGoEOmRWmta7IPj6oELk3yZaBLZGEmhdOOb5vUwUCT6ZONItCJpCI2yvX/Iymo3
 uwwVYzYihMy7kn2BW1BRRv2CFOkn/HZ/x/ifY=
X-Google-DKIM-Signature: v=1; a=rsa-sha256; c=relaxed/relaxed;
 d=1e100.net; s=20230601; t=1720097746; x=1720702546;
 h=references:in-reply-to:cc:to:from:subject:message-id:date
 :x-gm-message-state:from:to:cc:subject:date:message-id:reply-to;
 bh=FCocy1iZS3LSJpcvf3J/mDE0xUbrD7zSYAk6YWFD+60=;
 b=bjmOUd7UbygCP63eqTw5Za0bbeSuFs8dZglH8tCtyaQQV0zqkRWIoD4WC+5rO+q12t
 qN4h7rbYJnZjYwhbtStOv5AQ+ORtwUKy+1sR8voDO6GzbebK/Dk8X3+urUffu2vX3XLo
 /aa+tpYFkrI0y7Yj+t+mVBmzrm7eMjrWAECSTRgdgmQIiIlDr2exzrfofjMw+ZmfQEql
 VFiZjb4fUvHXfKyqWSPpFaX6bdATaa9H46Xv1Qca5dNnS6fJRo63rBLbdWgOSJGdTIR7
 I6gnNqFtAQemiDHL0G2M1HaMk8pVu6cdiHEAbBSj+xIJRBjSKGvzO30NPrRTFWojKkx+
 8jUQ==
X-Gm-Message-State: AOJu0YxPTEyonOKnYNYrCdwmyQA698rMSazU1sFfDe/OxrdX2/EfrbGf
 OivarApwT+G3khQxmOhjrpINNZ0NmJ3bTVxK58jmqMAJ0IwE9vKXUZ9Q8aOZY3fl5f6pcfS88OJ
 C3ecSdE0QMoTTwx7B2Bk59EcglyW0+a9mhPyPQ45krYigzBgeqgisoqSY
X-Google-Smtp-Source: AGHT+IHszdFDgsQhD7P27BfNOc2SVgGIw9U6dI0kQ6MQamJi2zIcA2rLRe/7+PBBSsWf5VhLUCEVOlw4mlSI
X-Received: by 2002:a25:9c86:0:b0:e03:ab76:82ce with SMTP id
 3f1490d57ef6-e03c28c815emr768291276.9.1720097746724; 
 Thu, 04 Jul 2024 05:55:46 -0700 (PDT)
Received: from postal.iol.unh.edu (postal.iol.unh.edu.
 [2606:4100:3880:1234::84]) by smtp-relay.gmail.com with ESMTPS id
 3f1490d57ef6-e0353eb9807sm419317276.12.2024.07.04.05.55.46
 (version=TLS1_2 cipher=ECDHE-ECDSA-AES128-GCM-SHA256 bits=128/128);
 Thu, 04 Jul 2024 05:55:46 -0700 (PDT)
X-Relaying-Domain: iol.unh.edu
Date: Thu, 04 Jul 2024 05:55:46 -0700 (PDT)
Message-ID: <66869bd2.050a0220.2000e.fb13SMTPIN_ADDED_MISSING@mx.google.com>
Received: from [172.21.0.6] (unknown [172.18.0.240])
 by postal.iol.unh.edu (Postfix) with ESMTP id 5403760526E2;
 Thu,  4 Jul 2024 08:55:46 -0400 (EDT)
Subject: |SUCCESS| pw142063-142073 [PATCH] [11/11] crypto/dpaa2_sec: fix issu
From: dpdklab@iol.unh.edu
To: Test Report <test-report@dpdk.org>
Cc: dpdk-test-reports@iol.unh.edu
In-Reply-To: <20240703102649.3096530-12-g.singh@nxp.com>
References: <20240703102649.3096530-12-g.singh@nxp.com>
Content-Type: text/plain
X-BeenThere: test-report@dpdk.org
X-Mailman-Version: 2.1.29
Precedence: list
List-Id: automatic DPDK test reports <test-report.dpdk.org>
List-Unsubscribe: <https://mails.dpdk.org/options/test-report>,
 <mailto:test-report-request@dpdk.org?subject=unsubscribe>
List-Archive: <http://mails.dpdk.org/archives/test-report/>
List-Post: <mailto:test-report@dpdk.org>
List-Help: <mailto:test-report-request@dpdk.org?subject=help>
List-Subscribe: <https://mails.dpdk.org/listinfo/test-report>,
 <mailto:test-report-request@dpdk.org?subject=subscribe>
Errors-To: test-report-bounces@dpdk.org

Test-Label: iol-abi-testing
Test-Status: SUCCESS
http://dpdk.org/patch/142073

_Testing PASS_

Submitter: Gagandeep Singh <g.singh@nxp.com>
Date: Wednesday, July 03 2024 10:26:49 
DPDK git baseline: Repo:dpdk
  Branch: master
  CommitID:95bea772528d316c969a170e6206f3b05ac39413

142063-142073 --> testing pass

Test environment and result as below:

+-------------------+----------+
|    Environment    | abi_test |
+===================+==========+
| CentOS Stream 8   | PASS     |
+-------------------+----------+
| CentOS Stream 9   | PASS     |
+-------------------+----------+
| Debian Bullseye   | PASS     |
+-------------------+----------+
| Debian 12         | PASS     |
+-------------------+----------+
| Fedora 37         | PASS     |
+-------------------+----------+
| Fedora 38 (Clang) | PASS     |
+-------------------+----------+
| Fedora 38         | PASS     |
+-------------------+----------+
| Fedora 39 (Clang) | PASS     |
+-------------------+----------+
| Fedora 39         | PASS     |
+-------------------+----------+
| Fedora 40 (Clang) | PASS     |
+-------------------+----------+
| Fedora 40         | PASS     |
+-------------------+----------+
| openSUSE Leap 15  | PASS     |
+-------------------+----------+
| RHEL8             | PASS     |
+-------------------+----------+
| RHEL9             | PASS     |
+-------------------+----------+
| Ubuntu 22.04      | PASS     |
+-------------------+----------+
| Ubuntu 24.04      | PASS     |
+-------------------+----------+


CentOS Stream 8
	Kernel: 5.4.0-167-generic
	Compiler: gcc 8.5.0 20210514

CentOS Stream 9
	Kernel: 5.4.0-167-generic
	Compiler: gcc 11.4.1 20230605

Debian Bullseye
	Kernel: 5.4.0-167-generic
	Compiler: gcc 10.2.1-6

Debian 12
	Kernel: Container Host Kernel
	Compiler: gcc 12.2.0

Fedora 37
	Kernel: Depends on container host system
	Compiler: gcc 12.3.1

Fedora 38 (Clang)
	Kernel: Depends on container host
	Compiler: clang 16.0.6

Fedora 38
	Kernel: Depends on container host
	Compiler: gcc 13.2.1

Fedora 39 (Clang)
	Kernel: Depends on container host
	Compiler: clang 17.0.6

Fedora 39
	Kernel: Depends on container host
	Compiler: gcc 13.2.1

Fedora 40 (Clang)
	Kernel: Depends on container host
	Compiler: clang 18.1.6

Fedora 40
	Kernel: Depends on container host
	Compiler: gcc 14.1.1

openSUSE Leap 15
	Kernel: 5.4.0-167-generic
	Compiler: gcc 7.5.0

RHEL8
	Kernel: 5.4.0-167-generic
	Compiler: gcc 8.5.0 20210514 (Red Hat 8.5.0-20)

RHEL9
	Kernel: Depends on container host
	Compiler: gcc 11.4.1

Ubuntu 22.04
	Kernel: 5.4.0-167-generic
	Compiler: gcc 11.4.0

Ubuntu 24.04
	Kernel: 5.4.0-167-generic
	Compiler: gcc 13.2.0

To view detailed results, visit:
https://lab.dpdk.org/results/dashboard/patchsets/30398/

UNH-IOL DPDK Community Lab

To manage your email subscriptions, visit: 
https://lab.dpdk.org/results/dashboard/preferences/subscriptions/