From mboxrd@z Thu Jan  1 00:00:00 1970
Return-Path: <test-report-bounces@dpdk.org>
Received: from mails.dpdk.org (mails.dpdk.org [217.70.189.124])
	by inbox.dpdk.org (Postfix) with ESMTP id DDC204558A
	for <public@inbox.dpdk.org>; Thu,  4 Jul 2024 16:23:32 +0200 (CEST)
Received: from mails.dpdk.org (localhost [127.0.0.1])
	by mails.dpdk.org (Postfix) with ESMTP id D971342EDD;
	Thu,  4 Jul 2024 16:23:32 +0200 (CEST)
Received: from mail-pf1-f226.google.com (mail-pf1-f226.google.com
 [209.85.210.226])
 by mails.dpdk.org (Postfix) with ESMTP id 8FAE44042F
 for <test-report@dpdk.org>; Thu,  4 Jul 2024 16:23:31 +0200 (CEST)
Received: by mail-pf1-f226.google.com with SMTP id
 d2e1a72fcca58-7066f68e22cso517956b3a.2
 for <test-report@dpdk.org>; Thu, 04 Jul 2024 07:23:31 -0700 (PDT)
DKIM-Signature: v=1; a=rsa-sha256; c=relaxed/relaxed;
 d=iol.unh.edu; s=unh-iol; t=1720103011; x=1720707811; darn=dpdk.org;
 h=references:in-reply-to:cc:to:from:subject:message-id:date:from:to
 :cc:subject:date:message-id:reply-to;
 bh=FAuXG/ieZWVrszNrpQKP2OkYrhSQp7FhA/ttfI+XPBs=;
 b=Mv+72tInIeI9VZGD+0V50G+E4EcMWyE/cQ3ANBJfsH4KEDpRnAnEcx33dft+SgLIiR
 F3EztMkvowQlY5kd7Q3ea4mC/TL0IEH+YCyFo8QM8hRn86rYUcUtZpBr45zaZhuq/JjW
 kXK+sG/he1Nt4fJgr6zRy8De+e921ifl4J4lA=
X-Google-DKIM-Signature: v=1; a=rsa-sha256; c=relaxed/relaxed;
 d=1e100.net; s=20230601; t=1720103011; x=1720707811;
 h=references:in-reply-to:cc:to:from:subject:message-id:date
 :x-gm-message-state:from:to:cc:subject:date:message-id:reply-to;
 bh=FAuXG/ieZWVrszNrpQKP2OkYrhSQp7FhA/ttfI+XPBs=;
 b=FR33bd/73dOIV/Hlcf/SjdwUbhsmKGUtjvG03B9lrZNknoaqZUFvcLuRCiZMeZfrUU
 Pqjuug/zMNm0Th1l8KHozvsv9l0BnB1naVm/+Lxx0bGb0lKyaEJD7x1d9pKa1S/F6+sc
 916JQATR+yPssWNsFojseHA+PrHVQK9jVxsvmHRaN3mmcOBSVXGANVDjn3GzsLH3rv5W
 aMRrkuX0r534gNlcX3c2R8wO9TCLtrqbH3eA38KGMr0HmTWkYZdk/yx3Sr5cXtkTnPX0
 YH2FLpKfpXt8HmjeoyIDmYkNiFtoaquW04j3+yge7wnfgM94fFyYBvwV/nMiImRUd0mp
 uMGQ==
X-Gm-Message-State: AOJu0YwKcaY5d7U0nkah02X1XrQPHg40j67t8DUw61/enjnzZgCnTnF9
 H16ZBK9q8fwo0GQ/Ly5jWOlWWgFSJH3nhnDQN8xqoSXgmrt6RoDigRnJv5XXsH3aOK5tQxiWh9J
 fCrh4qqyEc42D1c8PPaUZw3ZOLk+cktZniAk78tqv
X-Google-Smtp-Source: AGHT+IGM7gtyxqJlBD5BWUdCu2K3llEllJue6rVnSUsxCHYq10sVFXXmp/IWSedufMinSLfG9/zXC67DDtIo
X-Received: by 2002:a05:6a20:8401:b0:1be:ccea:41ea with SMTP id
 adf61e73a8af0-1c0cc8baaf5mr1674468637.49.1720103010658; 
 Thu, 04 Jul 2024 07:23:30 -0700 (PDT)
Received: from postal.iol.unh.edu (postal.iol.unh.edu. [132.177.123.84])
 by smtp-relay.gmail.com with ESMTPS id
 d9443c01a7336-1fac1594ef1sm4080085ad.115.2024.07.04.07.23.30
 (version=TLS1_2 cipher=ECDHE-ECDSA-AES128-GCM-SHA256 bits=128/128);
 Thu, 04 Jul 2024 07:23:30 -0700 (PDT)
X-Relaying-Domain: iol.unh.edu
Date: Thu, 04 Jul 2024 07:23:30 -0700 (PDT)
Message-ID: <6686b062.170a0220.4e03a.ec33SMTPIN_ADDED_MISSING@mx.google.com>
Received: from [172.21.0.7] (unknown [172.18.0.240])
 by postal.iol.unh.edu (Postfix) with ESMTP id ADEFB6050A73;
 Thu,  4 Jul 2024 10:23:29 -0400 (EDT)
Subject: |PENDING| pw142097-142099 [PATCH] [v5,3/3] testpmd: replace EAL logt
From: dpdklab@iol.unh.edu
To: Test Report <test-report@dpdk.org>
Cc: dpdk-test-reports@iol.unh.edu
In-Reply-To: <20240703162929.78438-4-stephen@networkplumber.org>
References: <20240703162929.78438-4-stephen@networkplumber.org>
Content-Type: text/plain
X-BeenThere: test-report@dpdk.org
X-Mailman-Version: 2.1.29
Precedence: list
List-Id: automatic DPDK test reports <test-report.dpdk.org>
List-Unsubscribe: <https://mails.dpdk.org/options/test-report>,
 <mailto:test-report-request@dpdk.org?subject=unsubscribe>
List-Archive: <http://mails.dpdk.org/archives/test-report/>
List-Post: <mailto:test-report@dpdk.org>
List-Help: <mailto:test-report-request@dpdk.org?subject=help>
List-Subscribe: <https://mails.dpdk.org/listinfo/test-report>,
 <mailto:test-report-request@dpdk.org?subject=subscribe>
Errors-To: test-report-bounces@dpdk.org

Test-Label: iol-compile-arm64-testing
Test-Status: PENDING
http://dpdk.org/patch/142099

_Testing pending_

Submitter: Stephen Hemminger <stephen@networkplumber.org>
Date: Wednesday, July 03 2024 16:28:21 
DPDK git baseline: Repo:dpdk
  Branch: master
  CommitID:95bea772528d316c969a170e6206f3b05ac39413

142097-142099 --> testing pending

Test environment and result as below:

+--------------------------------------+--------------------+
|             Environment              | dpdk_meson_compile |
+======================================+====================+
| RHEL9 (ARM)                          | PASS               |
+--------------------------------------+--------------------+
| Ubuntu 20.04 ARM GCC Cross Compile   | PEND               |
+--------------------------------------+--------------------+
| Ubuntu 20.04 ARM SVE                 | PASS               |
+--------------------------------------+--------------------+
| Debian 12 with MUSDK                 | PASS               |
+--------------------------------------+--------------------+
| Fedora 37 (ARM)                      | PASS               |
+--------------------------------------+--------------------+
| Fedora 38 (ARM)                      | PASS               |
+--------------------------------------+--------------------+
| Fedora 38 (ARM Clang)                | PEND               |
+--------------------------------------+--------------------+
| Fedora 39 (ARM)                      | PASS               |
+--------------------------------------+--------------------+
| Fedora 39 (ARM Clang)                | PEND               |
+--------------------------------------+--------------------+
| Fedora 40 (ARM)                      | PASS               |
+--------------------------------------+--------------------+
| Fedora 40 (ARM Clang)                | PEND               |
+--------------------------------------+--------------------+
| Ubuntu 20.04 (ARM)                   | PASS               |
+--------------------------------------+--------------------+
| Ubuntu 22.04 (ARM)                   | PEND               |
+--------------------------------------+--------------------+
| Ubuntu 24.04 (ARM)                   | PEND               |
+--------------------------------------+--------------------+
| CentOS Stream 9 (ARM)                | PEND               |
+--------------------------------------+--------------------+
| Debian 11 (Buster) (ARM)             | PEND               |
+--------------------------------------+--------------------+
| Debian 12 (arm)                      | PEND               |
+--------------------------------------+--------------------+
| Ubuntu 20.04 ARM Clang Cross Compile | PEND               |
+--------------------------------------+--------------------+


RHEL9 (ARM)
	Kernel: Depends on container host
	Compiler: gcc 11.4.1

Ubuntu 20.04 ARM GCC Cross Compile
	Kernel: 5.4.0-167-generic
	Compiler: aarch64-linux-gnu-gcc (Ubuntu 9.4.0-1ubuntu1~20.04.2) 9.4.0

Ubuntu 20.04 ARM SVE
	Kernel: 5.4.0-167-generic
	Compiler: gcc (Ubuntu 10.5.0-1ubuntu1~20.04) 10.5.0

Debian 12 with MUSDK
	Kernel: Container Host Kernel
	Compiler: gcc 12.2.0

Fedora 37 (ARM)
	Kernel: Depends on container host
	Compiler: gcc 12.3.1

Fedora 38 (ARM)
	Kernel: Depends on container host
	Compiler: gcc 13.2.1

Fedora 38 (ARM Clang)
	Kernel: Depends on container host
	Compiler: clang 16.0.6

Fedora 39 (ARM)
	Kernel: Depends on container host
	Compiler: gcc 13.2.1

Fedora 39 (ARM Clang)
	Kernel: Depends on container host
	Compiler: clang 17.0.6

Fedora 40 (ARM)
	Kernel: Depends on container host
	Compiler: gcc 14.1.1

Fedora 40 (ARM Clang)
	Kernel: Depends on container host
	Compiler: clang 18.1.6

Ubuntu 20.04 (ARM)
	Kernel: Container Host Kernel
	Compiler: gcc 9.4.0

Ubuntu 22.04 (ARM)
	Kernel: Container Host Kernel
	Compiler: gcc 11.4.0

Ubuntu 24.04 (ARM)
	Kernel: 5.4.0-167-generic
	Compiler: gcc 13.2.0

CentOS Stream 9 (ARM)
	Kernel: Container Host Kernel
	Compiler: gcc 11.4.1

Debian 11 (Buster) (ARM)
	Kernel: Container Host Kernel
	Compiler: gcc 10.2.1

Debian 12 (arm)
	Kernel: Container Host Kernel
	Compiler: gcc 12.2.0

Ubuntu 20.04 ARM Clang Cross Compile
	Kernel: 5.4.0-72-generic
	Compiler: clang 10.0.0-4ubuntu1

To view detailed results, visit:
https://lab.dpdk.org/results/dashboard/patchsets/30407/

UNH-IOL DPDK Community Lab

To manage your email subscriptions, visit: 
https://lab.dpdk.org/results/dashboard/preferences/subscriptions/