From mboxrd@z Thu Jan  1 00:00:00 1970
Return-Path: <test-report-bounces@dpdk.org>
Received: from mails.dpdk.org (mails.dpdk.org [217.70.189.124])
	by inbox.dpdk.org (Postfix) with ESMTP id 4479C45556
	for <public@inbox.dpdk.org>; Thu,  4 Jul 2024 17:29:23 +0200 (CEST)
Received: from mails.dpdk.org (localhost [127.0.0.1])
	by mails.dpdk.org (Postfix) with ESMTP id 40E23410F1;
	Thu,  4 Jul 2024 17:29:23 +0200 (CEST)
Received: from mail-ua1-f99.google.com (mail-ua1-f99.google.com
 [209.85.222.99]) by mails.dpdk.org (Postfix) with ESMTP id 768974042F
 for <test-report@dpdk.org>; Thu,  4 Jul 2024 17:29:21 +0200 (CEST)
Received: by mail-ua1-f99.google.com with SMTP id
 a1e0cc1a2514c-8100bee5735so196872241.3
 for <test-report@dpdk.org>; Thu, 04 Jul 2024 08:29:21 -0700 (PDT)
DKIM-Signature: v=1; a=rsa-sha256; c=relaxed/relaxed;
 d=iol.unh.edu; s=unh-iol; t=1720106961; x=1720711761; darn=dpdk.org;
 h=references:in-reply-to:cc:to:from:subject:message-id:date:from:to
 :cc:subject:date:message-id:reply-to;
 bh=quus0u42m+voNd669wkbSs8U1O4d+spZE0x5gatR5eQ=;
 b=T98h5jvkoxKq1yJtyCouEMsDQEQAsDOgWpEf9mtlyTBi/WZglfAMpsvkRuv9ZQm0zi
 LN9oK3zAZKCZXxb6TzYLvrIP/oeKcKBbQPmzZgVkLa3Ph/0iqvVfSzXik9t4pzR3jDa9
 wGnEUSvM4llrKNmAn0Bs4oCEt6ZxQPsE49rRE=
X-Google-DKIM-Signature: v=1; a=rsa-sha256; c=relaxed/relaxed;
 d=1e100.net; s=20230601; t=1720106961; x=1720711761;
 h=references:in-reply-to:cc:to:from:subject:message-id:date
 :x-gm-message-state:from:to:cc:subject:date:message-id:reply-to;
 bh=quus0u42m+voNd669wkbSs8U1O4d+spZE0x5gatR5eQ=;
 b=K2QmAIJNa3/hpJW7K/vdU5SN1x5FQ7E0O+uC2LgQvs01fzxKWbOi4uSKAe/+FxsGNe
 cWugSUse3D1ZCKeMzJ1ws95rnfP+v82gsX2cJrpof4KdGWl/K5HAxQ9ji9SEhFQ6wywB
 Tfy0+ilcEQfWGkZ6sB/Mc3hV1nQQHCuFvJdjuAhckuy37qEgA/tissKRCljLcWpd5Pli
 jC9Lr1Z5qN7Mv4GO4ydDi0ub1/1JETEu8RCPg39oRMKN3SAjw3PYWrGXcbHKHd+QdedD
 EjB6BKG8IlUmujLUdAmEXgAcHhTftR09yJDsvvR9zgpXz+eMSa3/o9DYnQHaR/Qx94br
 /OfQ==
X-Gm-Message-State: AOJu0YzvdIJdirrBvPccQvQu5saPofE5h5G885YA0jgQknzWAgB8dRD/
 OPRX5fWj3nTdiEieicKo9OH8q5oYhVHgTrCN4zdPLKna0RpxkNDACshJg2W1EajqbcnAmuqGOE+
 4HxuvpWV19I+OMkLdcXoDJGC/GIXFQsogGc93CbxQ
X-Google-Smtp-Source: AGHT+IHVfwAiuChTkJlJHh0pmlD7JyOT/YCujTaRhhq95g1fQpZ4l/ES+sEzgmpGkbuv78/8scM4hviu6RjW
X-Received: by 2002:a05:6122:288b:b0:4eb:499a:2453 with SMTP id
 71dfb90a1353d-4f2f3f4c895mr2240435e0c.8.1720106960870; 
 Thu, 04 Jul 2024 08:29:20 -0700 (PDT)
Received: from postal.iol.unh.edu (postal.iol.unh.edu. [132.177.123.84])
 by smtp-relay.gmail.com with ESMTPS id
 71dfb90a1353d-4f291622e93sm508676e0c.0.2024.07.04.08.29.20
 (version=TLS1_2 cipher=ECDHE-ECDSA-AES128-GCM-SHA256 bits=128/128);
 Thu, 04 Jul 2024 08:29:20 -0700 (PDT)
X-Relaying-Domain: iol.unh.edu
Date: Thu, 04 Jul 2024 08:29:20 -0700 (PDT)
Message-ID: <6686bfd0.050a0220.67d4d.60deSMTPIN_ADDED_MISSING@mx.google.com>
Received: from [172.21.0.6] (unknown [172.18.0.240])
 by postal.iol.unh.edu (Postfix) with ESMTP id 4DB8B6050A6B;
 Thu,  4 Jul 2024 11:29:20 -0400 (EDT)
Subject: |PENDING| pw142097-142099 [PATCH] [v5,3/3] testpmd: replace EAL logt
From: dpdklab@iol.unh.edu
To: Test Report <test-report@dpdk.org>
Cc: dpdk-test-reports@iol.unh.edu
In-Reply-To: <20240703162929.78438-4-stephen@networkplumber.org>
References: <20240703162929.78438-4-stephen@networkplumber.org>
Content-Type: text/plain
X-BeenThere: test-report@dpdk.org
X-Mailman-Version: 2.1.29
Precedence: list
List-Id: automatic DPDK test reports <test-report.dpdk.org>
List-Unsubscribe: <https://mails.dpdk.org/options/test-report>,
 <mailto:test-report-request@dpdk.org?subject=unsubscribe>
List-Archive: <http://mails.dpdk.org/archives/test-report/>
List-Post: <mailto:test-report@dpdk.org>
List-Help: <mailto:test-report-request@dpdk.org?subject=help>
List-Subscribe: <https://mails.dpdk.org/listinfo/test-report>,
 <mailto:test-report-request@dpdk.org?subject=subscribe>
Errors-To: test-report-bounces@dpdk.org

Test-Label: iol-unit-amd64-testing
Test-Status: PENDING
http://dpdk.org/patch/142099

_Testing pending_

Submitter: Stephen Hemminger <stephen@networkplumber.org>
Date: Wednesday, July 03 2024 16:28:21 
DPDK git baseline: Repo:dpdk
  Branch: master
  CommitID:95bea772528d316c969a170e6206f3b05ac39413

142097-142099 --> testing pending

Test environment and result as below:

+-------------------+----------------+
|    Environment    | dpdk_unit_test |
+===================+================+
| CentOS Stream 8   | PASS           |
+-------------------+----------------+
| CentOS Stream 9   | PASS           |
+-------------------+----------------+
| Debian Bullseye   | PASS           |
+-------------------+----------------+
| Fedora 37         | PASS           |
+-------------------+----------------+
| Debian 12         | PASS           |
+-------------------+----------------+
| Fedora 38         | PASS           |
+-------------------+----------------+
| Fedora 38 (Clang) | PASS           |
+-------------------+----------------+
| Fedora 39         | PASS           |
+-------------------+----------------+
| Fedora 39 (Clang) | PASS           |
+-------------------+----------------+
| Fedora 40         | PASS           |
+-------------------+----------------+
| Fedora 40 (Clang) | PASS           |
+-------------------+----------------+
| openSUSE Leap 15  | PASS           |
+-------------------+----------------+
| RHEL8             | PASS           |
+-------------------+----------------+
| RHEL9             | PEND           |
+-------------------+----------------+
| Ubuntu 20.04      | PEND           |
+-------------------+----------------+
| Ubuntu 22.04      | PASS           |
+-------------------+----------------+
| Ubuntu 24.04      | PEND           |
+-------------------+----------------+


CentOS Stream 8
	Kernel: 5.4.0-167-generic
	Compiler: gcc 8.5.0 20210514

CentOS Stream 9
	Kernel: 5.4.0-167-generic
	Compiler: gcc 11.4.1 20230605

Debian Bullseye
	Kernel: 5.4.0-167-generic
	Compiler: gcc 10.2.1-6

Fedora 37
	Kernel: Depends on container host system
	Compiler: gcc 12.3.1

Debian 12
	Kernel: Container Host Kernel
	Compiler: gcc 12.2.0

Fedora 38
	Kernel: Depends on container host
	Compiler: gcc 13.2.1

Fedora 38 (Clang)
	Kernel: Depends on container host
	Compiler: clang 16.0.6

Fedora 39
	Kernel: Depends on container host
	Compiler: gcc 13.2.1

Fedora 39 (Clang)
	Kernel: Depends on container host
	Compiler: clang 17.0.6

Fedora 40
	Kernel: Depends on container host
	Compiler: gcc 14.1.1

Fedora 40 (Clang)
	Kernel: Depends on container host
	Compiler: clang 18.1.6

openSUSE Leap 15
	Kernel: 5.4.0-167-generic
	Compiler: gcc 7.5.0

RHEL8
	Kernel: 5.4.0-167-generic
	Compiler: gcc 8.5.0 20210514 (Red Hat 8.5.0-20)

RHEL9
	Kernel: Depends on container host
	Compiler: gcc 11.4.1

Ubuntu 20.04
	Kernel: 5.4.0-167-generic
	Compiler: gcc 9.4.0-1ubuntu1~20.04.1

Ubuntu 22.04
	Kernel: 5.4.0-167-generic
	Compiler: gcc 11.4.0

Ubuntu 24.04
	Kernel: 5.4.0-167-generic
	Compiler: gcc 13.2.0

To view detailed results, visit:
https://lab.dpdk.org/results/dashboard/patchsets/30407/

UNH-IOL DPDK Community Lab

To manage your email subscriptions, visit: 
https://lab.dpdk.org/results/dashboard/preferences/subscriptions/