From mboxrd@z Thu Jan  1 00:00:00 1970
Return-Path: <test-report-bounces@dpdk.org>
Received: from mails.dpdk.org (mails.dpdk.org [217.70.189.124])
	by inbox.dpdk.org (Postfix) with ESMTP id 98AFF4558E
	for <public@inbox.dpdk.org>; Fri,  5 Jul 2024 05:51:13 +0200 (CEST)
Received: from mails.dpdk.org (localhost [127.0.0.1])
	by mails.dpdk.org (Postfix) with ESMTP id 71A5840EE2;
	Fri,  5 Jul 2024 05:51:13 +0200 (CEST)
Received: from mail-ot1-f98.google.com (mail-ot1-f98.google.com
 [209.85.210.98]) by mails.dpdk.org (Postfix) with ESMTP id 7D5FE4029C
 for <test-report@dpdk.org>; Fri,  5 Jul 2024 05:51:11 +0200 (CEST)
Received: by mail-ot1-f98.google.com with SMTP id
 46e09a7af769-70224a923fcso745282a34.1
 for <test-report@dpdk.org>; Thu, 04 Jul 2024 20:51:11 -0700 (PDT)
DKIM-Signature: v=1; a=rsa-sha256; c=relaxed/relaxed;
 d=iol.unh.edu; s=unh-iol; t=1720151470; x=1720756270; darn=dpdk.org;
 h=references:in-reply-to:cc:to:from:subject:message-id:date:from:to
 :cc:subject:date:message-id:reply-to;
 bh=O1XtNE25VntSI/UYG6JjF1J0S9x9iTj4MPtHTeXxioM=;
 b=CBDl/bgwGDPeGRwNJ/vPUtIZ9KFTFMeSM3D68VDiRw9WfQWnQF0gOLTihOcjZm8T4N
 MkX1/5WrLv0iyqAnUWYLmTtVSETtlnGWzv23Pg0iGFe91M4orNAdYM0o6CB9qjr1YBcT
 kicOmV9zigYNKVTBwL0iLeICBBq5R/WJ9It3E=
X-Google-DKIM-Signature: v=1; a=rsa-sha256; c=relaxed/relaxed;
 d=1e100.net; s=20230601; t=1720151470; x=1720756270;
 h=references:in-reply-to:cc:to:from:subject:message-id:date
 :x-gm-message-state:from:to:cc:subject:date:message-id:reply-to;
 bh=O1XtNE25VntSI/UYG6JjF1J0S9x9iTj4MPtHTeXxioM=;
 b=AtU5mrr+GGUEmucB1gBvD0WZvAwSqpSqMxtp/5+p+i4NOPK/J9CDXc/1ezZjWJyqyN
 6n+vsnkZNZeQK1uLb7ejGEHs0dw4Kq1I5AZXNGqfZ/wyMTt6tKu1w4NhWe+bicmIxzzC
 8yWLJWxjDLJLm3BY/ZVx5RVkjwY06MYd9Gy6ei2H4kwaXfC00a+FRHO7L91jKsqUoKrr
 gMzOt3F3V8cQn7KjfCHPS6enyKg5uypjBLYeVUvaaXBQqFTxEI39JVgMcT7ww2CbOd27
 sgZcJftMr2ux8VqeJcDwl8Lyqxe+jpC6LPQiNjtmYlIysvXNFvckRYmTRQ/HDiElAJpt
 TOFw==
X-Gm-Message-State: AOJu0YxqxRJL64L0af8GxgO8e36PNpKtlzd2UVrM119YPrkjAjw7IA8E
 pMdTmKinioS/sA4DXktt+qUS/8snmMG+ZhVAHpNfcb98i5l13nhaOVPg7l3d0mOJUQvZgr9OXbo
 pa+V4RqMs3UKBl3QDnj3zj93Qg6q4PE2k04zPMsf5C740ZyH5STxo257O
X-Google-Smtp-Source: AGHT+IGest9Y2sgPIhwFSyWTjgTUFGl6l6+TtojmjmJ9HuC4yFXtt/B5xEbp3nbTC7c6bNBC3T6eMZabCzWt
X-Received: by 2002:a9d:66c3:0:b0:701:f2b5:3313 with SMTP id
 46e09a7af769-7034a80a8a7mr3593821a34.32.1720151470535; 
 Thu, 04 Jul 2024 20:51:10 -0700 (PDT)
Received: from postal.iol.unh.edu (postal.iol.unh.edu.
 [2606:4100:3880:1234::84]) by smtp-relay.gmail.com with ESMTPS id
 d2e1a72fcca58-70801c0c68asm539286b3a.13.2024.07.04.20.51.10
 (version=TLS1_2 cipher=ECDHE-ECDSA-AES128-GCM-SHA256 bits=128/128);
 Thu, 04 Jul 2024 20:51:10 -0700 (PDT)
X-Relaying-Domain: iol.unh.edu
Date: Thu, 04 Jul 2024 20:51:10 -0700 (PDT)
Message-ID: <66876dae.050a0220.6ea5.80caSMTPIN_ADDED_MISSING@mx.google.com>
Received: from [172.17.0.4] (unknown [172.18.0.217])
 by postal.iol.unh.edu (Postfix) with ESMTP id 712F1605C351;
 Thu,  4 Jul 2024 23:51:09 -0400 (EDT)
Subject: |PENDING| pw142124 [PATCH] [v2] net/mlx5: add metadata split for com
From: dpdklab@iol.unh.edu
To: Test Report <test-report@dpdk.org>
Cc: dpdk-test-reports@iol.unh.edu
In-Reply-To: <20240704102603.3355-1-bingz@nvidia.com>
References: <20240704102603.3355-1-bingz@nvidia.com>
Content-Type: text/plain
X-BeenThere: test-report@dpdk.org
X-Mailman-Version: 2.1.29
Precedence: list
List-Id: automatic DPDK test reports <test-report.dpdk.org>
List-Unsubscribe: <https://mails.dpdk.org/options/test-report>,
 <mailto:test-report-request@dpdk.org?subject=unsubscribe>
List-Archive: <http://mails.dpdk.org/archives/test-report/>
List-Post: <mailto:test-report@dpdk.org>
List-Help: <mailto:test-report-request@dpdk.org?subject=help>
List-Subscribe: <https://mails.dpdk.org/listinfo/test-report>,
 <mailto:test-report-request@dpdk.org?subject=subscribe>
Errors-To: test-report-bounces@dpdk.org

Test-Label: iol-unit-amd64-testing
Test-Status: PENDING
http://dpdk.org/patch/142124

_Testing pending_

Submitter: Bing Zhao <bingz@nvidia.com>
Date: Thursday, July 04 2024 10:26:03 
DPDK git baseline: Repo:dpdk
  Branch: master
  CommitID:b31811d96c1d0fb36df78dc34ef8325bce447bfc

142124 --> testing pending

Test environment and result as below:

+-------------------+----------------+
|    Environment    | dpdk_unit_test |
+===================+================+
| CentOS Stream 8   | PASS           |
+-------------------+----------------+
| Debian Bullseye   | PEND           |
+-------------------+----------------+
| Fedora 37         | PEND           |
+-------------------+----------------+
| Debian 12         | PASS           |
+-------------------+----------------+
| Fedora 38         | PEND           |
+-------------------+----------------+
| Fedora 39 (Clang) | PEND           |
+-------------------+----------------+
| Fedora 40 (Clang) | PEND           |
+-------------------+----------------+
| CentOS Stream 9   | PASS           |
+-------------------+----------------+
| Fedora 40         | PEND           |
+-------------------+----------------+
| Fedora 38 (Clang) | PEND           |
+-------------------+----------------+
| Fedora 39         | PEND           |
+-------------------+----------------+
| openSUSE Leap 15  | PEND           |
+-------------------+----------------+
| RHEL8             | PEND           |
+-------------------+----------------+
| RHEL9             | PEND           |
+-------------------+----------------+
| Ubuntu 20.04      | PEND           |
+-------------------+----------------+
| Ubuntu 22.04      | PEND           |
+-------------------+----------------+
| Ubuntu 24.04      | PEND           |
+-------------------+----------------+


CentOS Stream 8
	Kernel: 5.4.0-167-generic
	Compiler: gcc 8.5.0 20210514

Debian Bullseye
	Kernel: 5.4.0-167-generic
	Compiler: gcc 10.2.1-6

Fedora 37
	Kernel: Depends on container host system
	Compiler: gcc 12.3.1

Debian 12
	Kernel: Container Host Kernel
	Compiler: gcc 12.2.0

Fedora 38
	Kernel: Depends on container host
	Compiler: gcc 13.2.1

Fedora 39 (Clang)
	Kernel: Depends on container host
	Compiler: clang 17.0.6

Fedora 40 (Clang)
	Kernel: Depends on container host
	Compiler: clang 18.1.6

CentOS Stream 9
	Kernel: 5.4.0-167-generic
	Compiler: gcc 11.4.1 20230605

Fedora 40
	Kernel: Depends on container host
	Compiler: gcc 14.1.1

Fedora 38 (Clang)
	Kernel: Depends on container host
	Compiler: clang 16.0.6

Fedora 39
	Kernel: Depends on container host
	Compiler: gcc 13.2.1

openSUSE Leap 15
	Kernel: 5.4.0-167-generic
	Compiler: gcc 7.5.0

RHEL8
	Kernel: 5.4.0-167-generic
	Compiler: gcc 8.5.0 20210514 (Red Hat 8.5.0-20)

RHEL9
	Kernel: Depends on container host
	Compiler: gcc 11.4.1

Ubuntu 20.04
	Kernel: 5.4.0-167-generic
	Compiler: gcc 9.4.0-1ubuntu1~20.04.1

Ubuntu 22.04
	Kernel: 5.4.0-167-generic
	Compiler: gcc 11.4.0

Ubuntu 24.04
	Kernel: 5.4.0-167-generic
	Compiler: gcc 13.2.0

To view detailed results, visit:
https://lab.dpdk.org/results/dashboard/patchsets/30420/

UNH-IOL DPDK Community Lab

To manage your email subscriptions, visit: 
https://lab.dpdk.org/results/dashboard/preferences/subscriptions/