From mboxrd@z Thu Jan  1 00:00:00 1970
Return-Path: <test-report-bounces@dpdk.org>
Received: from mails.dpdk.org (mails.dpdk.org [217.70.189.124])
	by inbox.dpdk.org (Postfix) with ESMTP id EF18845598
	for <public@inbox.dpdk.org>; Fri,  5 Jul 2024 13:36:08 +0200 (CEST)
Received: from mails.dpdk.org (localhost [127.0.0.1])
	by mails.dpdk.org (Postfix) with ESMTP id EBE5340FDE;
	Fri,  5 Jul 2024 13:36:08 +0200 (CEST)
Received: from mail-il1-f226.google.com (mail-il1-f226.google.com
 [209.85.166.226])
 by mails.dpdk.org (Postfix) with ESMTP id A0407402BE
 for <test-report@dpdk.org>; Fri,  5 Jul 2024 13:36:06 +0200 (CEST)
Received: by mail-il1-f226.google.com with SMTP id
 e9e14a558f8ab-371c97913cdso5511245ab.3
 for <test-report@dpdk.org>; Fri, 05 Jul 2024 04:36:06 -0700 (PDT)
DKIM-Signature: v=1; a=rsa-sha256; c=relaxed/relaxed;
 d=iol.unh.edu; s=unh-iol; t=1720179366; x=1720784166; darn=dpdk.org;
 h=references:in-reply-to:cc:to:from:subject:message-id:date:from:to
 :cc:subject:date:message-id:reply-to;
 bh=CBReetuR0e4HUruCCtrfN7jJczAC2RdQyQyI/P5bAYg=;
 b=YuDrQzyL6ys3AWrRsduWL6mKETx9pORU2fDnaR8Ula3YNr/PjtmvI7jbTlNe7ELeB2
 kGda7S2D25Fm9uUDrZDIOelXQzurI3ryJD2BaChO5e6BeEUZBGFoHDLBs8LYAUOTsDrf
 O2a3m56bDJneH7IMT1vfJndDM5TZWskZswYA4=
X-Google-DKIM-Signature: v=1; a=rsa-sha256; c=relaxed/relaxed;
 d=1e100.net; s=20230601; t=1720179366; x=1720784166;
 h=references:in-reply-to:cc:to:from:subject:message-id:date
 :x-gm-message-state:from:to:cc:subject:date:message-id:reply-to;
 bh=CBReetuR0e4HUruCCtrfN7jJczAC2RdQyQyI/P5bAYg=;
 b=WOn2yIj0kLU8IBZoJwENfM7JCp0B4npF8k29pyFzsu3WYrKSyycLJC2+2I1khybZPs
 jTUv5CUN5KptH2cPVyHnRvseCjmqnjxM3Xrsw0CobharBjAaUtiU+beSM8v1FyQsFjGn
 RBrmca8Ijun/L8+YCUFQYZTAb5gOhCxEwAp2lzAYJCDoqNCH4lMtJF9gY4lnhH8hTukQ
 Bp6L5EwavxloWFmX8WFkldsPW2YhwqFnKKmoeKFOBjT48aBTakUuyBy2d5B+TzF6EbLn
 ebBqmwJuzsL9YFeckHYkc22Q2gzCkrKYXqZ6g/1hfQzAeKmG+XkvpRHIScWzpBcVrhX6
 U7Qg==
X-Gm-Message-State: AOJu0YyxHJIJQVXxGI8UwgdQAlDStwpaoUmSWbsEC9VpI2ZjvIV8jGww
 +Ggg0TNjDB7ZfBBlDFfAr+M74x13yvQgI8e4YEenFDslcpupxmWbd1afYlCmfywfYFUc82Szvsl
 x4LxvB1iRzqoAwz7EzuPJaSQ2eiQlu1bS+oudbYuV
X-Google-Smtp-Source: AGHT+IEbfPfP6iWZaeTVwzWwvtjt6KZkp9DC5PQZl3XnKfbU6ZHdxOiTifjQZtFNDN0xsQvh31RZHT6cnb9Z
X-Received: by 2002:a05:6e02:1b02:b0:378:5d14:f426 with SMTP id
 e9e14a558f8ab-38398b02872mr53314155ab.1.1720179366031; 
 Fri, 05 Jul 2024 04:36:06 -0700 (PDT)
Received: from postal.iol.unh.edu (postal.iol.unh.edu. [132.177.123.84])
 by smtp-relay.gmail.com with ESMTPS id
 e9e14a558f8ab-37ad2f406b2sm6905015ab.45.2024.07.05.04.36.05
 (version=TLS1_2 cipher=ECDHE-ECDSA-AES128-GCM-SHA256 bits=128/128);
 Fri, 05 Jul 2024 04:36:06 -0700 (PDT)
X-Relaying-Domain: iol.unh.edu
Date: Fri, 05 Jul 2024 04:36:06 -0700 (PDT)
Message-ID: <6687daa6.920a0220.5229b.3d1eSMTPIN_ADDED_MISSING@mx.google.com>
Received: from [172.21.0.8] (unknown [172.18.0.240])
 by postal.iol.unh.edu (Postfix) with ESMTP id 6E18160526E2;
 Fri,  5 Jul 2024 07:36:05 -0400 (EDT)
Subject: |PENDING| pw142120 [PATCH] [v1] net/cpfl: add checks for received ct
From: dpdklab@iol.unh.edu
To: Test Report <test-report@dpdk.org>
Cc: dpdk-test-reports@iol.unh.edu
In-Reply-To: <20240704051835.2630052-1-soumyadeep.hore@intel.com>
References: <20240704051835.2630052-1-soumyadeep.hore@intel.com>
Content-Type: text/plain
X-BeenThere: test-report@dpdk.org
X-Mailman-Version: 2.1.29
Precedence: list
List-Id: automatic DPDK test reports <test-report.dpdk.org>
List-Unsubscribe: <https://mails.dpdk.org/options/test-report>,
 <mailto:test-report-request@dpdk.org?subject=unsubscribe>
List-Archive: <http://mails.dpdk.org/archives/test-report/>
List-Post: <mailto:test-report@dpdk.org>
List-Help: <mailto:test-report-request@dpdk.org?subject=help>
List-Subscribe: <https://mails.dpdk.org/listinfo/test-report>,
 <mailto:test-report-request@dpdk.org?subject=subscribe>
Errors-To: test-report-bounces@dpdk.org

Test-Label: iol-compile-arm64-testing
Test-Status: PENDING
http://dpdk.org/patch/142120

_Testing pending_

Submitter: Soumyadeep Hore <soumyadeep.hore@intel.com>
Date: Thursday, July 04 2024 05:18:35 
DPDK git baseline: Repo:dpdk
  Branch: master
  CommitID:eb3ac0962b542552649d565d31997c06f7b63105

142120 --> testing pending

Test environment and result as below:

+----------------------------------------+--------------------+
|              Environment               | dpdk_meson_compile |
+========================================+====================+
| RHEL9 (ARM)                            | PASS               |
+----------------------------------------+--------------------+
| Ubuntu 20.04 ARM GCC Cross Compile     | PASS               |
+----------------------------------------+--------------------+
| Ubuntu 20.04 ARM SVE                   | PASS               |
+----------------------------------------+--------------------+
| Debian 12 with MUSDK                   | PASS               |
+----------------------------------------+--------------------+
| Fedora 37 (ARM)                        | PASS               |
+----------------------------------------+--------------------+
| Fedora 38 (ARM)                        | PASS               |
+----------------------------------------+--------------------+
| Fedora 38 (ARM Clang)                  | PEND               |
+----------------------------------------+--------------------+
| Fedora 39 (ARM)                        | PEND               |
+----------------------------------------+--------------------+
| Fedora 39 (ARM Clang)                  | PEND               |
+----------------------------------------+--------------------+
| Fedora 40 (ARM)                        | PEND               |
+----------------------------------------+--------------------+
| Fedora 40 (ARM Clang)                  | PEND               |
+----------------------------------------+--------------------+
| Ubuntu 20.04 (ARM)                     | PEND               |
+----------------------------------------+--------------------+
| Ubuntu 22.04 (ARM)                     | PEND               |
+----------------------------------------+--------------------+
| Ubuntu 24.04 (ARM)                     | PEND               |
+----------------------------------------+--------------------+
| CentOS Stream 9 (ARM)                  | PEND               |
+----------------------------------------+--------------------+
| Debian 11 (Buster) (ARM)               | PEND               |
+----------------------------------------+--------------------+
| Debian 12 (arm)                        | PEND               |
+----------------------------------------+--------------------+
| Ubuntu 20.04 ARM Clang Cross Compile   | PASS               |
+----------------------------------------+--------------------+
| Ubuntu 20.04 aarch32 GCC Cross Compile | PASS               |
+----------------------------------------+--------------------+


RHEL9 (ARM)
	Kernel: Depends on container host
	Compiler: gcc 11.4.1

Ubuntu 20.04 ARM GCC Cross Compile
	Kernel: 5.4.0-167-generic
	Compiler: aarch64-linux-gnu-gcc (Ubuntu 9.4.0-1ubuntu1~20.04.2) 9.4.0

Ubuntu 20.04 ARM SVE
	Kernel: 5.4.0-167-generic
	Compiler: gcc (Ubuntu 10.5.0-1ubuntu1~20.04) 10.5.0

Debian 12 with MUSDK
	Kernel: Container Host Kernel
	Compiler: gcc 12.2.0

Fedora 37 (ARM)
	Kernel: Depends on container host
	Compiler: gcc 12.3.1

Fedora 38 (ARM)
	Kernel: Depends on container host
	Compiler: gcc 13.2.1

Fedora 38 (ARM Clang)
	Kernel: Depends on container host
	Compiler: clang 16.0.6

Fedora 39 (ARM)
	Kernel: Depends on container host
	Compiler: gcc 13.2.1

Fedora 39 (ARM Clang)
	Kernel: Depends on container host
	Compiler: clang 17.0.6

Fedora 40 (ARM)
	Kernel: Depends on container host
	Compiler: gcc 14.1.1

Fedora 40 (ARM Clang)
	Kernel: Depends on container host
	Compiler: clang 18.1.6

Ubuntu 20.04 (ARM)
	Kernel: Container Host Kernel
	Compiler: gcc 9.4.0

Ubuntu 22.04 (ARM)
	Kernel: Container Host Kernel
	Compiler: gcc 11.4.0

Ubuntu 24.04 (ARM)
	Kernel: 5.4.0-167-generic
	Compiler: gcc 13.2.0

CentOS Stream 9 (ARM)
	Kernel: Container Host Kernel
	Compiler: gcc 11.4.1

Debian 11 (Buster) (ARM)
	Kernel: Container Host Kernel
	Compiler: gcc 10.2.1

Debian 12 (arm)
	Kernel: Container Host Kernel
	Compiler: gcc 12.2.0

Ubuntu 20.04 ARM Clang Cross Compile
	Kernel: 5.4.0-72-generic
	Compiler: clang 10.0.0-4ubuntu1

Ubuntu 20.04 aarch32 GCC Cross Compile
	Kernel: 5.4.0-167-generic
	Compiler: gcc 9.4.0

To view detailed results, visit:
https://lab.dpdk.org/results/dashboard/patchsets/30416/

UNH-IOL DPDK Community Lab

To manage your email subscriptions, visit: 
https://lab.dpdk.org/results/dashboard/preferences/subscriptions/