From mboxrd@z Thu Jan  1 00:00:00 1970
Return-Path: <test-report-bounces@dpdk.org>
Received: from mails.dpdk.org (mails.dpdk.org [217.70.189.124])
	by inbox.dpdk.org (Postfix) with ESMTP id 4CCD64559E
	for <public@inbox.dpdk.org>; Sat,  6 Jul 2024 00:46:22 +0200 (CEST)
Received: from mails.dpdk.org (localhost [127.0.0.1])
	by mails.dpdk.org (Postfix) with ESMTP id 45FA940270;
	Sat,  6 Jul 2024 00:46:22 +0200 (CEST)
Received: from mail-qv1-f98.google.com (mail-qv1-f98.google.com
 [209.85.219.98]) by mails.dpdk.org (Postfix) with ESMTP id DD98540268
 for <test-report@dpdk.org>; Sat,  6 Jul 2024 00:46:20 +0200 (CEST)
Received: by mail-qv1-f98.google.com with SMTP id
 6a1803df08f44-6b5db7936b3so10558916d6.1
 for <test-report@dpdk.org>; Fri, 05 Jul 2024 15:46:20 -0700 (PDT)
DKIM-Signature: v=1; a=rsa-sha256; c=relaxed/relaxed;
 d=iol.unh.edu; s=unh-iol; t=1720219580; x=1720824380; darn=dpdk.org;
 h=references:in-reply-to:cc:to:from:subject:message-id:date:from:to
 :cc:subject:date:message-id:reply-to;
 bh=jtatxbFpP2BtBE5azuIK0PB93Z2sXMdDWMLhnZDgTeY=;
 b=Od43DDHzEPIqrs99ZhLlAuQmGI311W8SVWIlsIpZMhmNeM6b6tKKbAILPqiZnRb3Fh
 53K4b+BUEJeW0BWAIfh1MvqeSP6LMp32D/vbR65ipvIz4YUruMiH8A2JRFUsFLAiarjO
 I4oGeJWaLXMNVSRF2JRz1+u0AAhP/At9JzrN8=
X-Google-DKIM-Signature: v=1; a=rsa-sha256; c=relaxed/relaxed;
 d=1e100.net; s=20230601; t=1720219580; x=1720824380;
 h=references:in-reply-to:cc:to:from:subject:message-id:date
 :x-gm-message-state:from:to:cc:subject:date:message-id:reply-to;
 bh=jtatxbFpP2BtBE5azuIK0PB93Z2sXMdDWMLhnZDgTeY=;
 b=GxM9r9wSaBzC40q7F5blz3v8TCW1o+OAKJVVlZAMNl00WkYutjSioAUap6ADGppvkt
 2IUQCLvjiWUJ0b6jAN/G6TbV3TaI7ws+H/SVzQNuoTvr6HLubeLSIvR0V7m7aBcg47L/
 ipl2u2HAS8MljIMlDrYLmAT17Whe8bmhswlk12zpOOZx52CPeNRJopyJX/uh5JFUkB99
 5tUH153sjrP3BmXnjOyyySLgu9IOZ18JlHmpgWV63ZkHSVCmiNPL/r5adGNqVDOAN1jG
 i6NDl+RxOb7XfClhNph7ChGUKzpDcl4m84emIXoITild0Z9nEvVmaetankHNrOittqp6
 CBgw==
X-Gm-Message-State: AOJu0Yw0Y47HWUANmDTyP0Uj4juGdrgrZsFrQn+7DHpGR+Wa5ETQba6l
 /U87WtMK4+ssxHu6rwcMWwEZsiGOkCVwNosgFlTiYaQqe1TcHqRHA5zUpYNpgKQUp3VXrg+rSrK
 JJWEycT6l3Ix1rtpTzRuhSh5ujOctxQkj0aJiYp26
X-Google-Smtp-Source: AGHT+IGibKDbZDm++z6ewt+n9lKuB2u68z+4VGoLoXBDwPZafjQX7NJ0P03fg1AvQubkXhsGYvkjI3/Gdjvb
X-Received: by 2002:a05:6214:5b11:b0:6b5:4ca8:2798 with SMTP id
 6a1803df08f44-6b5ed00d25cmr58134326d6.27.1720219580331; 
 Fri, 05 Jul 2024 15:46:20 -0700 (PDT)
Received: from postal.iol.unh.edu (postal.iol.unh.edu. [132.177.123.84])
 by smtp-relay.gmail.com with ESMTPS id
 6a1803df08f44-6b59e366cbcsm8609896d6.14.2024.07.05.15.46.20
 (version=TLS1_2 cipher=ECDHE-ECDSA-AES128-GCM-SHA256 bits=128/128);
 Fri, 05 Jul 2024 15:46:20 -0700 (PDT)
X-Relaying-Domain: iol.unh.edu
Date: Fri, 05 Jul 2024 15:46:20 -0700 (PDT)
Message-ID: <668877bc.d40a0220.3dd2e.e52eSMTPIN_ADDED_MISSING@mx.google.com>
Received: from [172.21.0.6] (unknown [172.18.0.240])
 by postal.iol.unh.edu (Postfix) with ESMTP id 02432605C351;
 Fri,  5 Jul 2024 18:46:20 -0400 (EDT)
Subject: |PENDING| pw142124 [PATCH] [v2] net/mlx5: add metadata split for com
From: dpdklab@iol.unh.edu
To: Test Report <test-report@dpdk.org>
Cc: dpdk-test-reports@iol.unh.edu
In-Reply-To: <20240704102603.3355-1-bingz@nvidia.com>
References: <20240704102603.3355-1-bingz@nvidia.com>
Content-Type: text/plain
X-BeenThere: test-report@dpdk.org
X-Mailman-Version: 2.1.29
Precedence: list
List-Id: automatic DPDK test reports <test-report.dpdk.org>
List-Unsubscribe: <https://mails.dpdk.org/options/test-report>,
 <mailto:test-report-request@dpdk.org?subject=unsubscribe>
List-Archive: <http://mails.dpdk.org/archives/test-report/>
List-Post: <mailto:test-report@dpdk.org>
List-Help: <mailto:test-report-request@dpdk.org?subject=help>
List-Subscribe: <https://mails.dpdk.org/listinfo/test-report>,
 <mailto:test-report-request@dpdk.org?subject=subscribe>
Errors-To: test-report-bounces@dpdk.org

Test-Label: iol-unit-arm64-testing
Test-Status: PENDING
http://dpdk.org/patch/142124

_Testing pending_

Submitter: Bing Zhao <bingz@nvidia.com>
Date: Thursday, July 04 2024 10:26:03 
DPDK git baseline: Repo:dpdk
  Branch: master
  CommitID:b31811d96c1d0fb36df78dc34ef8325bce447bfc

142124 --> testing pending

Test environment and result as below:

+-----------------------------+--------------+----------------+------------------------------+---------------------------+
|         Environment         | lpm_autotest | dpdk_unit_test | cryptodev_sw_snow3g_autotest | cryptodev_sw_zuc_autotest |
+=============================+==============+================+==============================+===========================+
| Ubuntu 20.04 ARM SVE        | PASS         | SKIPPED        | SKIPPED                      | SKIPPED                   |
+-----------------------------+--------------+----------------+------------------------------+---------------------------+
| CentOS Stream 9 (ARM)       | SKIPPED      | PASS           | SKIPPED                      | SKIPPED                   |
+-----------------------------+--------------+----------------+------------------------------+---------------------------+
| Debian 11 (Buster) (ARM)    | SKIPPED      | PASS           | SKIPPED                      | SKIPPED                   |
+-----------------------------+--------------+----------------+------------------------------+---------------------------+
| Fedora 37 (ARM)             | SKIPPED      | PASS           | SKIPPED                      | SKIPPED                   |
+-----------------------------+--------------+----------------+------------------------------+---------------------------+
| Debian 12 (arm)             | SKIPPED      | PASS           | PASS                         | PASS                      |
+-----------------------------+--------------+----------------+------------------------------+---------------------------+
| Fedora 38 (ARM)             | SKIPPED      | PEND           | SKIPPED                      | SKIPPED                   |
+-----------------------------+--------------+----------------+------------------------------+---------------------------+
| Fedora 39 (ARM Clang)       | SKIPPED      | PEND           | SKIPPED                      | SKIPPED                   |
+-----------------------------+--------------+----------------+------------------------------+---------------------------+
| Fedora 39 (ARM)             | SKIPPED      | PEND           | SKIPPED                      | SKIPPED                   |
+-----------------------------+--------------+----------------+------------------------------+---------------------------+
| Fedora 40 (ARM)             | SKIPPED      | PEND           | SKIPPED                      | SKIPPED                   |
+-----------------------------+--------------+----------------+------------------------------+---------------------------+
| Fedora 40 (ARM Clang)       | SKIPPED      | PEND           | SKIPPED                      | SKIPPED                   |
+-----------------------------+--------------+----------------+------------------------------+---------------------------+
| Fedora 38 (ARM Clang)       | SKIPPED      | PEND           | SKIPPED                      | SKIPPED                   |
+-----------------------------+--------------+----------------+------------------------------+---------------------------+
| RHEL9 (ARM)                 | SKIPPED      | PEND           | SKIPPED                      | SKIPPED                   |
+-----------------------------+--------------+----------------+------------------------------+---------------------------+
| 32-bit Ubuntu 20.04.4 (ARM) | SKIPPED      | PASS           | SKIPPED                      | SKIPPED                   |
+-----------------------------+--------------+----------------+------------------------------+---------------------------+
| Ubuntu 20.04 (ARM)          | SKIPPED      | PEND           | SKIPPED                      | SKIPPED                   |
+-----------------------------+--------------+----------------+------------------------------+---------------------------+
| Ubuntu 22.04 (ARM)          | SKIPPED      | PEND           | SKIPPED                      | SKIPPED                   |
+-----------------------------+--------------+----------------+------------------------------+---------------------------+
| Ubuntu 24.04 (ARM)          | SKIPPED      | PEND           | SKIPPED                      | SKIPPED                   |
+-----------------------------+--------------+----------------+------------------------------+---------------------------+


Ubuntu 20.04 ARM SVE
	Kernel: 5.4.0-167-generic
	Compiler: gcc (Ubuntu 10.5.0-1ubuntu1~20.04) 10.5.0

CentOS Stream 9 (ARM)
	Kernel: Container Host Kernel
	Compiler: gcc 11.4.1

Debian 11 (Buster) (ARM)
	Kernel: Container Host Kernel
	Compiler: gcc 10.2.1

Fedora 37 (ARM)
	Kernel: Depends on container host
	Compiler: gcc 12.3.1

Debian 12 (arm)
	Kernel: Container Host Kernel
	Compiler: gcc 12.2.0

Fedora 38 (ARM)
	Kernel: Depends on container host
	Compiler: gcc 13.2.1

Fedora 39 (ARM Clang)
	Kernel: Depends on container host
	Compiler: clang 17.0.6

Fedora 39 (ARM)
	Kernel: Depends on container host
	Compiler: gcc 13.2.1

Fedora 40 (ARM)
	Kernel: Depends on container host
	Compiler: gcc 14.1.1

Fedora 40 (ARM Clang)
	Kernel: Depends on container host
	Compiler: clang 18.1.6

Fedora 38 (ARM Clang)
	Kernel: Depends on container host
	Compiler: clang 16.0.6

RHEL9 (ARM)
	Kernel: Depends on container host
	Compiler: gcc 11.4.1

32-bit Ubuntu 20.04.4 (ARM)
	Kernel: 5.4.0-155-generic aarch64
	Compiler: gcc 9.4

Ubuntu 20.04 (ARM)
	Kernel: Container Host Kernel
	Compiler: gcc 9.4.0

Ubuntu 22.04 (ARM)
	Kernel: Container Host Kernel
	Compiler: gcc 11.4.0

Ubuntu 24.04 (ARM)
	Kernel: 5.4.0-167-generic
	Compiler: gcc 13.2.0

To view detailed results, visit:
https://lab.dpdk.org/results/dashboard/patchsets/30420/

UNH-IOL DPDK Community Lab

To manage your email subscriptions, visit: 
https://lab.dpdk.org/results/dashboard/preferences/subscriptions/