From mboxrd@z Thu Jan  1 00:00:00 1970
Return-Path: <test-report-bounces@dpdk.org>
Received: from mails.dpdk.org (mails.dpdk.org [217.70.189.124])
	by inbox.dpdk.org (Postfix) with ESMTP id AD2484559E
	for <public@inbox.dpdk.org>; Sat,  6 Jul 2024 05:29:10 +0200 (CEST)
Received: from mails.dpdk.org (localhost [127.0.0.1])
	by mails.dpdk.org (Postfix) with ESMTP id A9B3240270;
	Sat,  6 Jul 2024 05:29:10 +0200 (CEST)
Received: from mail-yw1-f228.google.com (mail-yw1-f228.google.com
 [209.85.128.228])
 by mails.dpdk.org (Postfix) with ESMTP id DDC4C40268
 for <test-report@dpdk.org>; Sat,  6 Jul 2024 05:29:09 +0200 (CEST)
Received: by mail-yw1-f228.google.com with SMTP id
 00721157ae682-64b417e1511so21124767b3.3
 for <test-report@dpdk.org>; Fri, 05 Jul 2024 20:29:09 -0700 (PDT)
DKIM-Signature: v=1; a=rsa-sha256; c=relaxed/relaxed;
 d=iol.unh.edu; s=unh-iol; t=1720236549; x=1720841349; darn=dpdk.org;
 h=references:in-reply-to:cc:to:from:subject:message-id:date:from:to
 :cc:subject:date:message-id:reply-to;
 bh=C3/S9XWFj6jrlES/V8CqPRIlFQo8CgYRD6+1x8v5xPs=;
 b=GZD7aDG3/qspm0KW0JWj45Hbfa/9VSIVxfdVXcR7az/XAG9potvAolBbRTqbEIFHgA
 fsOKmCsJmNozAqSXb61q/4gIHjosbhA/4fGtcfeGjcZfHlqWl8nOY1Dx8BmGr3Mv/HT0
 m1vUs3yZqpnUwpeKZHTWDXolPzI+CFVBtNQMc=
X-Google-DKIM-Signature: v=1; a=rsa-sha256; c=relaxed/relaxed;
 d=1e100.net; s=20230601; t=1720236549; x=1720841349;
 h=references:in-reply-to:cc:to:from:subject:message-id:date
 :x-gm-message-state:from:to:cc:subject:date:message-id:reply-to;
 bh=C3/S9XWFj6jrlES/V8CqPRIlFQo8CgYRD6+1x8v5xPs=;
 b=p8NROXxRAF7nHGqSHIQVS/9zVHEWFREpfptA8mIUjf3zFFYuJHl7+vDjqS++8l8uJN
 zT3XVckTkS2upbHKj+3Y8ojdjpNtmh2p9HTE1kLAdVOUz879pFehV3U7tPzNSNO1zqCU
 0TpZFx/WZkPyVR+qYSM84mRkO+/rRM/QfHbO2bGzo2mlQER4ctuGgPPNR3f2v3g1guHb
 NMC8SHcKSPkTtZjW797usSc0Xxq4TaXRmzX+XO9EJViCSv2WrNaqx4i42v9VSj+N9KBy
 jHigpJVqczWNP2fYQAEFc6MgR7CFAjXuRrpVPjktb5JevQEabmjXIRmz+0CD9kvwUuJ6
 FXqA==
X-Gm-Message-State: AOJu0YzKYfo3GxnSGq50WGx4/q4fqA/DPPgLnz/rw8EzmzA1TCuQfVp+
 VfsulM0+TV5YSceaT2/C0lX9M2xMIbKv3CThbHTGkE0CJr1dpEule2zaqjZ4j4TbieNxci8M1cj
 4uE0J/h6zM6zTCavv0Z/EuxstwxDiDkeXJsgYJza3
X-Google-Smtp-Source: AGHT+IFm/z+uLf44reyAge/1mkBSXUbNeLaAspLLf79NBUFFsTpkvD4RXrOUcJJC6cxRhL4BVkEz26J/GdLH
X-Received: by 2002:a81:9f07:0:b0:62d:1a3:5c11 with SMTP id
 00721157ae682-652d544308emr62337527b3.11.1720236549267; 
 Fri, 05 Jul 2024 20:29:09 -0700 (PDT)
Received: from postal.iol.unh.edu (postal.iol.unh.edu. [132.177.123.84])
 by smtp-relay.gmail.com with ESMTPS id
 d2e1a72fcca58-7080322ec6esm617596b3a.19.2024.07.05.20.29.09
 (version=TLS1_2 cipher=ECDHE-ECDSA-AES128-GCM-SHA256 bits=128/128);
 Fri, 05 Jul 2024 20:29:09 -0700 (PDT)
X-Relaying-Domain: iol.unh.edu
Date: Fri, 05 Jul 2024 20:29:09 -0700 (PDT)
Message-ID: <6688ba05.050a0220.a362a.ebb8SMTPIN_ADDED_MISSING@mx.google.com>
Received: from [172.21.0.6] (unknown [172.18.0.240])
 by postal.iol.unh.edu (Postfix) with ESMTP id 62BE4605C351;
 Fri,  5 Jul 2024 23:29:08 -0400 (EDT)
Subject: |PENDING| pw142164-142169 [PATCH] [v2,6/6] doc: dpdk documentation c
From: dpdklab@iol.unh.edu
To: Test Report <test-report@dpdk.org>
Cc: dpdk-test-reports@iol.unh.edu
In-Reply-To: <20240705183325.32381-1-npratte@iol.unh.edu>
References: <20240705183325.32381-1-npratte@iol.unh.edu>
Content-Type: text/plain
X-BeenThere: test-report@dpdk.org
X-Mailman-Version: 2.1.29
Precedence: list
List-Id: automatic DPDK test reports <test-report.dpdk.org>
List-Unsubscribe: <https://mails.dpdk.org/options/test-report>,
 <mailto:test-report-request@dpdk.org?subject=unsubscribe>
List-Archive: <http://mails.dpdk.org/archives/test-report/>
List-Post: <mailto:test-report@dpdk.org>
List-Help: <mailto:test-report-request@dpdk.org?subject=help>
List-Subscribe: <https://mails.dpdk.org/listinfo/test-report>,
 <mailto:test-report-request@dpdk.org?subject=subscribe>
Errors-To: test-report-bounces@dpdk.org

Test-Label: iol-unit-amd64-testing
Test-Status: PENDING
http://dpdk.org/patch/142169

_Testing pending_

Submitter: Nicholas Pratte <npratte@iol.unh.edu>
Date: Friday, July 05 2024 18:33:24 
DPDK git baseline: Repo:dpdk
  Branch: master
  CommitID:fcfb19cda4f6439f260cdeabb6c44d3c6f0d5fc4

142164-142169 --> testing pending

Test environment and result as below:

+-------------------+----------------+
|    Environment    | dpdk_unit_test |
+===================+================+
| CentOS Stream 8   | PASS           |
+-------------------+----------------+
| CentOS Stream 9   | PASS           |
+-------------------+----------------+
| Debian 12         | PASS           |
+-------------------+----------------+
| Fedora 37         | PASS           |
+-------------------+----------------+
| Fedora 38         | PASS           |
+-------------------+----------------+
| Fedora 38 (Clang) | PASS           |
+-------------------+----------------+
| Fedora 39         | PASS           |
+-------------------+----------------+
| Fedora 39 (Clang) | PASS           |
+-------------------+----------------+
| Fedora 40         | PASS           |
+-------------------+----------------+
| Fedora 40 (Clang) | PASS           |
+-------------------+----------------+
| openSUSE Leap 15  | PASS           |
+-------------------+----------------+
| RHEL9             | PASS           |
+-------------------+----------------+
| Ubuntu 20.04      | PASS           |
+-------------------+----------------+
| Ubuntu 22.04      | PASS           |
+-------------------+----------------+
| Ubuntu 24.04      | PASS           |
+-------------------+----------------+
| Debian Bullseye   | PEND           |
+-------------------+----------------+
| RHEL8             | PEND           |
+-------------------+----------------+


CentOS Stream 8
	Kernel: 5.4.0-167-generic
	Compiler: gcc 8.5.0 20210514

CentOS Stream 9
	Kernel: 5.4.0-167-generic
	Compiler: gcc 11.4.1 20230605

Debian 12
	Kernel: Container Host Kernel
	Compiler: gcc 12.2.0

Fedora 37
	Kernel: Depends on container host system
	Compiler: gcc 12.3.1

Fedora 38
	Kernel: Depends on container host
	Compiler: gcc 13.2.1

Fedora 38 (Clang)
	Kernel: Depends on container host
	Compiler: clang 16.0.6

Fedora 39
	Kernel: Depends on container host
	Compiler: gcc 13.2.1

Fedora 39 (Clang)
	Kernel: Depends on container host
	Compiler: clang 17.0.6

Fedora 40
	Kernel: Depends on container host
	Compiler: gcc 14.1.1

Fedora 40 (Clang)
	Kernel: Depends on container host
	Compiler: clang 18.1.6

openSUSE Leap 15
	Kernel: 5.4.0-167-generic
	Compiler: gcc 7.5.0

RHEL9
	Kernel: Depends on container host
	Compiler: gcc 11.4.1

Ubuntu 20.04
	Kernel: 5.4.0-167-generic
	Compiler: gcc 9.4.0-1ubuntu1~20.04.1

Ubuntu 22.04
	Kernel: 5.4.0-167-generic
	Compiler: gcc 11.4.0

Ubuntu 24.04
	Kernel: 5.4.0-167-generic
	Compiler: gcc 13.2.0

Debian Bullseye
	Kernel: 5.4.0-167-generic
	Compiler: gcc 10.2.1-6

RHEL8
	Kernel: 5.4.0-167-generic
	Compiler: gcc 8.5.0 20210514 (Red Hat 8.5.0-20)

To view detailed results, visit:
https://lab.dpdk.org/results/dashboard/patchsets/30434/

UNH-IOL DPDK Community Lab

To manage your email subscriptions, visit: 
https://lab.dpdk.org/results/dashboard/preferences/subscriptions/