From mboxrd@z Thu Jan  1 00:00:00 1970
Return-Path: <test-report-bounces@dpdk.org>
Received: from mails.dpdk.org (mails.dpdk.org [217.70.189.124])
	by inbox.dpdk.org (Postfix) with ESMTP id 423B3455C2
	for <public@inbox.dpdk.org>; Mon,  8 Jul 2024 12:55:32 +0200 (CEST)
Received: from mails.dpdk.org (localhost [127.0.0.1])
	by mails.dpdk.org (Postfix) with ESMTP id 3D4AC4025E;
	Mon,  8 Jul 2024 12:55:32 +0200 (CEST)
Received: from mail-yw1-f228.google.com (mail-yw1-f228.google.com
 [209.85.128.228])
 by mails.dpdk.org (Postfix) with ESMTP id 68D074003C
 for <test-report@dpdk.org>; Mon,  8 Jul 2024 12:55:30 +0200 (CEST)
Received: by mail-yw1-f228.google.com with SMTP id
 00721157ae682-64789495923so30198357b3.0
 for <test-report@dpdk.org>; Mon, 08 Jul 2024 03:55:30 -0700 (PDT)
DKIM-Signature: v=1; a=rsa-sha256; c=relaxed/relaxed;
 d=iol.unh.edu; s=unh-iol; t=1720436130; x=1721040930; darn=dpdk.org;
 h=references:in-reply-to:cc:to:from:subject:message-id:date:from:to
 :cc:subject:date:message-id:reply-to;
 bh=T2MfpAkassGRlmLErACMTZJHtL6BX3XpHTKCJIblPsQ=;
 b=Xhm8g3QKm7605g1Mfz7k4r54xpJG3sQZ+5LTXR5h1IjjksltYLtpg2T7MLK7BaHfcm
 HzpQHaf/aLdUZznr8m3U3IH/iWwGokOtAW/uuiWIp0MsTfIuaL0OvntInRBrNYRzApwD
 Hljey53dgVxw3jbr12UBMk4llH3VjsnlqWhVI=
X-Google-DKIM-Signature: v=1; a=rsa-sha256; c=relaxed/relaxed;
 d=1e100.net; s=20230601; t=1720436130; x=1721040930;
 h=references:in-reply-to:cc:to:from:subject:message-id:date
 :x-gm-message-state:from:to:cc:subject:date:message-id:reply-to;
 bh=T2MfpAkassGRlmLErACMTZJHtL6BX3XpHTKCJIblPsQ=;
 b=cFSVEVfs4HQThvSHXQXcXy6fGuXREaF26Bg6/zlzO/CuCLGZKVdu7/yTb+jZ0w4HGB
 m5VFpJewHILw+0xVUc44/h72DQ8S9z6QSfZC0qd3wZqVSmIMRxXolmrCeMgUNfUN8UxB
 PpNY/uX84+50g1KiXVv/NGmIWQglLxOBOOjpezCZicUnVVC+WHu5UiP3cvjJSf4XVkVe
 +uY7yzAFq/vrBVWpAVdje0ThVFtTE76CwUUVCIV1MBvBkLdC/o07gGDLkE/NEBy9xw/s
 9TPJrsviCV/npgTw1XrFiyjA+5iRntQT9OgU6N/mztvF8Kd8T5kTYFHOsgaSPngha4rK
 QklA==
X-Gm-Message-State: AOJu0Yx0VJ3M3wAGRwqiQIzqeomO3a4qZPPVy+yJcqDQRQJ4u2q4M/+x
 N1fF+NVKxlPs98CZuMyLuzidxzffeT2tDPskJFhyCPzJ8LmK7Pt6ZXsHvoFqWW6ER7ZhznDt9Ms
 AnDnyhH79F51c/ZPkJx9Tld9hYF+Wg8391XNKe6spFnoyH5WcH/A2y54N
X-Google-Smtp-Source: AGHT+IHJVq8H/4AEJ0pqYT08Q6b0IUSxFspb4Ukz4njPrUCHwHiwsf/F/xSrAdIhw4s6e1CR4kPxSucbTroB
X-Received: by 2002:a05:690c:648a:b0:63b:f8cb:9281 with SMTP id
 00721157ae682-6583158f4c1mr9851467b3.41.1720436129799; 
 Mon, 08 Jul 2024 03:55:29 -0700 (PDT)
Received: from postal.iol.unh.edu (postal.iol.unh.edu.
 [2606:4100:3880:1234::84]) by smtp-relay.gmail.com with ESMTPS id
 00721157ae682-651bef2121csm2823367b3.31.2024.07.08.03.55.29
 (version=TLS1_2 cipher=ECDHE-ECDSA-AES128-GCM-SHA256 bits=128/128);
 Mon, 08 Jul 2024 03:55:29 -0700 (PDT)
X-Relaying-Domain: iol.unh.edu
Date: Mon, 08 Jul 2024 03:55:29 -0700 (PDT)
Message-ID: <668bc5a1.050a0220.a00e.46dcSMTPIN_ADDED_MISSING@mx.google.com>
Received: from [172.21.0.7] (unknown [172.18.0.240])
 by postal.iol.unh.edu (Postfix) with ESMTP id 71C5E60526E2;
 Mon,  8 Jul 2024 06:55:29 -0400 (EDT)
Subject: |PENDING| pw142185-142191 [PATCH] [v2,7/7] net/nfp: add trace point 
From: dpdklab@iol.unh.edu
To: Test Report <test-report@dpdk.org>
Cc: dpdk-test-reports@iol.unh.edu
In-Reply-To: <20240708024543.77126-8-chaoyong.he@corigine.com>
References: <20240708024543.77126-8-chaoyong.he@corigine.com>
Content-Type: text/plain
X-BeenThere: test-report@dpdk.org
X-Mailman-Version: 2.1.29
Precedence: list
List-Id: automatic DPDK test reports <test-report.dpdk.org>
List-Unsubscribe: <https://mails.dpdk.org/options/test-report>,
 <mailto:test-report-request@dpdk.org?subject=unsubscribe>
List-Archive: <http://mails.dpdk.org/archives/test-report/>
List-Post: <mailto:test-report@dpdk.org>
List-Help: <mailto:test-report-request@dpdk.org?subject=help>
List-Subscribe: <https://mails.dpdk.org/listinfo/test-report>,
 <mailto:test-report-request@dpdk.org?subject=subscribe>
Errors-To: test-report-bounces@dpdk.org

Test-Label: iol-compile-amd64-testing
Test-Status: PENDING
http://dpdk.org/patch/142191

_Testing pending_

Submitter: Chaoyong He <chaoyong.he@corigine.com>
Date: Monday, July 08 2024 02:45:43 
DPDK git baseline: Repo:dpdk
  Branch: master
  CommitID:249c34811d8f134110784872ee3f31ead1fde84c

142185-142191 --> testing pending

Test environment and result as below:

+---------------------+--------------------+----------------------+-------------------+
|     Environment     | dpdk_meson_compile | dpdk_mingw64_compile | dpdk_msvc_compile |
+=====================+====================+======================+===================+
| FreeBSD 13.3        | PASS               | SKIPPED              | SKIPPED           |
+---------------------+--------------------+----------------------+-------------------+
| FreeBSD 14.1        | PASS               | SKIPPED              | SKIPPED           |
+---------------------+--------------------+----------------------+-------------------+
| Windows Server 2022 | PASS               | PASS                 | PASS              |
+---------------------+--------------------+----------------------+-------------------+
| Windows Server 2019 | PEND               | PASS                 | SKIPPED           |
+---------------------+--------------------+----------------------+-------------------+


FreeBSD 13.3
	Kernel: 13.3-RELEASE-p1
	Compiler: clang 17.0.6

FreeBSD 14.1
	Kernel: 14.1
	Compiler: clang 18.1.5

Windows Server 2022
	Kernel: 10.0.20348.2031
	Compiler: clang 15.0.7, gcc 8.1.0 (MinGW), and MSVC VS 17.9

Windows Server 2019
	Kernel: 10.0.17763
	Compiler: clang 14.0 and gcc 8.1.0 (MinGW)

To view detailed results, visit:
https://lab.dpdk.org/results/dashboard/patchsets/30447/

UNH-IOL DPDK Community Lab

To manage your email subscriptions, visit: 
https://lab.dpdk.org/results/dashboard/preferences/subscriptions/