From mboxrd@z Thu Jan  1 00:00:00 1970
Return-Path: <test-report-bounces@dpdk.org>
Received: from mails.dpdk.org (mails.dpdk.org [217.70.189.124])
	by inbox.dpdk.org (Postfix) with ESMTP id 6E1B6455C2
	for <public@inbox.dpdk.org>; Mon,  8 Jul 2024 13:35:57 +0200 (CEST)
Received: from mails.dpdk.org (localhost [127.0.0.1])
	by mails.dpdk.org (Postfix) with ESMTP id 6ACAA402F1;
	Mon,  8 Jul 2024 13:35:57 +0200 (CEST)
Received: from mail-io1-f99.google.com (mail-io1-f99.google.com
 [209.85.166.99]) by mails.dpdk.org (Postfix) with ESMTP id 803F64025E
 for <test-report@dpdk.org>; Mon,  8 Jul 2024 13:35:56 +0200 (CEST)
Received: by mail-io1-f99.google.com with SMTP id
 ca18e2360f4ac-7eee7728b00so147594239f.3
 for <test-report@dpdk.org>; Mon, 08 Jul 2024 04:35:56 -0700 (PDT)
DKIM-Signature: v=1; a=rsa-sha256; c=relaxed/relaxed;
 d=iol.unh.edu; s=unh-iol; t=1720438556; x=1721043356; darn=dpdk.org;
 h=references:in-reply-to:cc:to:from:subject:message-id:date:from:to
 :cc:subject:date:message-id:reply-to;
 bh=IlGVdJiL+8nF7F8tuH/MFEddqa2TFsm73UkzLC89xZg=;
 b=R2k+gzc+sgiW335kqKYBXVxUwGjI6ZW0xYKabwuS9nobbLafydkWQwf+q8J7AFQCI/
 bNk40RrHEOp2dvHhsRbNtMrdGsINqC1KIGH8tlmQcFwCkH+YCCJezzVh/pbfjNOAAKkW
 FG9ZnucQKOBQEM/oY+517gZoK9CUToCo5rQeM=
X-Google-DKIM-Signature: v=1; a=rsa-sha256; c=relaxed/relaxed;
 d=1e100.net; s=20230601; t=1720438556; x=1721043356;
 h=references:in-reply-to:cc:to:from:subject:message-id:date
 :x-gm-message-state:from:to:cc:subject:date:message-id:reply-to;
 bh=IlGVdJiL+8nF7F8tuH/MFEddqa2TFsm73UkzLC89xZg=;
 b=eYXmSxy0GXUNLTqSrbZNg5HAdfgW0cOPUkf3eAM8b2662e4m5b9V2+OATnATJqoVsL
 ttNYMbdl798jEJhVadzRRxymN34+/nlFJHrhXDTcO0ETDMh4VZYSoh6vgwCZmat64Ad1
 cVDSjb4gP7HF62JUWvECbrgWbBbrMCD0Z7gy2y8qeGVPbFgzBsRM+mjJT3ojosbyQ3+M
 MjXZ1g21bXGsixGEuUPzXWUZOKL5p5tecx3pgO4/ZbkcO4qghLfecySToj21Cpywt/9A
 Fx2EcapkI/74/NV4rL2hwX03AAwg3Zc4CSUlVVVfcuklMTTYmdglr5JHdzRL4bZPATXm
 UZEw==
X-Gm-Message-State: AOJu0Yx3Ip/uVdA9seWIhq4G/0bvkaWOdzdbt7g2yDtnB/398n8p37Zu
 Ccbdt7UQV2jeAmcqDGchVwRJivDd2XLE8R/mbElOc8jGjPa0ZtsSB2uWqQdkuRu0ocqwfhH4ZZQ
 yeYuOSZlO/UZKd5zq9LGHXv4R9LHT9fn9a7Sd4z1NKmkRyhlimFd7AL56
X-Google-Smtp-Source: AGHT+IEkF1NUdSWGWxnpoFPOeDhUJ2aCxvz4gl0RAql2g1ELydXK3DBkKZDaGUG/ioeucvnKjEuj439qTR/4
X-Received: by 2002:a5d:8187:0:b0:7f6:294a:98db with SMTP id
 ca18e2360f4ac-7f66df1ee3dmr1301702339f.15.1720438555757; 
 Mon, 08 Jul 2024 04:35:55 -0700 (PDT)
Received: from postal.iol.unh.edu (postal.iol.unh.edu.
 [2606:4100:3880:1234::84]) by smtp-relay.gmail.com with ESMTPS id
 ca18e2360f4ac-7f61d0fe974sm74583339f.26.2024.07.08.04.35.55
 (version=TLS1_2 cipher=ECDHE-ECDSA-AES128-GCM-SHA256 bits=128/128);
 Mon, 08 Jul 2024 04:35:55 -0700 (PDT)
X-Relaying-Domain: iol.unh.edu
Date: Mon, 08 Jul 2024 04:35:55 -0700 (PDT)
Message-ID: <668bcf1b.050a0220.c2d45.72d0SMTPIN_ADDED_MISSING@mx.google.com>
Received: from [172.21.0.9] (unknown [172.18.0.240])
 by postal.iol.unh.edu (Postfix) with ESMTP id 4A14360526E2;
 Mon,  8 Jul 2024 07:35:55 -0400 (EDT)
Subject: |PENDING| pw142192 [PATCH] [v2] net/nfp: fix port action core dump
From: dpdklab@iol.unh.edu
To: Test Report <test-report@dpdk.org>
Cc: dpdk-test-reports@iol.unh.edu
In-Reply-To: <20240708031209.79302-1-chaoyong.he@corigine.com>
References: <20240708031209.79302-1-chaoyong.he@corigine.com>
Content-Type: text/plain
X-BeenThere: test-report@dpdk.org
X-Mailman-Version: 2.1.29
Precedence: list
List-Id: automatic DPDK test reports <test-report.dpdk.org>
List-Unsubscribe: <https://mails.dpdk.org/options/test-report>,
 <mailto:test-report-request@dpdk.org?subject=unsubscribe>
List-Archive: <http://mails.dpdk.org/archives/test-report/>
List-Post: <mailto:test-report@dpdk.org>
List-Help: <mailto:test-report-request@dpdk.org?subject=help>
List-Subscribe: <https://mails.dpdk.org/listinfo/test-report>,
 <mailto:test-report-request@dpdk.org?subject=subscribe>
Errors-To: test-report-bounces@dpdk.org

Test-Label: iol-abi-testing
Test-Status: PENDING
http://dpdk.org/patch/142192

_Testing pending_

Submitter: Chaoyong He <chaoyong.he@corigine.com>
Date: Monday, July 08 2024 03:12:09 
DPDK git baseline: Repo:dpdk
  Branch: master
  CommitID:249c34811d8f134110784872ee3f31ead1fde84c

142192 --> testing pending

Test environment and result as below:

+-------------------+----------+
|    Environment    | abi_test |
+===================+==========+
| CentOS Stream 8   | PASS     |
+-------------------+----------+
| CentOS Stream 9   | PASS     |
+-------------------+----------+
| Debian Bullseye   | PASS     |
+-------------------+----------+
| Fedora 37         | PEND     |
+-------------------+----------+
| Debian 12         | PEND     |
+-------------------+----------+
| Fedora 39 (Clang) | PASS     |
+-------------------+----------+
| Fedora 38         | PASS     |
+-------------------+----------+
| Fedora 38 (Clang) | PASS     |
+-------------------+----------+
| Fedora 39         | PASS     |
+-------------------+----------+
| RHEL8             | PEND     |
+-------------------+----------+
| openSUSE Leap 15  | PASS     |
+-------------------+----------+
| Fedora 40         | PEND     |
+-------------------+----------+
| Fedora 40 (Clang) | PEND     |
+-------------------+----------+
| RHEL9             | PEND     |
+-------------------+----------+
| Ubuntu 22.04      | PEND     |
+-------------------+----------+
| Ubuntu 24.04      | PEND     |
+-------------------+----------+


CentOS Stream 8
	Kernel: 5.4.0-167-generic
	Compiler: gcc 8.5.0 20210514

CentOS Stream 9
	Kernel: 5.4.0-167-generic
	Compiler: gcc 11.4.1 20230605

Debian Bullseye
	Kernel: 5.4.0-167-generic
	Compiler: gcc 10.2.1-6

Fedora 37
	Kernel: Depends on container host system
	Compiler: gcc 12.3.1

Debian 12
	Kernel: Container Host Kernel
	Compiler: gcc 12.2.0

Fedora 39 (Clang)
	Kernel: Depends on container host
	Compiler: clang 17.0.6

Fedora 38
	Kernel: Depends on container host
	Compiler: gcc 13.2.1

Fedora 38 (Clang)
	Kernel: Depends on container host
	Compiler: clang 16.0.6

Fedora 39
	Kernel: Depends on container host
	Compiler: gcc 13.2.1

RHEL8
	Kernel: 5.4.0-167-generic
	Compiler: gcc 8.5.0 20210514 (Red Hat 8.5.0-20)

openSUSE Leap 15
	Kernel: 5.4.0-167-generic
	Compiler: gcc 7.5.0

Fedora 40
	Kernel: Depends on container host
	Compiler: gcc 14.1.1

Fedora 40 (Clang)
	Kernel: Depends on container host
	Compiler: clang 18.1.6

RHEL9
	Kernel: Depends on container host
	Compiler: gcc 11.4.1

Ubuntu 22.04
	Kernel: 5.4.0-167-generic
	Compiler: gcc 11.4.0

Ubuntu 24.04
	Kernel: 5.4.0-167-generic
	Compiler: gcc 13.2.0

To view detailed results, visit:
https://lab.dpdk.org/results/dashboard/patchsets/30448/

UNH-IOL DPDK Community Lab

To manage your email subscriptions, visit: 
https://lab.dpdk.org/results/dashboard/preferences/subscriptions/