From mboxrd@z Thu Jan  1 00:00:00 1970
Return-Path: <test-report-bounces@dpdk.org>
Received: from mails.dpdk.org (mails.dpdk.org [217.70.189.124])
	by inbox.dpdk.org (Postfix) with ESMTP id 80CB7455C7
	for <public@inbox.dpdk.org>; Mon,  8 Jul 2024 18:26:31 +0200 (CEST)
Received: from mails.dpdk.org (localhost [127.0.0.1])
	by mails.dpdk.org (Postfix) with ESMTP id 7CB7B40F16;
	Mon,  8 Jul 2024 18:26:31 +0200 (CEST)
Received: from mail-yw1-f225.google.com (mail-yw1-f225.google.com
 [209.85.128.225])
 by mails.dpdk.org (Postfix) with ESMTP id C322C40265
 for <test-report@dpdk.org>; Mon,  8 Jul 2024 18:26:29 +0200 (CEST)
Received: by mail-yw1-f225.google.com with SMTP id
 00721157ae682-64b101294c0so37840877b3.1
 for <test-report@dpdk.org>; Mon, 08 Jul 2024 09:26:29 -0700 (PDT)
DKIM-Signature: v=1; a=rsa-sha256; c=relaxed/relaxed;
 d=iol.unh.edu; s=unh-iol; t=1720455989; x=1721060789; darn=dpdk.org;
 h=references:in-reply-to:cc:to:from:subject:message-id:date:from:to
 :cc:subject:date:message-id:reply-to;
 bh=xerf0WnyyqxZ1vzkWnCmHLdYtmAv2KBztIazxbjtAC4=;
 b=Gv6hFmHbxbXmqEQ4/oCQNYh2qL20Ss+aMupFkIwiGwYi4CXf1W98PFHlih2SaWNijT
 hn3OIRyeiN2THdulIuMuctWNoJMkZgYo0LDLc4sg4U5Z2qpG84ymyJiVzyaTpQk5YH0w
 05oryn4hlDsMugM7CJv2Gfq1Tgahbuoecjcak=
X-Google-DKIM-Signature: v=1; a=rsa-sha256; c=relaxed/relaxed;
 d=1e100.net; s=20230601; t=1720455989; x=1721060789;
 h=references:in-reply-to:cc:to:from:subject:message-id:date
 :x-gm-message-state:from:to:cc:subject:date:message-id:reply-to;
 bh=xerf0WnyyqxZ1vzkWnCmHLdYtmAv2KBztIazxbjtAC4=;
 b=QcY9jOt9PnBldZkal4UeMWavEmgN8BgZVTsmYb/m6OmO8OZW6f7+y1s4crYR+K3w4j
 jXquGkPDalwDcAtzx1Ja7KWlnHBG1NvLYXMd6X3nfB1CHKWI6l74TQMwRNsAC7gnE381
 lyVlSYjyOGIq/mw8YLlCTlBWbVo0QruAj7oof0H2Hj1/vPHCOeZL5fQylaHdMEHj9Tqt
 qgeakipMqv258GGbA1xmGwSNnRWV2GlDL8FKbxkFpS/S5hZvm0aRQO6EWgizUXyZESNS
 aEOsBKjjo8/PtRmu3Bev3NlWbF0Sccgk6G2X9qtP3krkA1JwIiU/ELW+WLj/OlIoW3Dy
 4TcQ==
X-Gm-Message-State: AOJu0Yzs3G8n3EoM/OA5tJv17F9R5Qd7WCr/x/K9joa/x45x/Gy9zItd
 SVdF5H9B0yTOq2CsCKgPtuEp+8CkLF2Kp3JMLXbExTVjfFxQB147wqn8vU2kSs2jYfIalCXDVqd
 Oizyhf3VU09UlXB3Eju+7Rj2ndQXguom7Dv2gEl6r3nOEjN1n0PvGOmAe
X-Google-Smtp-Source: AGHT+IF7jtB8y29xZ1q6eM5iNiDuZRKvlLmyP6AHs04wfzJpIN0aK18jO+2lqNnkpGKhQiHepTIDZgTNeT/f
X-Received: by 2002:a0d:ff06:0:b0:630:8fe1:b626 with SMTP id
 00721157ae682-658f0fb3371mr2042857b3.48.1720455989079; 
 Mon, 08 Jul 2024 09:26:29 -0700 (PDT)
Received: from postal.iol.unh.edu (postal.iol.unh.edu.
 [2606:4100:3880:1234::84]) by smtp-relay.gmail.com with ESMTPS id
 00721157ae682-658e62fabfesm73467b3.49.2024.07.08.09.26.29
 (version=TLS1_2 cipher=ECDHE-ECDSA-AES128-GCM-SHA256 bits=128/128);
 Mon, 08 Jul 2024 09:26:29 -0700 (PDT)
X-Relaying-Domain: iol.unh.edu
Date: Mon, 08 Jul 2024 09:26:29 -0700 (PDT)
Message-ID: <668c1335.050a0220.53636.0805SMTPIN_ADDED_MISSING@mx.google.com>
Received: from [172.21.0.6] (unknown [172.18.0.240])
 by postal.iol.unh.edu (Postfix) with ESMTP id B0421605C380;
 Mon,  8 Jul 2024 12:26:28 -0400 (EDT)
Subject: |PENDING| pw142199-142206 [PATCH] [v3,8/8] mempool/dpaax: cache free
From: dpdklab@iol.unh.edu
To: Test Report <test-report@dpdk.org>
Cc: dpdk-test-reports@iol.unh.edu
In-Reply-To: <20240708072945.2376209-9-vanshika.shukla@nxp.com>
References: <20240708072945.2376209-9-vanshika.shukla@nxp.com>
Content-Type: text/plain
X-BeenThere: test-report@dpdk.org
X-Mailman-Version: 2.1.29
Precedence: list
List-Id: automatic DPDK test reports <test-report.dpdk.org>
List-Unsubscribe: <https://mails.dpdk.org/options/test-report>,
 <mailto:test-report-request@dpdk.org?subject=unsubscribe>
List-Archive: <http://mails.dpdk.org/archives/test-report/>
List-Post: <mailto:test-report@dpdk.org>
List-Help: <mailto:test-report-request@dpdk.org?subject=help>
List-Subscribe: <https://mails.dpdk.org/listinfo/test-report>,
 <mailto:test-report-request@dpdk.org?subject=subscribe>
Errors-To: test-report-bounces@dpdk.org

Test-Label: iol-abi-testing
Test-Status: PENDING
http://dpdk.org/patch/142206

_Testing pending_

Submitter: None <vanshika.shukla@nxp.com>
Date: Monday, July 08 2024 07:29:45 
DPDK git baseline: Repo:dpdk
  Branch: master
  CommitID:90c38f8182246d4f8039db59882b11f6bbf88d1b

142199-142206 --> testing pending

Test environment and result as below:

+-------------------+----------+
|    Environment    | abi_test |
+===================+==========+
| CentOS Stream 8   | PASS     |
+-------------------+----------+
| CentOS Stream 9   | PASS     |
+-------------------+----------+
| Fedora 37         | PASS     |
+-------------------+----------+
| Debian 12         | PEND     |
+-------------------+----------+
| Fedora 39 (Clang) | PASS     |
+-------------------+----------+
| Fedora 38         | PEND     |
+-------------------+----------+
| Debian Bullseye   | PEND     |
+-------------------+----------+
| Fedora 38 (Clang) | PASS     |
+-------------------+----------+
| Fedora 39         | PEND     |
+-------------------+----------+
| Fedora 40 (Clang) | PASS     |
+-------------------+----------+
| Fedora 40         | PEND     |
+-------------------+----------+
| openSUSE Leap 15  | PEND     |
+-------------------+----------+
| RHEL8             | PEND     |
+-------------------+----------+
| RHEL9             | PEND     |
+-------------------+----------+
| Ubuntu 22.04      | PEND     |
+-------------------+----------+
| Ubuntu 24.04      | PEND     |
+-------------------+----------+


CentOS Stream 8
	Kernel: 5.4.0-167-generic
	Compiler: gcc 8.5.0 20210514

CentOS Stream 9
	Kernel: 5.4.0-167-generic
	Compiler: gcc 11.4.1 20230605

Fedora 37
	Kernel: Depends on container host system
	Compiler: gcc 12.3.1

Debian 12
	Kernel: Container Host Kernel
	Compiler: gcc 12.2.0

Fedora 39 (Clang)
	Kernel: Depends on container host
	Compiler: clang 17.0.6

Fedora 38
	Kernel: Depends on container host
	Compiler: gcc 13.2.1

Debian Bullseye
	Kernel: 5.4.0-167-generic
	Compiler: gcc 10.2.1-6

Fedora 38 (Clang)
	Kernel: Depends on container host
	Compiler: clang 16.0.6

Fedora 39
	Kernel: Depends on container host
	Compiler: gcc 13.2.1

Fedora 40 (Clang)
	Kernel: Depends on container host
	Compiler: clang 18.1.6

Fedora 40
	Kernel: Depends on container host
	Compiler: gcc 14.1.1

openSUSE Leap 15
	Kernel: 5.4.0-167-generic
	Compiler: gcc 7.5.0

RHEL8
	Kernel: 5.4.0-167-generic
	Compiler: gcc 8.5.0 20210514 (Red Hat 8.5.0-20)

RHEL9
	Kernel: Depends on container host
	Compiler: gcc 11.4.1

Ubuntu 22.04
	Kernel: 5.4.0-167-generic
	Compiler: gcc 11.4.0

Ubuntu 24.04
	Kernel: 5.4.0-167-generic
	Compiler: gcc 13.2.0

To view detailed results, visit:
https://lab.dpdk.org/results/dashboard/patchsets/30452/

UNH-IOL DPDK Community Lab

To manage your email subscriptions, visit: 
https://lab.dpdk.org/results/dashboard/preferences/subscriptions/