From mboxrd@z Thu Jan  1 00:00:00 1970
Return-Path: <test-report-bounces@dpdk.org>
Received: from mails.dpdk.org (mails.dpdk.org [217.70.189.124])
	by inbox.dpdk.org (Postfix) with ESMTP id 71046455C7
	for <public@inbox.dpdk.org>; Mon,  8 Jul 2024 18:59:04 +0200 (CEST)
Received: from mails.dpdk.org (localhost [127.0.0.1])
	by mails.dpdk.org (Postfix) with ESMTP id 6CDDE40A71;
	Mon,  8 Jul 2024 18:59:04 +0200 (CEST)
Received: from mail-qt1-f226.google.com (mail-qt1-f226.google.com
 [209.85.160.226])
 by mails.dpdk.org (Postfix) with ESMTP id 5903240265
 for <test-report@dpdk.org>; Mon,  8 Jul 2024 18:59:03 +0200 (CEST)
Received: by mail-qt1-f226.google.com with SMTP id
 d75a77b69052e-4463b71d5b0so35773291cf.1
 for <test-report@dpdk.org>; Mon, 08 Jul 2024 09:59:03 -0700 (PDT)
DKIM-Signature: v=1; a=rsa-sha256; c=relaxed/relaxed;
 d=iol.unh.edu; s=unh-iol; t=1720457943; x=1721062743; darn=dpdk.org;
 h=references:in-reply-to:cc:to:from:subject:message-id:date:from:to
 :cc:subject:date:message-id:reply-to;
 bh=RCkQ377AM+64qS/lDcA66UKM6oil0uSkhXvoOD9cwLQ=;
 b=dLHUfUxT7kO8BNoLNSarxVUHXTELWIz+2i3AzPWNeIPcVKQ0NXt2t0iO8qTI/OHbUH
 bkJP3n0oSz2hO6KZuOHTU3XpzaGy4f57H1xy/Yht9XQPJp1ibxal43Nb8xvNYF5LDAC2
 Cbe5AyxwaR3JcR8s8gjzVvlcykmz4oJwsJuRc=
X-Google-DKIM-Signature: v=1; a=rsa-sha256; c=relaxed/relaxed;
 d=1e100.net; s=20230601; t=1720457943; x=1721062743;
 h=references:in-reply-to:cc:to:from:subject:message-id:date
 :x-gm-message-state:from:to:cc:subject:date:message-id:reply-to;
 bh=RCkQ377AM+64qS/lDcA66UKM6oil0uSkhXvoOD9cwLQ=;
 b=T7axrHYcSCuWgQIeDLgKqieybbLVszGqXYGUP2EVmKfV59lQ/Z6p6sf9hlS7TmAVB0
 zJogYwtdpkUX/B8P8po5REJE7n/uWj7aGdAx2BVX8PyXjgUwKdmSY1bEf2IDqBCA2/7w
 AOFUQrVxIMy6jObdHp0GVcHcxgCaoxvTU/efDbmS/hcsCqb3D9uYdG97Gq8zQsZH9xPM
 38/i247HZA5WSpTgGI6VyZLhytEm99VPGBbJygjAEMScfhDbrtoQTtnT707WdlYaUTey
 I1wRJ7MWtbwQtuCYdJzQbv4BwxayjbpIwNKbGhNpviyGgPrK3Vjd/rZpwdLdi+DqKDCC
 hzgw==
X-Gm-Message-State: AOJu0YxwWd5aLijJBqrXBwnGPGIgmHh0qn4HO13VSpAgUWO7uscmDTBl
 6FpxvALqb/mTnLQyhWounJRugCiuEdDEzxydYXzys2R1JUFepKx0qjdO1RTXXcOxETivUl3/VKS
 FysN26AZYX+eVk34uyRMGiKmvGt/ZtBUSfbLBZWEQ
X-Google-Smtp-Source: AGHT+IFu9AlDD4Uc4fLmJyxeyjocYIvoJRlg7OlzGRdW2gvFcAEbD3gjCzzOyNMqmo11fRE4ymuBgicrdf3v
X-Received: by 2002:a05:622a:1482:b0:447:e636:9ea4 with SMTP id
 d75a77b69052e-447e636a157mr84578461cf.8.1720457942838; 
 Mon, 08 Jul 2024 09:59:02 -0700 (PDT)
Received: from postal.iol.unh.edu (postal.iol.unh.edu. [132.177.123.84])
 by smtp-relay.gmail.com with ESMTPS id
 d75a77b69052e-447f9bc7733sm103481cf.19.2024.07.08.09.59.02
 (version=TLS1_2 cipher=ECDHE-ECDSA-AES128-GCM-SHA256 bits=128/128);
 Mon, 08 Jul 2024 09:59:02 -0700 (PDT)
X-Relaying-Domain: iol.unh.edu
Date: Mon, 08 Jul 2024 09:59:02 -0700 (PDT)
Message-ID: <668c1ad6.050a0220.29436.0c20SMTPIN_ADDED_MISSING@mx.google.com>
Received: from [172.21.0.10] (unknown [172.18.0.240])
 by postal.iol.unh.edu (Postfix) with ESMTP id 77FB7605C380;
 Mon,  8 Jul 2024 12:59:02 -0400 (EDT)
Subject: |PENDING| pw142199-142206 [PATCH] [v3,8/8] mempool/dpaax: cache free
From: dpdklab@iol.unh.edu
To: Test Report <test-report@dpdk.org>
Cc: dpdk-test-reports@iol.unh.edu
In-Reply-To: <20240708072945.2376209-9-vanshika.shukla@nxp.com>
References: <20240708072945.2376209-9-vanshika.shukla@nxp.com>
Content-Type: text/plain
X-BeenThere: test-report@dpdk.org
X-Mailman-Version: 2.1.29
Precedence: list
List-Id: automatic DPDK test reports <test-report.dpdk.org>
List-Unsubscribe: <https://mails.dpdk.org/options/test-report>,
 <mailto:test-report-request@dpdk.org?subject=unsubscribe>
List-Archive: <http://mails.dpdk.org/archives/test-report/>
List-Post: <mailto:test-report@dpdk.org>
List-Help: <mailto:test-report-request@dpdk.org?subject=help>
List-Subscribe: <https://mails.dpdk.org/listinfo/test-report>,
 <mailto:test-report-request@dpdk.org?subject=subscribe>
Errors-To: test-report-bounces@dpdk.org

Test-Label: iol-unit-amd64-testing
Test-Status: PENDING
http://dpdk.org/patch/142206

_Testing pending_

Submitter: None <vanshika.shukla@nxp.com>
Date: Monday, July 08 2024 07:29:45 
DPDK git baseline: Repo:dpdk
  Branch: master
  CommitID:90c38f8182246d4f8039db59882b11f6bbf88d1b

142199-142206 --> testing pending

Test environment and result as below:

+---------------------+----------------+
|     Environment     | dpdk_unit_test |
+=====================+================+
| Windows Server 2022 | PASS           |
+---------------------+----------------+
| CentOS Stream 8     | PASS           |
+---------------------+----------------+
| CentOS Stream 9     | PASS           |
+---------------------+----------------+
| Windows Server 2019 | PASS           |
+---------------------+----------------+
| Debian Bullseye     | PASS           |
+---------------------+----------------+
| Debian 12           | PASS           |
+---------------------+----------------+
| Fedora 37           | PASS           |
+---------------------+----------------+
| Fedora 38           | PASS           |
+---------------------+----------------+
| Fedora 38 (Clang)   | PASS           |
+---------------------+----------------+
| Fedora 39           | PASS           |
+---------------------+----------------+
| Fedora 40           | PASS           |
+---------------------+----------------+
| Fedora 39 (Clang)   | PASS           |
+---------------------+----------------+
| Fedora 40 (Clang)   | PASS           |
+---------------------+----------------+
| openSUSE Leap 15    | PASS           |
+---------------------+----------------+
| RHEL8               | PASS           |
+---------------------+----------------+
| RHEL9               | PASS           |
+---------------------+----------------+
| Ubuntu 22.04        | PASS           |
+---------------------+----------------+
| Ubuntu 20.04        | PEND           |
+---------------------+----------------+
| Ubuntu 24.04        | PEND           |
+---------------------+----------------+


Windows Server 2022
	Kernel: 10.0.20348.2031
	Compiler: clang 15.0.7, gcc 8.1.0 (MinGW), and MSVC VS 17.9

CentOS Stream 8
	Kernel: 5.4.0-167-generic
	Compiler: gcc 8.5.0 20210514

CentOS Stream 9
	Kernel: 5.4.0-167-generic
	Compiler: gcc 11.4.1 20230605

Windows Server 2019
	Kernel: 10.0.17763
	Compiler: clang 14.0 and gcc 8.1.0 (MinGW)

Debian Bullseye
	Kernel: 5.4.0-167-generic
	Compiler: gcc 10.2.1-6

Debian 12
	Kernel: Container Host Kernel
	Compiler: gcc 12.2.0

Fedora 37
	Kernel: Depends on container host system
	Compiler: gcc 12.3.1

Fedora 38
	Kernel: Depends on container host
	Compiler: gcc 13.2.1

Fedora 38 (Clang)
	Kernel: Depends on container host
	Compiler: clang 16.0.6

Fedora 39
	Kernel: Depends on container host
	Compiler: gcc 13.2.1

Fedora 40
	Kernel: Depends on container host
	Compiler: gcc 14.1.1

Fedora 39 (Clang)
	Kernel: Depends on container host
	Compiler: clang 17.0.6

Fedora 40 (Clang)
	Kernel: Depends on container host
	Compiler: clang 18.1.6

openSUSE Leap 15
	Kernel: 5.4.0-167-generic
	Compiler: gcc 7.5.0

RHEL8
	Kernel: 5.4.0-167-generic
	Compiler: gcc 8.5.0 20210514 (Red Hat 8.5.0-20)

RHEL9
	Kernel: Depends on container host
	Compiler: gcc 11.4.1

Ubuntu 22.04
	Kernel: 5.4.0-167-generic
	Compiler: gcc 11.4.0

Ubuntu 20.04
	Kernel: 5.4.0-167-generic
	Compiler: gcc 9.4.0-1ubuntu1~20.04.1

Ubuntu 24.04
	Kernel: 5.4.0-167-generic
	Compiler: gcc 13.2.0

To view detailed results, visit:
https://lab.dpdk.org/results/dashboard/patchsets/30452/

UNH-IOL DPDK Community Lab

To manage your email subscriptions, visit: 
https://lab.dpdk.org/results/dashboard/preferences/subscriptions/