From mboxrd@z Thu Jan  1 00:00:00 1970
Return-Path: <test-report-bounces@dpdk.org>
Received: from mails.dpdk.org (mails.dpdk.org [217.70.189.124])
	by inbox.dpdk.org (Postfix) with ESMTP id 39FF3455C8
	for <public@inbox.dpdk.org>; Tue,  9 Jul 2024 02:31:16 +0200 (CEST)
Received: from mails.dpdk.org (localhost [127.0.0.1])
	by mails.dpdk.org (Postfix) with ESMTP id 35BBD427BA;
	Tue,  9 Jul 2024 02:31:16 +0200 (CEST)
Received: from mail-io1-f99.google.com (mail-io1-f99.google.com
 [209.85.166.99]) by mails.dpdk.org (Postfix) with ESMTP id 53313402B8
 for <test-report@dpdk.org>; Tue,  9 Jul 2024 02:31:15 +0200 (CEST)
Received: by mail-io1-f99.google.com with SMTP id
 ca18e2360f4ac-7f3d2d441e4so145534839f.2
 for <test-report@dpdk.org>; Mon, 08 Jul 2024 17:31:15 -0700 (PDT)
DKIM-Signature: v=1; a=rsa-sha256; c=relaxed/relaxed;
 d=iol.unh.edu; s=unh-iol; t=1720485074; x=1721089874; darn=dpdk.org;
 h=references:in-reply-to:cc:to:from:subject:message-id:date:from:to
 :cc:subject:date:message-id:reply-to;
 bh=AsndQUopuS8ZJk2mfi6lnWLZ3RWxMVghtFHmi+ltEx8=;
 b=jghWwFsfWnbriOYHeMZgR9KZaXrRl4r7lnVY27HyPrlPt6aYmKLUlkbrYH9GJ/yzrj
 Uq8fHp/s71qBKwJzM6gBYAN+xebrpKrxd6YzL+3xkeR8Up4R6n5w0w5nUiPJDvxyNmq4
 L91Cxg51xwCvm53lTQc99a0K95Ac8MnQsvHuY=
X-Google-DKIM-Signature: v=1; a=rsa-sha256; c=relaxed/relaxed;
 d=1e100.net; s=20230601; t=1720485074; x=1721089874;
 h=references:in-reply-to:cc:to:from:subject:message-id:date
 :x-gm-message-state:from:to:cc:subject:date:message-id:reply-to;
 bh=AsndQUopuS8ZJk2mfi6lnWLZ3RWxMVghtFHmi+ltEx8=;
 b=WNNemtwJurHiJ/vHZ4CnREfWtGJfFEa69gVNAYh3egyaDe+h/gfPpr+76e5GCXkUoi
 Up5rxT0hy8YFcSLE4kfxpeETtqu7k4vhedwZfEQzVcWM1UGgwEjWo7jQOJB7iq3gHQLr
 EK+7VN4J7KP3CrWWQMqEigIf1zEnSZK9gwHEEdMkpmvo7QmNZQH+k0ZND/ManfNGRXmH
 7Drqqa5BnbZ8LNOpGQqMxHLZnXxWJ+004slFaRuUgxdJWMUydIk08N8JudJ5LatoGijS
 bzEIfNUwugVjPoXprDZCAmiwElicnK/KyTyRbAjyVNKUJydrySa27sc5wDv0ihnkq0xy
 +tAA==
X-Gm-Message-State: AOJu0YzIETUauHBzAVaguUvKxe8X4sMOIqPYFLZWSzGhJLmB6UjpSW0r
 Y24sjmhTFNPZW65tC8/Dg5YyMquWxKfzk2dv5b2ZYo6dKvbUoZesJYmxL1PSuw1kcPJwDQnN/Ad
 7ztLwilut78/yIpxDwkdr9zyrV7QgTUJWFbbdtWi9
X-Google-Smtp-Source: AGHT+IFcbAiuhCQZw5qRmfp5kPp4PuFEGX8YB8QqQdZUZLQlZqi8uFMzqTms/DOhQsjG8jCZqW7Q2NPqbhic
X-Received: by 2002:a6b:da0d:0:b0:7f6:1b9f:8939 with SMTP id
 ca18e2360f4ac-80000b9e330mr135920539f.7.1720485074467; 
 Mon, 08 Jul 2024 17:31:14 -0700 (PDT)
Received: from postal.iol.unh.edu (postal.iol.unh.edu. [132.177.123.84])
 by smtp-relay.gmail.com with ESMTPS id
 8926c6da1cb9f-4c0b1b5c61fsm26528173.34.2024.07.08.17.31.14
 (version=TLS1_2 cipher=ECDHE-ECDSA-AES128-GCM-SHA256 bits=128/128);
 Mon, 08 Jul 2024 17:31:14 -0700 (PDT)
X-Relaying-Domain: iol.unh.edu
Date: Mon, 08 Jul 2024 17:31:14 -0700 (PDT)
Message-ID: <668c84d2.050a0220.9749d.1f1aSMTPIN_ADDED_MISSING@mx.google.com>
Received: from [172.21.0.10] (unknown [172.18.0.240])
 by postal.iol.unh.edu (Postfix) with ESMTP id 01D11605C380;
 Mon,  8 Jul 2024 20:31:14 -0400 (EDT)
Subject: |SUCCESS| pw142210-142215 [PATCH] [v12,7/7] hash: add SVE support fo
From: dpdklab@iol.unh.edu
To: Test Report <test-report@dpdk.org>
Cc: dpdk-test-reports@iol.unh.edu
In-Reply-To: <20240708121411.885996-8-yoan.picchi@arm.com>
References: <20240708121411.885996-8-yoan.picchi@arm.com>
Content-Type: text/plain
X-BeenThere: test-report@dpdk.org
X-Mailman-Version: 2.1.29
Precedence: list
List-Id: automatic DPDK test reports <test-report.dpdk.org>
List-Unsubscribe: <https://mails.dpdk.org/options/test-report>,
 <mailto:test-report-request@dpdk.org?subject=unsubscribe>
List-Archive: <http://mails.dpdk.org/archives/test-report/>
List-Post: <mailto:test-report@dpdk.org>
List-Help: <mailto:test-report-request@dpdk.org?subject=help>
List-Subscribe: <https://mails.dpdk.org/listinfo/test-report>,
 <mailto:test-report-request@dpdk.org?subject=subscribe>
Errors-To: test-report-bounces@dpdk.org

Test-Label: iol-unit-arm64-testing
Test-Status: SUCCESS
http://dpdk.org/patch/142215

_Testing PASS_

Submitter: Yoan Picchi <yoan.picchi@arm.com>
Date: Monday, July 08 2024 12:14:11 
DPDK git baseline: Repo:dpdk
  Branch: master
  CommitID:e6bfd9676109f904b4f263402e77105fdca8e67c

142210-142215 --> testing pass

Test environment and result as below:

+-----------------------------+----------------+--------------+---------------------------+------------------------------+
|         Environment         | dpdk_unit_test | lpm_autotest | cryptodev_sw_zuc_autotest | cryptodev_sw_snow3g_autotest |
+=============================+================+==============+===========================+==============================+
| CentOS Stream 9 (ARM)       | PASS           | SKIPPED      | SKIPPED                   | SKIPPED                      |
+-----------------------------+----------------+--------------+---------------------------+------------------------------+
| Debian 11 (Buster) (ARM)    | PASS           | SKIPPED      | SKIPPED                   | SKIPPED                      |
+-----------------------------+----------------+--------------+---------------------------+------------------------------+
| Fedora 37 (ARM)             | PASS           | SKIPPED      | SKIPPED                   | SKIPPED                      |
+-----------------------------+----------------+--------------+---------------------------+------------------------------+
| Fedora 38 (ARM)             | PASS           | SKIPPED      | SKIPPED                   | SKIPPED                      |
+-----------------------------+----------------+--------------+---------------------------+------------------------------+
| Fedora 38 (ARM Clang)       | PASS           | SKIPPED      | SKIPPED                   | SKIPPED                      |
+-----------------------------+----------------+--------------+---------------------------+------------------------------+
| Fedora 39 (ARM)             | PASS           | SKIPPED      | SKIPPED                   | SKIPPED                      |
+-----------------------------+----------------+--------------+---------------------------+------------------------------+
| Fedora 39 (ARM Clang)       | PASS           | SKIPPED      | SKIPPED                   | SKIPPED                      |
+-----------------------------+----------------+--------------+---------------------------+------------------------------+
| 32-bit Ubuntu 20.04.4 (ARM) | PASS           | SKIPPED      | SKIPPED                   | SKIPPED                      |
+-----------------------------+----------------+--------------+---------------------------+------------------------------+
| Fedora 40 (ARM)             | PASS           | SKIPPED      | SKIPPED                   | SKIPPED                      |
+-----------------------------+----------------+--------------+---------------------------+------------------------------+
| Fedora 40 (ARM Clang)       | PASS           | SKIPPED      | SKIPPED                   | SKIPPED                      |
+-----------------------------+----------------+--------------+---------------------------+------------------------------+
| Ubuntu 20.04 (ARM)          | PASS           | SKIPPED      | SKIPPED                   | SKIPPED                      |
+-----------------------------+----------------+--------------+---------------------------+------------------------------+
| RHEL9 (ARM)                 | PASS           | SKIPPED      | SKIPPED                   | SKIPPED                      |
+-----------------------------+----------------+--------------+---------------------------+------------------------------+
| Ubuntu 22.04 (ARM)          | PASS           | SKIPPED      | SKIPPED                   | SKIPPED                      |
+-----------------------------+----------------+--------------+---------------------------+------------------------------+
| Ubuntu 24.04 (ARM)          | PASS           | SKIPPED      | SKIPPED                   | SKIPPED                      |
+-----------------------------+----------------+--------------+---------------------------+------------------------------+
| Debian 12 (arm)             | PASS           | SKIPPED      | PASS                      | PASS                         |
+-----------------------------+----------------+--------------+---------------------------+------------------------------+
| Ubuntu 20.04 ARM SVE        | SKIPPED        | PASS         | SKIPPED                   | SKIPPED                      |
+-----------------------------+----------------+--------------+---------------------------+------------------------------+


CentOS Stream 9 (ARM)
	Kernel: Container Host Kernel
	Compiler: gcc 11.4.1

Debian 11 (Buster) (ARM)
	Kernel: Container Host Kernel
	Compiler: gcc 10.2.1

Fedora 37 (ARM)
	Kernel: Depends on container host
	Compiler: gcc 12.3.1

Fedora 38 (ARM)
	Kernel: Depends on container host
	Compiler: gcc 13.2.1

Fedora 38 (ARM Clang)
	Kernel: Depends on container host
	Compiler: clang 16.0.6

Fedora 39 (ARM)
	Kernel: Depends on container host
	Compiler: gcc 13.2.1

Fedora 39 (ARM Clang)
	Kernel: Depends on container host
	Compiler: clang 17.0.6

32-bit Ubuntu 20.04.4 (ARM)
	Kernel: 5.4.0-155-generic aarch64
	Compiler: gcc 9.4

Fedora 40 (ARM)
	Kernel: Depends on container host
	Compiler: gcc 14.1.1

Fedora 40 (ARM Clang)
	Kernel: Depends on container host
	Compiler: clang 18.1.6

Ubuntu 20.04 (ARM)
	Kernel: Container Host Kernel
	Compiler: gcc 9.4.0

RHEL9 (ARM)
	Kernel: Depends on container host
	Compiler: gcc 11.4.1

Ubuntu 22.04 (ARM)
	Kernel: Container Host Kernel
	Compiler: gcc 11.4.0

Ubuntu 24.04 (ARM)
	Kernel: 5.4.0-167-generic
	Compiler: gcc 13.2.0

Debian 12 (arm)
	Kernel: Container Host Kernel
	Compiler: gcc 12.2.0

Ubuntu 20.04 ARM SVE
	Kernel: 5.4.0-167-generic
	Compiler: gcc (Ubuntu 10.5.0-1ubuntu1~20.04) 10.5.0

To view detailed results, visit:
https://lab.dpdk.org/results/dashboard/patchsets/30455/

UNH-IOL DPDK Community Lab

To manage your email subscriptions, visit: 
https://lab.dpdk.org/results/dashboard/preferences/subscriptions/