From mboxrd@z Thu Jan  1 00:00:00 1970
Return-Path: <test-report-bounces@dpdk.org>
Received: from mails.dpdk.org (mails.dpdk.org [217.70.189.124])
	by inbox.dpdk.org (Postfix) with ESMTP id 78E43455CE
	for <public@inbox.dpdk.org>; Tue,  9 Jul 2024 06:27:11 +0200 (CEST)
Received: from mails.dpdk.org (localhost [127.0.0.1])
	by mails.dpdk.org (Postfix) with ESMTP id 7409E427DA;
	Tue,  9 Jul 2024 06:27:11 +0200 (CEST)
Received: from mail-il1-f225.google.com (mail-il1-f225.google.com
 [209.85.166.225])
 by mails.dpdk.org (Postfix) with ESMTP id 488CC410FB
 for <test-report@dpdk.org>; Tue,  9 Jul 2024 06:27:10 +0200 (CEST)
Received: by mail-il1-f225.google.com with SMTP id
 e9e14a558f8ab-376208fbe7bso18827265ab.3
 for <test-report@dpdk.org>; Mon, 08 Jul 2024 21:27:10 -0700 (PDT)
DKIM-Signature: v=1; a=rsa-sha256; c=relaxed/relaxed;
 d=iol.unh.edu; s=unh-iol; t=1720499229; x=1721104029; darn=dpdk.org;
 h=references:in-reply-to:cc:to:from:subject:message-id:date:from:to
 :cc:subject:date:message-id:reply-to;
 bh=+b4s4miRnt4uhj4B/aLxUkXUTL8ztPZRQFlJamhq+yw=;
 b=X01vfQEtJFwmfCMBFNsCYwg73FKlt93OUeTxBnibcmnHOsPNItXc+p0PmfFLAfQlp2
 kkdnwEOBQ1/bGkCsvP61QMsCVS3Pxoch8yEvT04G0OiVYGt8htaidMP/XRObzTEGwH9W
 DFVaYXfWdjgXgD06PQj2MPPEDqNIQtT8y7Mm8=
X-Google-DKIM-Signature: v=1; a=rsa-sha256; c=relaxed/relaxed;
 d=1e100.net; s=20230601; t=1720499229; x=1721104029;
 h=references:in-reply-to:cc:to:from:subject:message-id:date
 :x-gm-message-state:from:to:cc:subject:date:message-id:reply-to;
 bh=+b4s4miRnt4uhj4B/aLxUkXUTL8ztPZRQFlJamhq+yw=;
 b=TXEOQjpd/fyCcP7iL6Ve76OU4Xxw1zEFgPaSybVha8A5wP2ulRA2iYLHeJqCrRwavS
 tAL93Wp7vY6bjH7VSc6E35XnPTHUzOPrvqhV31SxkHBhvMsrDM+Gue6Cr1JZviyidW+L
 yVODbEfdR0+KQ1Ss4EgXceubGfLN4cl9LxbrPrA0L0A5Hxvtv6bicSpXXTeCAldUhaqs
 JN6PeAeOJezsxqkARPZFAL2evkqIavWEIuAGkprpXg9MDu0GFsPzSGimZU2p7tx6R15j
 qzJ9gl2NYyB7FuCcguA2Xk+OS068gZ7XmCfkcXxMl34NmbwxAHrtcP9ItDDvcPVY4Ce4
 AThw==
X-Gm-Message-State: AOJu0Yzp1auEy+cF/PuLV6tuIZEFgMB/W9q7k6m+Ync3sWPm+xdwK+Br
 npp0+4ofNrhBiv8UuGufaUFKxUvwIUfP/+gpr3lLpnIRcdpAu5o6ikNKn48zB+W7AkzEb/e+E0c
 rdE3WJftCqGhKuknPIA3Wd3s3ANo60zQXJj2SrxEzFEvkVE42neh1MqMR
X-Google-Smtp-Source: AGHT+IFIYCcW2XQJlRbcfjfvZuWjey5moAt9M2tyeWVke/50XlzHtRLZBOiEiIkbdcD7REOcSxkAFU3clE/t
X-Received: by 2002:a05:6e02:12cd:b0:375:932e:7e9c with SMTP id
 e9e14a558f8ab-38a5876dc22mr17665985ab.19.1720499229521; 
 Mon, 08 Jul 2024 21:27:09 -0700 (PDT)
Received: from postal.iol.unh.edu (postal.iol.unh.edu.
 [2606:4100:3880:1234::84]) by smtp-relay.gmail.com with ESMTPS id
 e9e14a558f8ab-38a4ba68a44sm477735ab.74.2024.07.08.21.27.09
 (version=TLS1_2 cipher=ECDHE-ECDSA-AES128-GCM-SHA256 bits=128/128);
 Mon, 08 Jul 2024 21:27:09 -0700 (PDT)
X-Relaying-Domain: iol.unh.edu
Date: Mon, 08 Jul 2024 21:27:09 -0700 (PDT)
Message-ID: <668cbc1d.050a0220.47f88.3752SMTPIN_ADDED_MISSING@mx.google.com>
Received: from [172.21.0.6] (unknown [172.18.0.240])
 by postal.iol.unh.edu (Postfix) with ESMTP id 01553605C380;
 Tue,  9 Jul 2024 00:27:09 -0400 (EDT)
Subject: |PENDING| pw142234-142237 [PATCH] [v3,4/4] dts: dynamic config test 
From: dpdklab@iol.unh.edu
To: Test Report <test-report@dpdk.org>
Cc: dpdk-test-reports@iol.unh.edu
In-Reply-To: <20240708193012.5465-4-dmarx@iol.unh.edu>
References: <20240708193012.5465-4-dmarx@iol.unh.edu>
Content-Type: text/plain
X-BeenThere: test-report@dpdk.org
X-Mailman-Version: 2.1.29
Precedence: list
List-Id: automatic DPDK test reports <test-report.dpdk.org>
List-Unsubscribe: <https://mails.dpdk.org/options/test-report>,
 <mailto:test-report-request@dpdk.org?subject=unsubscribe>
List-Archive: <http://mails.dpdk.org/archives/test-report/>
List-Post: <mailto:test-report@dpdk.org>
List-Help: <mailto:test-report-request@dpdk.org?subject=help>
List-Subscribe: <https://mails.dpdk.org/listinfo/test-report>,
 <mailto:test-report-request@dpdk.org?subject=subscribe>
Errors-To: test-report-bounces@dpdk.org

Test-Label: iol-compile-arm64-testing
Test-Status: PENDING
http://dpdk.org/patch/142237

_Testing pending_

Submitter: Dean Marx <dmarx@iol.unh.edu>
Date: Monday, July 08 2024 19:30:12 
DPDK git baseline: Repo:dpdk
  Branch: master
  CommitID:e6bfd9676109f904b4f263402e77105fdca8e67c

142234-142237 --> testing pending

Test environment and result as below:

+----------------------------------------+--------------------+
|              Environment               | dpdk_meson_compile |
+========================================+====================+
| RHEL9 (ARM)                            | PASS               |
+----------------------------------------+--------------------+
| Ubuntu 20.04 ARM GCC Cross Compile     | PASS               |
+----------------------------------------+--------------------+
| Ubuntu 20.04 ARM SVE                   | PASS               |
+----------------------------------------+--------------------+
| Debian 12 with MUSDK                   | PASS               |
+----------------------------------------+--------------------+
| Fedora 37 (ARM)                        | PASS               |
+----------------------------------------+--------------------+
| Fedora 38 (ARM)                        | PASS               |
+----------------------------------------+--------------------+
| Fedora 38 (ARM Clang)                  | PEND               |
+----------------------------------------+--------------------+
| Fedora 39 (ARM)                        | PASS               |
+----------------------------------------+--------------------+
| Fedora 39 (ARM Clang)                  | PEND               |
+----------------------------------------+--------------------+
| Fedora 40 (ARM)                        | PASS               |
+----------------------------------------+--------------------+
| Fedora 40 (ARM Clang)                  | PEND               |
+----------------------------------------+--------------------+
| Ubuntu 20.04 (ARM)                     | PEND               |
+----------------------------------------+--------------------+
| Ubuntu 22.04 (ARM)                     | PEND               |
+----------------------------------------+--------------------+
| Ubuntu 24.04 (ARM)                     | PEND               |
+----------------------------------------+--------------------+
| CentOS Stream 9 (ARM)                  | PEND               |
+----------------------------------------+--------------------+
| Debian 11 (Buster) (ARM)               | PEND               |
+----------------------------------------+--------------------+
| Debian 12 (arm)                        | PEND               |
+----------------------------------------+--------------------+
| Ubuntu 20.04 ARM Clang Cross Compile   | PASS               |
+----------------------------------------+--------------------+
| Ubuntu 20.04 aarch32 GCC Cross Compile | PASS               |
+----------------------------------------+--------------------+


RHEL9 (ARM)
	Kernel: Depends on container host
	Compiler: gcc 11.4.1

Ubuntu 20.04 ARM GCC Cross Compile
	Kernel: 5.4.0-167-generic
	Compiler: aarch64-linux-gnu-gcc (Ubuntu 9.4.0-1ubuntu1~20.04.2) 9.4.0

Ubuntu 20.04 ARM SVE
	Kernel: 5.4.0-167-generic
	Compiler: gcc (Ubuntu 10.5.0-1ubuntu1~20.04) 10.5.0

Debian 12 with MUSDK
	Kernel: Container Host Kernel
	Compiler: gcc 12.2.0

Fedora 37 (ARM)
	Kernel: Depends on container host
	Compiler: gcc 12.3.1

Fedora 38 (ARM)
	Kernel: Depends on container host
	Compiler: gcc 13.2.1

Fedora 38 (ARM Clang)
	Kernel: Depends on container host
	Compiler: clang 16.0.6

Fedora 39 (ARM)
	Kernel: Depends on container host
	Compiler: gcc 13.2.1

Fedora 39 (ARM Clang)
	Kernel: Depends on container host
	Compiler: clang 17.0.6

Fedora 40 (ARM)
	Kernel: Depends on container host
	Compiler: gcc 14.1.1

Fedora 40 (ARM Clang)
	Kernel: Depends on container host
	Compiler: clang 18.1.6

Ubuntu 20.04 (ARM)
	Kernel: Container Host Kernel
	Compiler: gcc 9.4.0

Ubuntu 22.04 (ARM)
	Kernel: Container Host Kernel
	Compiler: gcc 11.4.0

Ubuntu 24.04 (ARM)
	Kernel: 5.4.0-167-generic
	Compiler: gcc 13.2.0

CentOS Stream 9 (ARM)
	Kernel: Container Host Kernel
	Compiler: gcc 11.4.1

Debian 11 (Buster) (ARM)
	Kernel: Container Host Kernel
	Compiler: gcc 10.2.1

Debian 12 (arm)
	Kernel: Container Host Kernel
	Compiler: gcc 12.2.0

Ubuntu 20.04 ARM Clang Cross Compile
	Kernel: 5.4.0-72-generic
	Compiler: clang 10.0.0-4ubuntu1

Ubuntu 20.04 aarch32 GCC Cross Compile
	Kernel: 5.4.0-167-generic
	Compiler: gcc 9.4.0

To view detailed results, visit:
https://lab.dpdk.org/results/dashboard/patchsets/30468/

UNH-IOL DPDK Community Lab

To manage your email subscriptions, visit: 
https://lab.dpdk.org/results/dashboard/preferences/subscriptions/