From mboxrd@z Thu Jan  1 00:00:00 1970
Return-Path: <test-report-bounces@dpdk.org>
Received: from mails.dpdk.org (mails.dpdk.org [217.70.189.124])
	by inbox.dpdk.org (Postfix) with ESMTP id 3223D455E4
	for <public@inbox.dpdk.org>; Tue,  9 Jul 2024 16:18:32 +0200 (CEST)
Received: from mails.dpdk.org (localhost [127.0.0.1])
	by mails.dpdk.org (Postfix) with ESMTP id 2F9EE4060F;
	Tue,  9 Jul 2024 16:18:32 +0200 (CEST)
Received: from mail-pj1-f100.google.com (mail-pj1-f100.google.com
 [209.85.216.100])
 by mails.dpdk.org (Postfix) with ESMTP id 89A59402ED
 for <test-report@dpdk.org>; Tue,  9 Jul 2024 16:18:31 +0200 (CEST)
Received: by mail-pj1-f100.google.com with SMTP id
 98e67ed59e1d1-2c965efab0fso3113285a91.3
 for <test-report@dpdk.org>; Tue, 09 Jul 2024 07:18:31 -0700 (PDT)
DKIM-Signature: v=1; a=rsa-sha256; c=relaxed/relaxed;
 d=iol.unh.edu; s=unh-iol; t=1720534710; x=1721139510; darn=dpdk.org;
 h=references:in-reply-to:cc:to:from:subject:message-id:date:from:to
 :cc:subject:date:message-id:reply-to;
 bh=c082gRGZ+/eu87PscRWQ/vGTwwLlGdpQJ/L4mgYkZhs=;
 b=VrPii7ZJLxyixSFDT/KPawmoi1NcO1dz+zhp6ZHZ8Ze2wuOXF4R1cKPojJa/F5ALRU
 JppPXc/IDI6+SZdTQIhL/rLs2BdgfsWWxtkbOOBcU+zhEnrVKYRt9xUv3t25wrOsKzsb
 r371idnNXUSQpiuwc4oyf6PlOvoUch0Z4DDSk=
X-Google-DKIM-Signature: v=1; a=rsa-sha256; c=relaxed/relaxed;
 d=1e100.net; s=20230601; t=1720534710; x=1721139510;
 h=references:in-reply-to:cc:to:from:subject:message-id:date
 :x-gm-message-state:from:to:cc:subject:date:message-id:reply-to;
 bh=c082gRGZ+/eu87PscRWQ/vGTwwLlGdpQJ/L4mgYkZhs=;
 b=HXjBGbKNwvsvM+DjUYdBTVdZ0BDLmJFx29rrXiaPbkx2G/sNAnVnVE3/FR3nE16+Ol
 OnGAkwJrkYn0+IDxOJ582+gC2yNqfRMukA03oyUAGGaohTXeQXQ9Couco0741gxHa5bE
 q8ovdyw06NlqTsIeHALMa10ZcsugOa+krSAvBXDG35XAL/DnSZ5bpwyZTHfwZ2R+n1qJ
 w7hmC4VmSeq3djgR9RsDNJuiAVgXHyztPctdjP7cQv/E6HhH1zPs2y9cieQEb2gmEmRR
 C3mZBsPkNtIUyTBxM5yXmNSEqVXiopMHZgpzo5kNPWYssRLtVcnGdbsr2Gx0K3lSsp8g
 eiJw==
X-Gm-Message-State: AOJu0Yy4SnAjhPkqMRr8HV/DDRw8zmfrRxwT07m/WoKkkBl+i1wnq3Za
 fKgEmQy67Jfgf3Kaln4X5PcWZDOtohTAhMDszC0OUO1rZppFqUHfZKSpcE8sOZj5eCoBslnfz/c
 GAQpTcnuN8gyeVTxVyHtzXLqlBRHq7zk9ETkrvGvg
X-Google-Smtp-Source: AGHT+IHmTbgB8ifK0FRhqYOA7852YX8dQpvoJ2qu3HdDdUh7fkqvUUqRplLKmpf/dGR10Pk1KwIxkvPnDlZV
X-Received: by 2002:a05:6a20:734a:b0:1bd:1e06:9dba with SMTP id
 adf61e73a8af0-1c298245402mr2855931637.27.1720534710637; 
 Tue, 09 Jul 2024 07:18:30 -0700 (PDT)
Received: from postal.iol.unh.edu (postal.iol.unh.edu. [132.177.123.84])
 by smtp-relay.gmail.com with ESMTPS id
 d2e1a72fcca58-70b439339dcsm84511b3a.18.2024.07.09.07.18.30
 (version=TLS1_2 cipher=ECDHE-ECDSA-AES128-GCM-SHA256 bits=128/128);
 Tue, 09 Jul 2024 07:18:30 -0700 (PDT)
X-Relaying-Domain: iol.unh.edu
Date: Tue, 09 Jul 2024 07:18:30 -0700 (PDT)
Message-ID: <668d46b6.050a0220.abd6d.5d47SMTPIN_ADDED_MISSING@mx.google.com>
Received: from [172.21.0.6] (unknown [172.18.0.240])
 by postal.iol.unh.edu (Postfix) with ESMTP id C5C326050A6B;
 Tue,  9 Jul 2024 10:18:29 -0400 (EDT)
Subject: |PENDING| pw142249-142248 [PATCH] [v8,2/2] examples/l3fwd-power: add
From: dpdklab@iol.unh.edu
To: Test Report <test-report@dpdk.org>
Cc: dpdk-test-reports@iol.unh.edu
In-Reply-To: <20240709072518.4225-3-lihuisong@huawei.com>
References: <20240709072518.4225-3-lihuisong@huawei.com>
Content-Type: text/plain
X-BeenThere: test-report@dpdk.org
X-Mailman-Version: 2.1.29
Precedence: list
List-Id: automatic DPDK test reports <test-report.dpdk.org>
List-Unsubscribe: <https://mails.dpdk.org/options/test-report>,
 <mailto:test-report-request@dpdk.org?subject=unsubscribe>
List-Archive: <http://mails.dpdk.org/archives/test-report/>
List-Post: <mailto:test-report@dpdk.org>
List-Help: <mailto:test-report-request@dpdk.org?subject=help>
List-Subscribe: <https://mails.dpdk.org/listinfo/test-report>,
 <mailto:test-report-request@dpdk.org?subject=subscribe>
Errors-To: test-report-bounces@dpdk.org

Test-Label: iol-compile-amd64-testing
Test-Status: PENDING
http://dpdk.org/patch/142248

_Testing pending_

Submitter: Huisong Li <lihuisong@huawei.com>
Date: Tuesday, July 09 2024 07:25:18 
DPDK git baseline: Repo:dpdk
  Branch: master
  CommitID:8e8aa4a4f90dce1fcea03a93f508e3d9bc0c98c0

142249-142248 --> testing pending

Test environment and result as below:

+---------------------+--------------------+----------------------+-------------------+
|     Environment     | dpdk_meson_compile | dpdk_mingw64_compile | dpdk_msvc_compile |
+=====================+====================+======================+===================+
| Windows Server 2019 | PASS               | PASS                 | SKIPPED           |
+---------------------+--------------------+----------------------+-------------------+
| FreeBSD 13.3        | PASS               | SKIPPED              | SKIPPED           |
+---------------------+--------------------+----------------------+-------------------+
| FreeBSD 14.1        | PASS               | SKIPPED              | SKIPPED           |
+---------------------+--------------------+----------------------+-------------------+
| Windows Server 2022 | PEND               | PASS                 | PEND              |
+---------------------+--------------------+----------------------+-------------------+


Windows Server 2019
	Kernel: 10.0.17763
	Compiler: clang 14.0 and gcc 8.1.0 (MinGW)

FreeBSD 13.3
	Kernel: 13.3-RELEASE-p1
	Compiler: clang 17.0.6

FreeBSD 14.1
	Kernel: 14.1
	Compiler: clang 18.1.5

Windows Server 2022
	Kernel: 10.0.20348.2031
	Compiler: clang 15.0.7, gcc 8.1.0 (MinGW), and MSVC VS 17.9

To view detailed results, visit:
https://lab.dpdk.org/results/dashboard/patchsets/30474/

UNH-IOL DPDK Community Lab

To manage your email subscriptions, visit: 
https://lab.dpdk.org/results/dashboard/preferences/subscriptions/